PDS_VERSION_ID = PDS3
/* FILE DATA ELEMENTS */
RECORD_TYPE = STREAM
/* POINTERS TO DATA OBJECTS */
^COMPRESSED_FILE = "HF942_0000_P13.JP2"
/* IDENTIFICATION DATA ELEMENTS */
DATA_SET_ID = "MEX-M-HRSC-5-REFDR-MAPPROJECTED-V3.0"
DATA_SET_NAME = "MARS EXPRESS HRSC MAP PROJECTED REFDR V3.0"
DETECTOR_ID = MEX_HRSC_P1
EVENT_TYPE = "MARS-REGIONAL-MAPPING-Im-Pf"
INSTRUMENT_HOST_ID = MEX
INSTRUMENT_HOST_NAME = "MARS EXPRESS"
INSTRUMENT_ID = HRSC
INSTRUMENT_NAME = "HIGH RESOLUTION STEREO CAMERA"
MISSION_NAME = "MARS EXPRESS"
MISSION_PHASE_NAME = ME_Phase_35
PROCESSING_LEVEL_ID = 3
PRODUCT_CREATION_TIME = 2017-06-29T11:20:52.000Z
PRODUCT_ID = "HF942_0000_P13.JP2"
RELEASE_ID = 0135
REVISION_ID = 0000
/* QUALITY DATA ELEMENTS */
DATA_QUALITY_ID = 1
DATA_QUALITY_DESC = "Data calculated based on original SPICE kernels"
/* TIME DATA ELEMENTS */
SPACECRAFT_CLOCK_START_COUNT = "1/0418038454.09056"
SPACECRAFT_CLOCK_STOP_COUNT = "1/0418038637.65227"
START_TIME = 2016-07-31T09:47:54.159Z
STOP_TIME = 2016-07-31T09:49:43.904Z
/* ORBITAL DATA ELEMENTS */
ASCENDING_NODE_LONGITUDE = 274.4
MAXIMUM_RESOLUTION = 31.7
FOOTPRINT_POINT_LATITUDE = (69.855,69.8212,69.7852,69.7469,69.7063 ,69.6633,69.6207,69.5192,69.3823,69.177 ,69.0401,68.9029,68.6971,68.4912,68.285 ,68.1475,68.0099,67.8034,67.6656, 67.4587,67.3207,67.1826,67.0446,66.9063 ,66.768,66.5606,66.3529,66.1453,65.9373 ,65.7293,65.521,65.382,65.1736,64.8955, 64.7565,64.6173,64.478,64.2692,64.13, 63.9211,63.712,63.5725,63.3633,63.1538, 63.0141,62.8745,62.735,62.5952,62.6121, 62.6295,62.6485,62.6649,62.6807,62.7109 ,62.7358,62.764,62.7884,62.9997,63.2109 ,63.422,63.5627,63.7737,63.9144,64.0549 ,64.1956,64.4066,64.547,64.6876,64.8983 ,65.1089,65.3194,65.4597,65.6701, 65.8103,65.9505,66.0907,66.2309,66.371, 66.511,66.651,66.791,67.0009,67.1406, 67.3502,67.5596,67.6993,67.8388,67.9784 ,68.1179,68.2573,68.3967,68.5361, 68.6753,68.8146,69.0234,69.232,69.371, 69.5794,69.7877,69.855)
FOOTPRINT_POINT_LONGITUDE = (19.0456,18.4789,17.9096,17.3381, 16.7644,16.188,15.6453,15.455,15.5341, 15.6506,15.7271,15.8022,15.9131,16.0217 ,16.1279,16.1975,16.2661,16.3672, 16.4335,16.5311,16.5951,16.6581,16.7205 ,16.7818,16.8424,16.9318,17.0193, 17.1054,17.1893,17.2718,17.3525,17.4052 ,17.4833,17.5851,17.6352,17.6844, 17.7329,17.8049,17.852,17.9218,17.99, 18.0348,18.1009,18.1656,18.208,18.2502, 18.2918,18.3328,18.5672,18.8018,19.0649 ,19.2978,19.5299,19.9923,20.3952, 20.8812,21.3178,21.2748,21.2311,21.1866 ,21.1565,21.1107,21.0797,21.0484, 21.0167,20.9683,20.9357,20.9026,20.8523 ,20.801,20.7488,20.7135,20.6596,20.6232 ,20.5863,20.549,20.5111,20.4728,20.434, 20.3948,20.355,20.2943,20.2533,20.1907, 20.1269,20.0836,20.0398,19.9954,19.9504 ,19.9048,19.8586,19.8117,19.7642, 19.7161,19.6426,19.5676,19.5167,19.4391 ,19.3598,19.0456)
ORBIT_NUMBER = 15942
ORBITAL_ECCENTRICITY = 0.571
ORBITAL_INCLINATION = 86.94
ORBITAL_SEMIMAJOR_AXIS = 8776.6
PERIAPSIS_ALTITUDE = 382.98
PERIAPSIS_ARGUMENT_ANGLE = 111.45
PERIAPSIS_TIME = 2016-07-31T09:48:39.000Z
SPACECRAFT_ORIENTATION = (0.0,-1.0,0.0)
^MEX_ORIENTATION_DESC = "MEX_ORIENTATION_DESC.TXT"
SPACECRAFT_POINTING_MODE = ACROSSTRACK
^MEX_POINTING_DESC = "MEX_POINTING_DESC.TXT"
RIGHT_ASCENSION = -1e+32
DECLINATION = -1e+32
OFFSET_ANGLE = -0.65
SPACECRAFT_SOLAR_DISTANCE = 2.14653e+08
TARGET_NAME = MARS
/* CAMERA DATA ELEMENTS */
DETECTOR_TEMPERATURE = 17.9627
FOCAL_PLANE_TEMPERATURE = 9.195
INST_CMPRS_NAME = "DISCRETE COSINE TRANSFORMATION (DCT)"
INST_CMPRS_RATIO = 10.8982
INST_CMPRS_QUALITY = 0
INST_CMPRS_QUANTZ_TBL_ID = 0
INSTRUMENT_TEMPERATURE = 12.0496
LENS_TEMPERATURE = 9.6028
MACROPIXEL_SIZE = 2
MISSING_FRAMES = 0
PIXEL_SUBSAMPLING_FLAG = N
SIGNAL_CHAIN_ID = 3
/* RADIOMETRIC DATA ELEMENTS */
BANDWIDTH = 174.0
CENTER_FILTER_WAVELENGTH = 675.0
RADIANCE_OFFSET = 2.81116
RADIANCE_SCALING_FACTOR = 0.0102704
REFLECTANCE_SCALING_FACTOR = 0.000254534
MEX:REFLECTANCE_OFFSET = 0.0696699
/* IMAGE OBJECT DEFINITIONS */
OBJECT = IMAGE
  INTERCHANGE_FORMAT = BINARY
  LINES = 16970
  LINE_SAMPLES = 5459
  SAMPLE_TYPE = UNSIGNED_INTEGER
  SAMPLE_BITS = 8
  BANDS = 1
  BAND_STORAGE_TYPE = BAND_SEQUENTIAL
  MAXIMUM = 255
  MEAN = 117.143
  MINIMUM = 1
  STANDARD_DEVIATION = 50.2578
END_OBJECT = IMAGE
/* MAP OBJECT DEFINITIONS */
OBJECT = IMAGE_MAP_PROJECTION
  ^DATA_SET_MAP_PROJECTION_CATALOG= "DSMAP.CAT"
  A_AXIS_RADIUS = 3396.0
  B_AXIS_RADIUS = 3396.0
  C_AXIS_RADIUS = 3396.0
  CENTER_LATITUDE = 0.0
  CENTER_LONGITUDE = 19.0
  COORDINATE_SYSTEM_NAME = PLANETOGRAPHIC
  COORDINATE_SYSTEM_TYPE = "BODY-FIXED ROTATING"
  EASTERNMOST_LONGITUDE = 21.3178
  FIRST_STANDARD_PARALLEL = "N/A"
  LINE_FIRST_PIXEL = 1
  LINE_LAST_PIXEL = 16970
  LINE_PROJECTION_OFFSET = 165457.25
  MAP_PROJECTION_ROTATION = 0.0
  MAP_PROJECTION_TYPE = SINUSOIDAL
  MAP_RESOLUTION = 2370.85521546667
  MAP_SCALE = 0.025
  MAXIMUM_LATITUDE = 69.855
  MINIMUM_LATITUDE = 62.5952
  POSITIVE_LONGITUDE_DIRECTION = EAST
  REFERENCE_LATITUDE = "N/A"
  REFERENCE_LONGITUDE = "N/A"
  SAMPLE_FIRST_PIXEL = 1
  SAMPLE_LAST_PIXEL = 5459
  SAMPLE_PROJECTION_OFFSET = 2932.25
  SECOND_STANDARD_PARALLEL = "N/A"
  WESTERNMOST_LONGITUDE = 15.455
END_OBJECT = IMAGE_MAP_PROJECTION
/* The JPEG2000 image data file associated with this label. */
OBJECT = COMPRESSED_FILE
  FILE_NAME = "HF942_0000_P13.JP2"
  RECORD_TYPE = UNDEFINED
  FILE_RECORDS = UNK
  ENCODING_TYPE = "JP2"
  INTERCHANGE_FORMAT = BINARY
  UNCOMPRESSED_FILE_NAME = "HF942_0000_P13.IMG"
  REQUIRED_STORAGE_BYTES = "92666525"
  ^DESCRIPTION = "JP2INFO.TXT"
END_OBJECT = COMPRESSED_FILE
END
