PDS_VERSION_ID = PDS3
/* FILE DATA ELEMENTS */
RECORD_TYPE = STREAM
/* POINTERS TO DATA OBJECTS */
^COMPRESSED_FILE = "HF943_0000_S13.JP2"
/* IDENTIFICATION DATA ELEMENTS */
DATA_SET_ID = "MEX-M-HRSC-5-REFDR-MAPPROJECTED-V3.0"
DATA_SET_NAME = "MARS EXPRESS HRSC MAP PROJECTED REFDR V3.0"
DETECTOR_ID = MEX_HRSC_S1
EVENT_TYPE = "MARS-REGIONAL-STEREO-Vo-Te"
INSTRUMENT_HOST_ID = MEX
INSTRUMENT_HOST_NAME = "MARS EXPRESS"
INSTRUMENT_ID = HRSC
INSTRUMENT_NAME = "HIGH RESOLUTION STEREO CAMERA"
MISSION_NAME = "MARS EXPRESS"
MISSION_PHASE_NAME = ME_Phase_35
PROCESSING_LEVEL_ID = 3
PRODUCT_CREATION_TIME = 2017-06-29T11:20:52.000Z
PRODUCT_ID = "HF943_0000_S13.JP2"
RELEASE_ID = 0135
REVISION_ID = 0000
/* QUALITY DATA ELEMENTS */
DATA_QUALITY_ID = 1
DATA_QUALITY_DESC = "Data calculated based on original SPICE kernels"
/* TIME DATA ELEMENTS */
SPACECRAFT_CLOCK_START_COUNT = "1/0418064082.09035"
SPACECRAFT_CLOCK_STOP_COUNT = "1/0418064388.56733"
START_TIME = 2016-07-31T16:54:49.892Z
STOP_TIME = 2016-07-31T16:57:28.244Z
/* ORBITAL DATA ELEMENTS */
ASCENDING_NODE_LONGITUDE = 274.39
MAXIMUM_RESOLUTION = 21.1
FOOTPRINT_POINT_LATITUDE = (41.7389,41.7345,41.7269,41.7188, 41.7069,41.6546,41.292,40.9267,40.5621, 40.0973,39.8191,39.4426,39.1578,38.9678 ,38.778,38.4901,38.2969,38.1045,37.9126 ,37.7178,37.4224,37.226,37.0315,36.8384 ,36.637,36.4412,36.242,36.0403,35.8368, 35.5346,35.3312,35.1263,34.9207,34.7155 ,34.508,34.2988,34.0899,33.7744,33.5631 ,33.3514,33.139,32.9238,32.7091,32.4945 ,32.2777,32.0591,31.8414,31.7336, 31.7372,31.74,31.74,31.7406,31.7396, 31.7374,31.8462,32.0648,32.2837,32.5027 ,32.718,32.9337,33.2566,33.4684,33.6812 ,33.8933,34.1028,34.312,34.625,34.836, 35.041,35.2502,35.4556,35.6586,35.8599, 36.0629,36.2654,36.4649,36.7651,36.9647 ,37.1628,37.3587,37.5549,37.7515, 37.9456,38.1389,38.3302,38.5241,38.7169 ,38.9057,39.0984,39.2885,39.4789, 39.6683,39.8544,40.134,40.4133,40.5998, 40.9649,41.2387,41.6932,41.7389)
FOOTPRINT_POINT_LONGITUDE = (281.56,281.218,280.786,280.423,279.991 ,279.715,279.723,279.73,279.737,279.745 ,279.75,279.754,279.758,279.76,279.762, 279.764,279.766,279.768,279.769,279.771 ,279.772,279.773,279.774,279.777, 279.777,279.778,279.779,279.779,279.778 ,279.779,279.778,279.778,279.777, 279.777,279.776,279.775,279.773,279.771 ,279.77,279.768,279.766,279.764,279.762 ,279.76,279.758,279.755,279.752,280.175 ,280.475,280.875,281.1,281.4,281.751, 282.101,282.287,282.284,282.28,282.277, 282.273,282.27,282.264,282.261,282.257, 282.253,282.249,282.245,282.24,282.234, 282.23,282.225,282.221,282.216,282.213, 282.208,282.204,282.199,282.192,282.188 ,282.183,282.178,282.173,282.169, 282.164,282.159,282.155,282.15,282.145, 282.14,282.134,282.128,282.123,282.118, 282.112,282.104,282.096,282.091,282.08, 282.071,282.057,281.56)
ORBIT_NUMBER = 15943
ORBITAL_ECCENTRICITY = 0.571
ORBITAL_INCLINATION = 86.94
ORBITAL_SEMIMAJOR_AXIS = 8774.92
PERIAPSIS_ALTITUDE = 382.68
PERIAPSIS_ARGUMENT_ANGLE = 111.29
PERIAPSIS_TIME = 2016-07-31T16:48:28.000Z
SPACECRAFT_ORIENTATION = (0.0,-1.0,0.0)
^MEX_ORIENTATION_DESC = "MEX_ORIENTATION_DESC.TXT"
SPACECRAFT_POINTING_MODE = NADIR
^MEX_POINTING_DESC = "MEX_POINTING_DESC.TXT"
RIGHT_ASCENSION = -1e+32
DECLINATION = -1e+32
OFFSET_ANGLE = -1e+32
SPACECRAFT_SOLAR_DISTANCE = 2.14606e+08
TARGET_NAME = MARS
/* CAMERA DATA ELEMENTS */
DETECTOR_TEMPERATURE = 18.1666
FOCAL_PLANE_TEMPERATURE = 10.4184
INST_CMPRS_NAME = "DISCRETE COSINE TRANSFORMATION (DCT)"
INST_CMPRS_RATIO = 5.94819
INST_CMPRS_QUALITY = 0
INST_CMPRS_QUANTZ_TBL_ID = 0
INSTRUMENT_TEMPERATURE = 12.0496
LENS_TEMPERATURE = 10.4184
MACROPIXEL_SIZE = 1
MISSING_FRAMES = 0
PIXEL_SUBSAMPLING_FLAG = N
SIGNAL_CHAIN_ID = 2
/* RADIOMETRIC DATA ELEMENTS */
BANDWIDTH = 180.0
CENTER_FILTER_WAVELENGTH = 677.0
RADIANCE_OFFSET = 3.24508
RADIANCE_SCALING_FACTOR = 0.0357913
REFLECTANCE_SCALING_FACTOR = 0.000860005
MEX:REFLECTANCE_OFFSET = 0.0779738
/* IMAGE OBJECT DEFINITIONS */
OBJECT = IMAGE
  INTERCHANGE_FORMAT = BINARY
  LINES = 23645
  LINE_SAMPLES = 5680
  SAMPLE_TYPE = UNSIGNED_INTEGER
  SAMPLE_BITS = 8
  BANDS = 1
  BAND_STORAGE_TYPE = BAND_SEQUENTIAL
  MAXIMUM = 255
  MEAN = 132.042
  MINIMUM = 1
  STANDARD_DEVIATION = 12.857
END_OBJECT = IMAGE
/* MAP OBJECT DEFINITIONS */
OBJECT = IMAGE_MAP_PROJECTION
  ^DATA_SET_MAP_PROJECTION_CATALOG= "DSMAP.CAT"
  A_AXIS_RADIUS = 3396.0
  B_AXIS_RADIUS = 3396.0
  C_AXIS_RADIUS = 3396.0
  CENTER_LATITUDE = 0.0
  CENTER_LONGITUDE = 281.0
  COORDINATE_SYSTEM_NAME = PLANETOGRAPHIC
  COORDINATE_SYSTEM_TYPE = "BODY-FIXED ROTATING"
  EASTERNMOST_LONGITUDE = 282.287
  FIRST_STANDARD_PARALLEL = "N/A"
  LINE_FIRST_PIXEL = 1
  LINE_LAST_PIXEL = 23645
  LINE_PROJECTION_OFFSET = 98801.0
  MAP_PROJECTION_ROTATION = 0.0
  MAP_PROJECTION_TYPE = SINUSOIDAL
  MAP_RESOLUTION = 2370.85521546667
  MAP_SCALE = 0.025
  MAXIMUM_LATITUDE = 41.7389
  MINIMUM_LATITUDE = 31.7336
  POSITIVE_LONGITUDE_DIRECTION = EAST
  REFERENCE_LATITUDE = "N/A"
  REFERENCE_LONGITUDE = "N/A"
  SAMPLE_FIRST_PIXEL = 1
  SAMPLE_LAST_PIXEL = 5680
  SAMPLE_PROJECTION_OFFSET = 2828.0
  SECOND_STANDARD_PARALLEL = "N/A"
  WESTERNMOST_LONGITUDE = 279.715
END_OBJECT = IMAGE_MAP_PROJECTION
/* The JPEG2000 image data file associated with this label. */
OBJECT = COMPRESSED_FILE
  FILE_NAME = "HF943_0000_S13.JP2"
  RECORD_TYPE = UNDEFINED
  FILE_RECORDS = UNK
  ENCODING_TYPE = "JP2"
  INTERCHANGE_FORMAT = BINARY
  UNCOMPRESSED_FILE_NAME = "HF943_0000_S13.IMG"
  REQUIRED_STORAGE_BYTES = "134332000"
  ^DESCRIPTION = "JP2INFO.TXT"
END_OBJECT = COMPRESSED_FILE
END
