PDS_VERSION_ID = PDS3
/* FILE DATA ELEMENTS */
RECORD_TYPE = STREAM
/* POINTERS TO DATA OBJECTS */
^COMPRESSED_FILE = "HF943_0000_S23.JP2"
/* IDENTIFICATION DATA ELEMENTS */
DATA_SET_ID = "MEX-M-HRSC-5-REFDR-MAPPROJECTED-V3.0"
DATA_SET_NAME = "MARS EXPRESS HRSC MAP PROJECTED REFDR V3.0"
DETECTOR_ID = MEX_HRSC_S2
EVENT_TYPE = "MARS-REGIONAL-STEREO-Vo-Te"
INSTRUMENT_HOST_ID = MEX
INSTRUMENT_HOST_NAME = "MARS EXPRESS"
INSTRUMENT_ID = HRSC
INSTRUMENT_NAME = "HIGH RESOLUTION STEREO CAMERA"
MISSION_NAME = "MARS EXPRESS"
MISSION_PHASE_NAME = ME_Phase_35
PROCESSING_LEVEL_ID = 3
PRODUCT_CREATION_TIME = 2017-06-29T11:20:52.000Z
PRODUCT_ID = "HF943_0000_S23.JP2"
RELEASE_ID = 0135
REVISION_ID = 0000
/* QUALITY DATA ELEMENTS */
DATA_QUALITY_ID = 1
DATA_QUALITY_DESC = "Data calculated based on original SPICE kernels"
/* TIME DATA ELEMENTS */
SPACECRAFT_CLOCK_START_COUNT = "1/0418064082.09035"
SPACECRAFT_CLOCK_STOP_COUNT = "1/0418064388.56733"
START_TIME = 2016-07-31T16:56:36.263Z
STOP_TIME = 2016-07-31T16:59:54.641Z
/* ORBITAL DATA ELEMENTS */
ASCENDING_NODE_LONGITUDE = 274.39
MAXIMUM_RESOLUTION = 24.5
FOOTPRINT_POINT_LATITUDE = (41.6166,41.614,41.6117,41.608,41.6034, 41.5979,41.636,41.1793,40.8127,40.4423, 40.1638,39.8814,39.5075,39.3179,39.0343 ,38.8438,38.653,38.4616,38.2692,38.0759 ,37.8827,37.6874,37.4922,37.2962, 37.0975,36.9022,36.702,36.4967,36.2965, 36.0959,35.693,35.3892,35.1855,34.9845, 34.7824,34.5819,34.2825,33.9823,33.7853 ,33.489,33.1514,32.9283,32.7071,32.4848 ,32.2631,32.0413,31.8232,31.7013, 31.7002,31.6989,31.6979,31.697,31.6941, 31.6914,31.6867,31.9061,32.1273,32.3495 ,32.5722,32.7958,33.0202,33.2448, 33.5719,33.7709,33.9703,34.2694,34.471, 34.6722,34.9716,35.1751,35.4779,35.6813 ,35.8853,36.0898,36.2918,36.4917, 36.6921,36.9919,37.1897,37.3878,37.5843 ,37.78,38.0711,38.2679,38.4649,38.6606, 38.8483,39.0424,39.23,39.4193,39.6092, 39.7979,39.9863,40.1756,40.4553,40.6419 ,40.8283,41.1972,41.3829,41.6166)
FOOTPRINT_POINT_LONGITUDE = (282.015,281.593,281.303,280.907, 280.486,280.064,279.53,279.536,279.54, 279.543,279.545,279.548,279.549,279.549 ,279.55,279.55,279.55,279.55,279.549, 279.549,279.548,279.548,279.547,279.546 ,279.545,279.543,279.542,279.543, 279.542,279.539,279.535,279.531,279.529 ,279.525,279.523,279.52,279.514,279.509 ,279.505,279.499,279.492,279.487, 279.482,279.477,279.471,279.466,279.46, 279.673,280.044,280.384,280.692,281.185 ,281.587,281.927,282.452,282.585, 282.578,282.572,282.565,282.558,282.551 ,282.544,282.534,282.528,282.522, 282.512,282.506,282.499,282.488,282.482 ,282.471,282.464,282.457,282.452, 282.445,282.438,282.431,282.421,282.414 ,282.407,282.4,282.393,282.382,282.376, 282.37,282.364,282.355,282.349,282.341, 282.333,282.326,282.319,282.311,282.304 ,282.293,282.286,282.279,282.264, 282.257,282.015)
ORBIT_NUMBER = 15943
ORBITAL_ECCENTRICITY = 0.571
ORBITAL_INCLINATION = 86.94
ORBITAL_SEMIMAJOR_AXIS = 8774.92
PERIAPSIS_ALTITUDE = 382.68
PERIAPSIS_ARGUMENT_ANGLE = 111.29
PERIAPSIS_TIME = 2016-07-31T16:48:28.000Z
SPACECRAFT_ORIENTATION = (0.0,-1.0,0.0)
^MEX_ORIENTATION_DESC = "MEX_ORIENTATION_DESC.TXT"
SPACECRAFT_POINTING_MODE = NADIR
^MEX_POINTING_DESC = "MEX_POINTING_DESC.TXT"
RIGHT_ASCENSION = -1e+32
DECLINATION = -1e+32
OFFSET_ANGLE = -1e+32
SPACECRAFT_SOLAR_DISTANCE = 2.14606e+08
TARGET_NAME = MARS
/* CAMERA DATA ELEMENTS */
DETECTOR_TEMPERATURE = 19.1861
FOCAL_PLANE_TEMPERATURE = 10.4184
INST_CMPRS_NAME = "DISCRETE COSINE TRANSFORMATION (DCT)"
INST_CMPRS_RATIO = 6.52004
INST_CMPRS_QUALITY = 0
INST_CMPRS_QUANTZ_TBL_ID = 0
INSTRUMENT_TEMPERATURE = 12.0496
LENS_TEMPERATURE = 10.4184
MACROPIXEL_SIZE = 1
MISSING_FRAMES = 0
PIXEL_SUBSAMPLING_FLAG = N
SIGNAL_CHAIN_ID = 1
/* RADIOMETRIC DATA ELEMENTS */
BANDWIDTH = 178.0
CENTER_FILTER_WAVELENGTH = 679.0
RADIANCE_OFFSET = 3.83159
RADIANCE_SCALING_FACTOR = 0.035418
REFLECTANCE_SCALING_FACTOR = 0.000863843
MEX:REFLECTANCE_OFFSET = 0.0934521
/* IMAGE OBJECT DEFINITIONS */
OBJECT = IMAGE
  INTERCHANGE_FORMAT = BINARY
  LINES = 23645
  LINE_SAMPLES = 5680
  SAMPLE_TYPE = UNSIGNED_INTEGER
  SAMPLE_BITS = 8
  BANDS = 1
  BAND_STORAGE_TYPE = BAND_SEQUENTIAL
  MAXIMUM = 255
  MEAN = 139.842
  MINIMUM = 1
  STANDARD_DEVIATION = 12.0181
END_OBJECT = IMAGE
/* MAP OBJECT DEFINITIONS */
OBJECT = IMAGE_MAP_PROJECTION
  ^DATA_SET_MAP_PROJECTION_CATALOG= "DSMAP.CAT"
  A_AXIS_RADIUS = 3396.0
  B_AXIS_RADIUS = 3396.0
  C_AXIS_RADIUS = 3396.0
  CENTER_LATITUDE = 0.0
  CENTER_LONGITUDE = 281.0
  COORDINATE_SYSTEM_NAME = PLANETOGRAPHIC
  COORDINATE_SYSTEM_TYPE = "BODY-FIXED ROTATING"
  EASTERNMOST_LONGITUDE = 282.585
  FIRST_STANDARD_PARALLEL = "N/A"
  LINE_FIRST_PIXEL = 1
  LINE_LAST_PIXEL = 23645
  LINE_PROJECTION_OFFSET = 98801.0
  MAP_PROJECTION_ROTATION = 0.0
  MAP_PROJECTION_TYPE = SINUSOIDAL
  MAP_RESOLUTION = 2370.85521546667
  MAP_SCALE = 0.025
  MAXIMUM_LATITUDE = 41.636
  MINIMUM_LATITUDE = 31.6867
  POSITIVE_LONGITUDE_DIRECTION = EAST
  REFERENCE_LATITUDE = "N/A"
  REFERENCE_LONGITUDE = "N/A"
  SAMPLE_FIRST_PIXEL = 1
  SAMPLE_LAST_PIXEL = 5680
  SAMPLE_PROJECTION_OFFSET = 2828.0
  SECOND_STANDARD_PARALLEL = "N/A"
  WESTERNMOST_LONGITUDE = 279.46
END_OBJECT = IMAGE_MAP_PROJECTION
/* The JPEG2000 image data file associated with this label. */
OBJECT = COMPRESSED_FILE
  FILE_NAME = "HF943_0000_S23.JP2"
  RECORD_TYPE = UNDEFINED
  FILE_RECORDS = UNK
  ENCODING_TYPE = "JP2"
  INTERCHANGE_FORMAT = BINARY
  UNCOMPRESSED_FILE_NAME = "HF943_0000_S23.IMG"
  REQUIRED_STORAGE_BYTES = "134332000"
  ^DESCRIPTION = "JP2INFO.TXT"
END_OBJECT = COMPRESSED_FILE
END
