PDS_VERSION_ID = PDS3
/* FILE DATA ELEMENTS */
RECORD_TYPE = STREAM
/* POINTERS TO DATA OBJECTS */
^COMPRESSED_FILE = "HF945_0000_S13.JP2"
/* IDENTIFICATION DATA ELEMENTS */
DATA_SET_ID = "MEX-M-HRSC-5-REFDR-MAPPROJECTED-V3.0"
DATA_SET_NAME = "MARS EXPRESS HRSC MAP PROJECTED REFDR V3.0"
DETECTOR_ID = MEX_HRSC_S1
EVENT_TYPE = "MARS-REGIONAL-MAPPING-Te-Fl-Mw"
INSTRUMENT_HOST_ID = MEX
INSTRUMENT_HOST_NAME = "MARS EXPRESS"
INSTRUMENT_ID = HRSC
INSTRUMENT_NAME = "HIGH RESOLUTION STEREO CAMERA"
MISSION_NAME = "MARS EXPRESS"
MISSION_PHASE_NAME = ME_Phase_35
PROCESSING_LEVEL_ID = 3
PRODUCT_CREATION_TIME = 2017-06-29T11:20:52.000Z
PRODUCT_ID = "HF945_0000_S13.JP2"
RELEASE_ID = 0135
REVISION_ID = 0000
/* QUALITY DATA ELEMENTS */
DATA_QUALITY_ID = 1
DATA_QUALITY_DESC = "Data calculated based on original SPICE kernels"
/* TIME DATA ELEMENTS */
SPACECRAFT_CLOCK_START_COUNT = "1/0418114566.09042"
SPACECRAFT_CLOCK_STOP_COUNT = "1/0418114844.43250"
START_TIME = 2016-08-01T06:56:13.932Z
STOP_TIME = 2016-08-01T06:57:59.811Z
/* ORBITAL DATA ELEMENTS */
ASCENDING_NODE_LONGITUDE = 274.34
MAXIMUM_RESOLUTION = 49.8
FOOTPRINT_POINT_LATITUDE = (34.335,34.3485,34.3613,34.3737,34.3854 ,34.3966,34.4072,34.4173,34.4268, 34.4359,34.4444,34.4524,34.46,34.2231, 34.0405,33.732,33.4852,33.2379,33.0499, 32.7989,32.6105,32.3574,32.0397,31.7838 ,31.5912,31.3978,31.2689,31.0746, 30.9426,30.8119,30.6817,30.5525,30.422, 30.2897,30.1597,30.0267,29.891,29.6867, 29.5535,29.4175,29.2836,29.1482,29.0123 ,28.8745,28.7397,28.601,28.3979,28.258, 28.0496,27.91,27.9026,27.8921,27.8875, 27.8671,27.8573,27.8524,27.8413,27.8203 ,27.811,27.7973,27.7719,27.7576,27.8938 ,28.0327,28.1694,28.3041,28.442,28.5785 ,28.7156,28.8516,28.9892,29.1258, 29.2634,29.4634,29.5997,29.7366,29.9343 ,30.0686,30.2025,30.3325,30.5287, 30.6588,30.8562,30.9876,31.1853,31.4379 ,31.5673,31.6974,31.9541,32.209,32.3372 ,32.5275,32.7786,33.0936,33.2799, 33.5285,33.7749,33.9591,34.2038,34.335)
FOOTPRINT_POINT_LONGITUDE = (79.2557,79.0545,78.8545,78.6557, 78.4581,78.2615,78.0663,77.8723,77.6794 ,77.4874,77.2964,77.1064,76.9174, 76.9133,76.9082,76.8995,76.8922,76.8849 ,76.8792,76.8715,76.8658,76.8577, 76.8475,76.8391,76.8326,76.8261,76.8217 ,76.8149,76.8105,76.806,76.8013,76.7966 ,76.7917,76.7869,76.7818,76.7771, 76.7725,76.7653,76.7602,76.7553,76.7501 ,76.7449,76.7396,76.7345,76.7291, 76.7239,76.7154,76.7101,76.7019,76.7984 ,77.0564,77.2386,77.4458,77.6837, 77.8937,78.0507,78.3142,78.6095,78.77, 78.9595,79.2352,79.4369,79.439,79.4393, 79.4412,79.4446,79.4459,79.4475,79.4479 ,79.4491,79.4492,79.45,79.4488,79.4516, 79.4513,79.4506,79.4535,79.4532,79.4533 ,79.4565,79.4588,79.4604,79.4613,79.462 ,79.4611,79.4675,79.4684,79.4687, 79.4695,79.4713,79.4717,79.4724,79.4743 ,79.476,79.4771,79.478,79.481,79.4821, 79.4832,79.2557)
ORBIT_NUMBER = 15945
ORBITAL_ECCENTRICITY = 0.572
ORBITAL_INCLINATION = 86.96
ORBITAL_SEMIMAJOR_AXIS = 8776.75
PERIAPSIS_ALTITUDE = 381.94
PERIAPSIS_ARGUMENT_ANGLE = 110.93
PERIAPSIS_TIME = 2016-08-01T06:47:51.000Z
SPACECRAFT_ORIENTATION = (0.0,-1.0,0.0)
^MEX_ORIENTATION_DESC = "MEX_ORIENTATION_DESC.TXT"
SPACECRAFT_POINTING_MODE = ACROSSTRACK
^MEX_POINTING_DESC = "MEX_POINTING_DESC.TXT"
RIGHT_ASCENSION = -1e+32
DECLINATION = -1e+32
OFFSET_ANGLE = 1.414
SPACECRAFT_SOLAR_DISTANCE = 2.14512e+08
TARGET_NAME = MARS
/* CAMERA DATA ELEMENTS */
DETECTOR_TEMPERATURE = 17.7588
FOCAL_PLANE_TEMPERATURE = 9.3989
INST_CMPRS_NAME = "DISCRETE COSINE TRANSFORMATION (DCT)"
INST_CMPRS_RATIO = 8.52792
INST_CMPRS_QUALITY = 0
INST_CMPRS_QUANTZ_TBL_ID = 0
INSTRUMENT_TEMPERATURE = 11.8457
LENS_TEMPERATURE = 9.8067
MACROPIXEL_SIZE = 2
MISSING_FRAMES = 0
PIXEL_SUBSAMPLING_FLAG = N
SIGNAL_CHAIN_ID = 1
/* RADIOMETRIC DATA ELEMENTS */
BANDWIDTH = 180.0
CENTER_FILTER_WAVELENGTH = 677.0
RADIANCE_OFFSET = 4.50899
RADIANCE_SCALING_FACTOR = 0.0233407
REFLECTANCE_SCALING_FACTOR = 0.000560343
MEX:REFLECTANCE_OFFSET = 0.108248
/* IMAGE OBJECT DEFINITIONS */
OBJECT = IMAGE
  INTERCHANGE_FORMAT = BINARY
  LINES = 7774
  LINE_SAMPLES = 3231
  SAMPLE_TYPE = UNSIGNED_INTEGER
  SAMPLE_BITS = 8
  BANDS = 1
  BAND_STORAGE_TYPE = BAND_SEQUENTIAL
  MAXIMUM = 255
  MEAN = 144.004
  MINIMUM = 1
  STANDARD_DEVIATION = 24.0219
END_OBJECT = IMAGE
/* MAP OBJECT DEFINITIONS */
OBJECT = IMAGE_MAP_PROJECTION
  ^DATA_SET_MAP_PROJECTION_CATALOG= "DSMAP.CAT"
  A_AXIS_RADIUS = 3396.0
  B_AXIS_RADIUS = 3396.0
  C_AXIS_RADIUS = 3396.0
  CENTER_LATITUDE = 0.0
  CENTER_LONGITUDE = 78.0
  COORDINATE_SYSTEM_NAME = PLANETOGRAPHIC
  COORDINATE_SYSTEM_TYPE = "BODY-FIXED ROTATING"
  EASTERNMOST_LONGITUDE = 79.4832
  FIRST_STANDARD_PARALLEL = "N/A"
  LINE_FIRST_PIXEL = 1
  LINE_LAST_PIXEL = 7774
  LINE_PROJECTION_OFFSET = 40730.75
  MAP_PROJECTION_ROTATION = 0.0
  MAP_PROJECTION_TYPE = SINUSOIDAL
  MAP_RESOLUTION = 1185.42760773333
  MAP_SCALE = 0.05
  MAXIMUM_LATITUDE = 34.46
  MINIMUM_LATITUDE = 27.7576
  POSITIVE_LONGITUDE_DIRECTION = EAST
  REFERENCE_LATITUDE = "N/A"
  REFERENCE_LONGITUDE = "N/A"
  SAMPLE_FIRST_PIXEL = 1
  SAMPLE_LAST_PIXEL = 3231
  SAMPLE_PROJECTION_OFFSET = 1540.75
  SECOND_STANDARD_PARALLEL = "N/A"
  WESTERNMOST_LONGITUDE = 76.70189999999999
END_OBJECT = IMAGE_MAP_PROJECTION
/* The JPEG2000 image data file associated with this label. */
OBJECT = COMPRESSED_FILE
  FILE_NAME = "HF945_0000_S13.JP2"
  RECORD_TYPE = UNDEFINED
  FILE_RECORDS = UNK
  ENCODING_TYPE = "JP2"
  INTERCHANGE_FORMAT = BINARY
  UNCOMPRESSED_FILE_NAME = "HF945_0000_S13.IMG"
  REQUIRED_STORAGE_BYTES = "25140411"
  ^DESCRIPTION = "JP2INFO.TXT"
END_OBJECT = COMPRESSED_FILE
END
