PDS_VERSION_ID = PDS3
/* FILE DATA ELEMENTS */
RECORD_TYPE = STREAM
/* POINTERS TO DATA OBJECTS */
^COMPRESSED_FILE = "HF946_0000_RE3.JP2"
/* IDENTIFICATION DATA ELEMENTS */
DATA_SET_ID = "MEX-M-HRSC-5-REFDR-MAPPROJECTED-V3.0"
DATA_SET_NAME = "MARS EXPRESS HRSC MAP PROJECTED REFDR V3.0"
DETECTOR_ID = MEX_HRSC_RED
EVENT_TYPE = "MARS-REGIONAL-MAPPING-Pf"
INSTRUMENT_HOST_ID = MEX
INSTRUMENT_HOST_NAME = "MARS EXPRESS"
INSTRUMENT_ID = HRSC
INSTRUMENT_NAME = "HIGH RESOLUTION STEREO CAMERA"
MISSION_NAME = "MARS EXPRESS"
MISSION_PHASE_NAME = ME_Phase_35
PROCESSING_LEVEL_ID = 3
PRODUCT_CREATION_TIME = 2017-06-29T11:20:52.000Z
PRODUCT_ID = "HF946_0000_RE3.JP2"
RELEASE_ID = 0135
REVISION_ID = 0000
/* QUALITY DATA ELEMENTS */
DATA_QUALITY_ID = 1
DATA_QUALITY_DESC = "Data calculated based on original SPICE kernels"
/* TIME DATA ELEMENTS */
SPACECRAFT_CLOCK_START_COUNT = "1/0418139404.08244"
SPACECRAFT_CLOCK_STOP_COUNT = "1/0418139612.47755"
START_TIME = 2016-08-01T13:51:21.866Z
STOP_TIME = 2016-08-01T13:53:29.750Z
/* ORBITAL DATA ELEMENTS */
ASCENDING_NODE_LONGITUDE = 274.33
MAXIMUM_RESOLUTION = 72
FOOTPRINT_POINT_LATITUDE = (56.4775,56.4649,56.4515,56.4372,56.422 ,56.4059,56.4918,56.3461,56.2008, 56.0555,55.9106,55.7657,55.4038,55.1842 ,55.0361,54.8143,54.6666,54.5188, 54.3713,54.2241,54.0768,53.9297,53.705, 53.5546,53.4043,53.2541,53.0292,52.8046 ,52.6547,52.5031,52.274,52.1212,51.9686 ,51.8161,51.664,51.5121,51.2813,51.1261 ,50.9711,50.8163,50.6617,50.5072,50.353 ,50.1173,49.9596,49.8023,49.5666, 49.3307,49.172,48.9125,48.9307,48.9471, 48.9564,48.9628,48.9714,48.9771,49.2207 ,49.4595,49.6159,49.7755,49.9339, 50.0921,50.2496,50.4058,50.5609,50.7166 ,50.9494,51.1056,51.3395,51.4954, 51.6479,51.8,51.9533,52.1828,52.3359, 52.5654,52.718,52.9432,53.0934,53.2438, 53.3944,53.5451,53.6961,53.8473,53.9977 ,54.2188,54.4405,54.5886,54.7368, 54.8851,55.0335,55.1821,55.4049,55.7678 ,55.9133,56.0588,56.2774,56.4233, 56.5693,56.4775)
FOOTPRINT_POINT_LONGITUDE = (334.723,334.329,333.938,333.549, 333.162,332.776,332.49,332.505,332.52, 332.535,332.55,332.564,332.599,332.62, 332.633,332.653,332.666,332.679,332.692 ,332.704,332.716,332.728,332.746, 332.758,332.77,332.781,332.798,332.814, 332.825,332.835,332.851,332.861,332.871 ,332.881,332.89,332.9,332.914,332.923, 332.932,332.941,332.949,332.958,332.966 ,332.978,332.986,332.994,333.006, 333.017,333.024,333.18,333.716,334.278, 334.623,334.894,335.241,335.539,335.661 ,335.65,335.642,335.637,335.63,335.623, 335.615,335.606,335.598,335.591,335.58, 335.572,335.561,335.553,335.545,335.536 ,335.529,335.517,335.508,335.495, 335.486,335.474,335.465,335.456,335.448 ,335.439,335.43,335.421,335.412,335.398 ,335.384,335.375,335.365,335.356, 335.346,335.337,335.322,335.297,335.287 ,335.277,335.261,335.251,335.24, 334.723)
ORBIT_NUMBER = 15946
ORBITAL_ECCENTRICITY = 0.571
ORBITAL_INCLINATION = 86.96
ORBITAL_SEMIMAJOR_AXIS = 8772.9
PERIAPSIS_ALTITUDE = 382.83
PERIAPSIS_ARGUMENT_ANGLE = 110.76
PERIAPSIS_TIME = 2016-08-01T13:47:31.000Z
SPACECRAFT_ORIENTATION = (0.0,-1.0,0.0)
^MEX_ORIENTATION_DESC = "MEX_ORIENTATION_DESC.TXT"
SPACECRAFT_POINTING_MODE = ACROSSTRACK
^MEX_POINTING_DESC = "MEX_POINTING_DESC.TXT"
RIGHT_ASCENSION = -1e+32
DECLINATION = -1e+32
OFFSET_ANGLE = 0.4
SPACECRAFT_SOLAR_DISTANCE = 2.14465e+08
TARGET_NAME = MARS
/* CAMERA DATA ELEMENTS */
DETECTOR_TEMPERATURE = 20.0017
FOCAL_PLANE_TEMPERATURE = 10.2145
INST_CMPRS_NAME = "DISCRETE COSINE TRANSFORMATION (DCT)"
INST_CMPRS_RATIO = 24.8323
INST_CMPRS_QUALITY = 0
INST_CMPRS_QUANTZ_TBL_ID = 0
INSTRUMENT_TEMPERATURE = 12.4574
LENS_TEMPERATURE = 10.2145
MACROPIXEL_SIZE = 4
MISSING_FRAMES = 0
PIXEL_SUBSAMPLING_FLAG = N
SIGNAL_CHAIN_ID = 2
/* RADIOMETRIC DATA ELEMENTS */
BANDWIDTH = 48.0
CENTER_FILTER_WAVELENGTH = 748.0
RADIANCE_OFFSET = 0.994545
RADIANCE_SCALING_FACTOR = 0.00326265
REFLECTANCE_SCALING_FACTOR = 0.000342459
MEX:REFLECTANCE_OFFSET = 0.104391
/* IMAGE OBJECT DEFINITIONS */
OBJECT = IMAGE
  INTERCHANGE_FORMAT = BINARY
  LINES = 9079
  LINE_SAMPLES = 2225
  SAMPLE_TYPE = UNSIGNED_INTEGER
  SAMPLE_BITS = 8
  BANDS = 1
  BAND_STORAGE_TYPE = BAND_SEQUENTIAL
  MAXIMUM = 255
  MEAN = 117.059
  MINIMUM = 1
  STANDARD_DEVIATION = 46.6745
END_OBJECT = IMAGE
/* MAP OBJECT DEFINITIONS */
OBJECT = IMAGE_MAP_PROJECTION
  ^DATA_SET_MAP_PROJECTION_CATALOG= "DSMAP.CAT"
  A_AXIS_RADIUS = 3396.0
  B_AXIS_RADIUS = 3396.0
  C_AXIS_RADIUS = 3396.0
  CENTER_LATITUDE = 0.0
  CENTER_LONGITUDE = 334.0
  COORDINATE_SYSTEM_NAME = PLANETOGRAPHIC
  COORDINATE_SYSTEM_TYPE = "BODY-FIXED ROTATING"
  EASTERNMOST_LONGITUDE = 335.661
  FIRST_STANDARD_PARALLEL = "N/A"
  LINE_FIRST_PIXEL = 1
  LINE_LAST_PIXEL = 9079
  LINE_PROJECTION_OFFSET = 67029.125
  MAP_PROJECTION_ROTATION = 0.0
  MAP_PROJECTION_TYPE = SINUSOIDAL
  MAP_RESOLUTION = 1185.42760773333
  MAP_SCALE = 0.05
  MAXIMUM_LATITUDE = 56.5693
  MINIMUM_LATITUDE = 48.9125
  POSITIVE_LONGITUDE_DIRECTION = EAST
  REFERENCE_LATITUDE = "N/A"
  REFERENCE_LONGITUDE = "N/A"
  SAMPLE_FIRST_PIXEL = 1
  SAMPLE_LAST_PIXEL = 2225
  SAMPLE_PROJECTION_OFFSET = 963.125
  SECOND_STANDARD_PARALLEL = "N/A"
  WESTERNMOST_LONGITUDE = 332.49
END_OBJECT = IMAGE_MAP_PROJECTION
/* The JPEG2000 image data file associated with this label. */
OBJECT = COMPRESSED_FILE
  FILE_NAME = "HF946_0000_RE3.JP2"
  RECORD_TYPE = UNDEFINED
  FILE_RECORDS = UNK
  ENCODING_TYPE = "JP2"
  INTERCHANGE_FORMAT = BINARY
  UNCOMPRESSED_FILE_NAME = "HF946_0000_RE3.IMG"
  REQUIRED_STORAGE_BYTES = "20223025"
  ^DESCRIPTION = "JP2INFO.TXT"
END_OBJECT = COMPRESSED_FILE
END
