PDS_VERSION_ID = PDS3
/* FILE DATA ELEMENTS */
RECORD_TYPE = STREAM
/* POINTERS TO DATA OBJECTS */
^COMPRESSED_FILE = "HF947_0000_P13.JP2"
/* IDENTIFICATION DATA ELEMENTS */
DATA_SET_ID = "MEX-M-HRSC-5-REFDR-MAPPROJECTED-V3.0"
DATA_SET_NAME = "MARS EXPRESS HRSC MAP PROJECTED REFDR V3.0"
DETECTOR_ID = MEX_HRSC_P1
EVENT_TYPE = "MARS-REGIONAL-MAPPING-Vo-Pf"
INSTRUMENT_HOST_ID = MEX
INSTRUMENT_HOST_NAME = "MARS EXPRESS"
INSTRUMENT_ID = HRSC
INSTRUMENT_NAME = "HIGH RESOLUTION STEREO CAMERA"
MISSION_NAME = "MARS EXPRESS"
MISSION_PHASE_NAME = ME_Phase_35
PROCESSING_LEVEL_ID = 3
PRODUCT_CREATION_TIME = 2017-06-29T11:20:52.000Z
PRODUCT_ID = "HF947_0000_P13.JP2"
RELEASE_ID = 0135
REVISION_ID = 0000
/* QUALITY DATA ELEMENTS */
DATA_QUALITY_ID = 1
DATA_QUALITY_DESC = "Data calculated based on original SPICE kernels"
/* TIME DATA ELEMENTS */
SPACECRAFT_CLOCK_START_COUNT = "1/0418164666.09056"
SPACECRAFT_CLOCK_STOP_COUNT = "1/0418164980.61469"
START_TIME = 2016-08-01T20:51:27.425Z
STOP_TIME = 2016-08-01T20:54:45.500Z
/* ORBITAL DATA ELEMENTS */
ASCENDING_NODE_LONGITUDE = 274.31
MAXIMUM_RESOLUTION = 35.8
FOOTPRINT_POINT_LATITUDE = (51.3813,51.3951,51.4022,51.4078,51.412 ,51.4146,51.022,50.7938,50.3382,49.9967 ,49.5366,49.3038,49.0711,48.7222, 48.4899,48.1357,47.8983,47.6611,47.4235 ,47.1864,46.9443,46.7022,46.46,46.218, 45.9762,45.7293,45.3593,45.1127,44.7398 ,44.4885,44.2376,43.8614,43.4775, 43.2216,42.8379,42.577,42.3165,42.0565, 41.6614,41.3965,41.1322,40.8652,40.5957 ,40.1921,39.9196,39.6459,39.3726, 39.0962,38.91,38.9033,38.8929,38.8733, 38.859,38.9816,39.2598,39.6715,39.9464, 40.2182,40.4879,40.7581,41.0266,41.4249 ,41.6903,41.9539,42.2141,42.4746, 42.7363,42.9937,43.2495,43.5061,43.7627 ,44.1406,44.3926,44.6446,44.8949, 45.1417,45.5125,45.7596,46.0056,46.3689 ,46.6111,46.8539,47.2159,47.4535, 47.6912,47.9292,48.1675,48.4043,48.6372 ,48.8702,49.1033,49.3366,49.5701, 49.8012,50.2575,50.486,50.7144,50.943, 51.2832,51.3813)
FOOTPRINT_POINT_LONGITUDE = (234.335,233.749,233.365,232.987, 232.613,232.245,232.19,232.197,232.209, 232.217,232.228,232.233,232.237,232.244 ,232.248,232.253,232.257,232.26,232.263 ,232.266,232.269,232.271,232.273, 232.275,232.277,232.279,232.28,232.281, 232.282,232.283,232.283,232.283,232.282 ,232.282,232.28,232.279,232.278,232.276 ,232.273,232.271,232.269,232.266, 232.263,232.258,232.255,232.251,232.247 ,232.243,232.547,232.857,233.29,233.926 ,234.323,234.759,234.759,234.759, 234.758,234.758,234.758,234.758,234.758 ,234.758,234.758,234.758,234.759, 234.759,234.758,234.758,234.759,234.758 ,234.758,234.757,234.757,234.756, 234.757,234.756,234.755,234.755,234.755 ,234.754,234.754,234.753,234.751, 234.751,234.75,234.749,234.747,234.746, 234.745,234.743,234.742,234.74,234.739, 234.737,234.734,234.732,234.73,234.728, 234.725,234.335)
ORBIT_NUMBER = 15947
ORBITAL_ECCENTRICITY = 0.571
ORBITAL_INCLINATION = 86.96
ORBITAL_SEMIMAJOR_AXIS = 8772.28
PERIAPSIS_ALTITUDE = 382.06
PERIAPSIS_ARGUMENT_ANGLE = 110.57
PERIAPSIS_TIME = 2016-08-01T20:47:11.000Z
SPACECRAFT_ORIENTATION = (0.0,-1.0,0.0)
^MEX_ORIENTATION_DESC = "MEX_ORIENTATION_DESC.TXT"
SPACECRAFT_POINTING_MODE = ACROSSTRACK
^MEX_POINTING_DESC = "MEX_POINTING_DESC.TXT"
RIGHT_ASCENSION = -1e+32
DECLINATION = -1e+32
OFFSET_ANGLE = 1.3
SPACECRAFT_SOLAR_DISTANCE = 2.14419e+08
TARGET_NAME = MARS
/* CAMERA DATA ELEMENTS */
DETECTOR_TEMPERATURE = 18.1666
FOCAL_PLANE_TEMPERATURE = 9.6028
INST_CMPRS_NAME = "DISCRETE COSINE TRANSFORMATION (DCT)"
INST_CMPRS_RATIO = 4.65399
INST_CMPRS_QUALITY = 0
INST_CMPRS_QUANTZ_TBL_ID = 0
INSTRUMENT_TEMPERATURE = 12.0496
LENS_TEMPERATURE = 10.2145
MACROPIXEL_SIZE = 2
MISSING_FRAMES = 0
PIXEL_SUBSAMPLING_FLAG = N
SIGNAL_CHAIN_ID = 3
/* RADIOMETRIC DATA ELEMENTS */
BANDWIDTH = 174.0
CENTER_FILTER_WAVELENGTH = 675.0
RADIANCE_OFFSET = 2.61711
RADIANCE_SCALING_FACTOR = 0.0368008
REFLECTANCE_SCALING_FACTOR = 0.000910051
MEX:REFLECTANCE_OFFSET = 0.0647188
/* IMAGE OBJECT DEFINITIONS */
OBJECT = IMAGE
  INTERCHANGE_FORMAT = BINARY
  LINES = 29580
  LINE_SAMPLES = 5040
  SAMPLE_TYPE = UNSIGNED_INTEGER
  SAMPLE_BITS = 8
  BANDS = 1
  BAND_STORAGE_TYPE = BAND_SEQUENTIAL
  MAXIMUM = 255
  MEAN = 112.919
  MINIMUM = 1
  STANDARD_DEVIATION = 22.4319
END_OBJECT = IMAGE
/* MAP OBJECT DEFINITIONS */
OBJECT = IMAGE_MAP_PROJECTION
  ^DATA_SET_MAP_PROJECTION_CATALOG= "DSMAP.CAT"
  A_AXIS_RADIUS = 3396.0
  B_AXIS_RADIUS = 3396.0
  C_AXIS_RADIUS = 3396.0
  CENTER_LATITUDE = 0.0
  CENTER_LONGITUDE = 233.0
  COORDINATE_SYSTEM_NAME = PLANETOGRAPHIC
  COORDINATE_SYSTEM_TYPE = "BODY-FIXED ROTATING"
  EASTERNMOST_LONGITUDE = 234.759
  FIRST_STANDARD_PARALLEL = "N/A"
  LINE_FIRST_PIXEL = 1
  LINE_LAST_PIXEL = 29580
  LINE_PROJECTION_OFFSET = 121736.75
  MAP_PROJECTION_ROTATION = 0.0
  MAP_PROJECTION_TYPE = SINUSOIDAL
  MAP_RESOLUTION = 2370.85521546667
  MAP_SCALE = 0.025
  MAXIMUM_LATITUDE = 51.4146
  MINIMUM_LATITUDE = 38.859
  POSITIVE_LONGITUDE_DIRECTION = EAST
  REFERENCE_LATITUDE = "N/A"
  REFERENCE_LONGITUDE = "N/A"
  SAMPLE_FIRST_PIXEL = 1
  SAMPLE_LAST_PIXEL = 5040
  SAMPLE_PROJECTION_OFFSET = 1544.25
  SECOND_STANDARD_PARALLEL = "N/A"
  WESTERNMOST_LONGITUDE = 232.19
END_OBJECT = IMAGE_MAP_PROJECTION
/* The JPEG2000 image data file associated with this label. */
OBJECT = COMPRESSED_FILE
  FILE_NAME = "HF947_0000_P13.JP2"
  RECORD_TYPE = UNDEFINED
  FILE_RECORDS = UNK
  ENCODING_TYPE = "JP2"
  INTERCHANGE_FORMAT = BINARY
  UNCOMPRESSED_FILE_NAME = "HF947_0000_P13.IMG"
  REQUIRED_STORAGE_BYTES = "149108400"
  ^DESCRIPTION = "JP2INFO.TXT"
END_OBJECT = COMPRESSED_FILE
END
