PDS_VERSION_ID = PDS3
/* FILE DATA ELEMENTS */
RECORD_TYPE = STREAM
/* POINTERS TO DATA OBJECTS */
^COMPRESSED_FILE = "HF950_0000_P13.JP2"
/* IDENTIFICATION DATA ELEMENTS */
DATA_SET_ID = "MEX-M-HRSC-5-REFDR-MAPPROJECTED-V3.0"
DATA_SET_NAME = "MARS EXPRESS HRSC MAP PROJECTED REFDR V3.0"
DETECTOR_ID = MEX_HRSC_P1
EVENT_TYPE = "MARS-REGIONAL-STEREO-Vo-Te"
INSTRUMENT_HOST_ID = MEX
INSTRUMENT_HOST_NAME = "MARS EXPRESS"
INSTRUMENT_ID = HRSC
INSTRUMENT_NAME = "HIGH RESOLUTION STEREO CAMERA"
MISSION_NAME = "MARS EXPRESS"
MISSION_PHASE_NAME = ME_Phase_35
PROCESSING_LEVEL_ID = 3
PRODUCT_CREATION_TIME = 2017-06-29T11:20:52.000Z
PRODUCT_ID = "HF950_0000_P13.JP2"
RELEASE_ID = 0135
REVISION_ID = 0000
/* QUALITY DATA ELEMENTS */
DATA_QUALITY_ID = 1
DATA_QUALITY_DESC = "Data calculated based on original SPICE kernels"
/* TIME DATA ELEMENTS */
SPACECRAFT_CLOCK_START_COUNT = "1/0418240332.08247"
SPACECRAFT_CLOCK_STOP_COUNT = "1/0418240657.13435"
START_TIME = 2016-08-02T17:52:35.293Z
STOP_TIME = 2016-08-02T17:55:39.755Z
/* ORBITAL DATA ELEMENTS */
ASCENDING_NODE_LONGITUDE = 274.26
MAXIMUM_RESOLUTION = 40.3
FOOTPRINT_POINT_LATITUDE = (44.7116,44.7183,44.7223,44.7248, 44.7258,44.7253,44.7234,44.3805,43.9746 ,43.7694,43.4591,43.2519,43.0435,42.726 ,42.5144,42.3029,42.0919,41.7707, 41.5555,41.3407,41.1258,40.7985,40.5801 ,40.2529,40.0289,39.6961,39.4723,39.25, 38.911,38.6848,38.3408,38.1113,37.8823, 37.5345,37.3019,37.0695,36.8325,36.596, 36.3601,36.1199,35.8798,35.5187,35.2757 ,35.032,34.7862,34.5377,34.291,34.0405, 33.6656,33.4131,33.3822,33.3745,33.365, 33.3568,33.3499,33.3416,33.5933,33.8444 ,34.2208,34.4684,34.7155,34.962,35.2063 ,35.4512,35.6943,35.9354,36.2974, 36.6533,36.8906,37.1269,37.3605,37.5937 ,37.8276,38.1733,38.4043,38.6332,38.859 ,39.084,39.3068,39.6431,39.8683,40.0914 ,40.3125,40.5312,40.7505,41.0792, 41.2948,41.5104,41.7258,42.0474,42.2589 ,42.5776,42.7904,43.0013,43.2102, 43.5226,43.7303,43.9371,44.3449, 44.7116)
FOOTPRINT_POINT_LONGITUDE = (286.936,286.486,286.11,285.737,285.367 ,285.0,284.635,284.541,284.546,284.549, 284.553,284.555,284.557,284.56,284.562, 284.563,284.564,284.566,284.567,284.568 ,284.568,284.569,284.569,284.569, 284.569,284.568,284.567,284.567,284.565 ,284.564,284.561,284.559,284.557, 284.554,284.552,284.549,284.547,284.544 ,284.541,284.537,284.534,284.528, 284.524,284.52,284.516,284.511,284.506, 284.501,284.493,284.488,284.838,285.573 ,286.11,286.47,286.728,287.014,287.125, 287.123,287.12,287.117,287.116,287.114, 287.111,287.108,287.106,287.103,287.098 ,287.095,287.092,287.089,287.087, 287.085,287.081,287.076,287.073,287.07, 287.068,287.067,287.068,287.063,287.057 ,287.054,287.052,287.049,287.046, 287.041,287.038,287.035,287.032,287.027 ,287.025,287.019,287.014,287.01,287.006 ,287.0,286.997,286.994,286.988,286.936)
ORBIT_NUMBER = 15950
ORBITAL_ECCENTRICITY = 0.571
ORBITAL_INCLINATION = 86.94
ORBITAL_SEMIMAJOR_AXIS = 8773.39
PERIAPSIS_ALTITUDE = 383.14
PERIAPSIS_ARGUMENT_ANGLE = 110.08
PERIAPSIS_TIME = 2016-08-02T17:46:26.000Z
SPACECRAFT_ORIENTATION = (0.0,-1.0,0.0)
^MEX_ORIENTATION_DESC = "MEX_ORIENTATION_DESC.TXT"
SPACECRAFT_POINTING_MODE = ACROSSTRACK
^MEX_POINTING_DESC = "MEX_POINTING_DESC.TXT"
RIGHT_ASCENSION = -1e+32
DECLINATION = -1e+32
OFFSET_ANGLE = 0.75
SPACECRAFT_SOLAR_DISTANCE = 2.14279e+08
TARGET_NAME = MARS
/* CAMERA DATA ELEMENTS */
DETECTOR_TEMPERATURE = 18.1666
FOCAL_PLANE_TEMPERATURE = 10.6223
INST_CMPRS_NAME = "DISCRETE COSINE TRANSFORMATION (DCT)"
INST_CMPRS_RATIO = 4.57312
INST_CMPRS_QUALITY = 0
INST_CMPRS_QUANTZ_TBL_ID = 0
INSTRUMENT_TEMPERATURE = 12.0496
LENS_TEMPERATURE = 9.8067
MACROPIXEL_SIZE = 2
MISSING_FRAMES = 0
PIXEL_SUBSAMPLING_FLAG = N
SIGNAL_CHAIN_ID = 3
/* RADIOMETRIC DATA ELEMENTS */
BANDWIDTH = 174.0
CENTER_FILTER_WAVELENGTH = 675.0
RADIANCE_OFFSET = 1.89115
RADIANCE_SCALING_FACTOR = 0.0415312
REFLECTANCE_SCALING_FACTOR = 0.00102569
MEX:REFLECTANCE_OFFSET = 0.0467056
/* IMAGE OBJECT DEFINITIONS */
OBJECT = IMAGE
  INTERCHANGE_FORMAT = BINARY
  LINES = 13438
  LINE_SAMPLES = 2838
  SAMPLE_TYPE = UNSIGNED_INTEGER
  SAMPLE_BITS = 8
  BANDS = 1
  BAND_STORAGE_TYPE = BAND_SEQUENTIAL
  MAXIMUM = 255
  MEAN = 135.078
  MINIMUM = 1
  STANDARD_DEVIATION = 16.1109
END_OBJECT = IMAGE
/* MAP OBJECT DEFINITIONS */
OBJECT = IMAGE_MAP_PROJECTION
  ^DATA_SET_MAP_PROJECTION_CATALOG= "DSMAP.CAT"
  A_AXIS_RADIUS = 3396.0
  B_AXIS_RADIUS = 3396.0
  C_AXIS_RADIUS = 3396.0
  CENTER_LATITUDE = 0.0
  CENTER_LONGITUDE = 286.0
  COORDINATE_SYSTEM_NAME = PLANETOGRAPHIC
  COORDINATE_SYSTEM_TYPE = "BODY-FIXED ROTATING"
  EASTERNMOST_LONGITUDE = 287.125
  FIRST_STANDARD_PARALLEL = "N/A"
  LINE_FIRST_PIXEL = 1
  LINE_LAST_PIXEL = 13438
  LINE_PROJECTION_OFFSET = 52982.25
  MAP_PROJECTION_ROTATION = 0.0
  MAP_PROJECTION_TYPE = SINUSOIDAL
  MAP_RESOLUTION = 1185.42760773333
  MAP_SCALE = 0.05
  MAXIMUM_LATITUDE = 44.7258
  MINIMUM_LATITUDE = 33.3416
  POSITIVE_LONGITUDE_DIRECTION = EAST
  REFERENCE_LATITUDE = "N/A"
  REFERENCE_LONGITUDE = "N/A"
  SAMPLE_FIRST_PIXEL = 1
  SAMPLE_LAST_PIXEL = 2838
  SAMPLE_PROJECTION_OFFSET = 1595.25
  SECOND_STANDARD_PARALLEL = "N/A"
  WESTERNMOST_LONGITUDE = 284.488
END_OBJECT = IMAGE_MAP_PROJECTION
/* The JPEG2000 image data file associated with this label. */
OBJECT = COMPRESSED_FILE
  FILE_NAME = "HF950_0000_P13.JP2"
  RECORD_TYPE = UNDEFINED
  FILE_RECORDS = UNK
  ENCODING_TYPE = "JP2"
  INTERCHANGE_FORMAT = BINARY
  UNCOMPRESSED_FILE_NAME = "HF950_0000_P13.IMG"
  REQUIRED_STORAGE_BYTES = "38159748"
  ^DESCRIPTION = "JP2INFO.TXT"
END_OBJECT = COMPRESSED_FILE
END
