PDS_VERSION_ID = PDS3
/* FILE DATA ELEMENTS */
RECORD_TYPE = STREAM
/* POINTERS TO DATA OBJECTS */
^COMPRESSED_FILE = "HF954_0000_RE3.JP2"
/* IDENTIFICATION DATA ELEMENTS */
DATA_SET_ID = "MEX-M-HRSC-5-REFDR-MAPPROJECTED-V3.0"
DATA_SET_NAME = "MARS EXPRESS HRSC MAP PROJECTED REFDR V3.0"
DETECTOR_ID = MEX_HRSC_RED
EVENT_TYPE = "MARS-REGIONAL-MAPPING-Te-Im-Pf"
INSTRUMENT_HOST_ID = MEX
INSTRUMENT_HOST_NAME = "MARS EXPRESS"
INSTRUMENT_ID = HRSC
INSTRUMENT_NAME = "HIGH RESOLUTION STEREO CAMERA"
MISSION_NAME = "MARS EXPRESS"
MISSION_PHASE_NAME = ME_Phase_35
PROCESSING_LEVEL_ID = 3
PRODUCT_CREATION_TIME = 2017-06-29T11:20:52.000Z
PRODUCT_ID = "HF954_0000_RE3.JP2"
RELEASE_ID = 0135
REVISION_ID = 0000
/* QUALITY DATA ELEMENTS */
DATA_QUALITY_ID = 1
DATA_QUALITY_DESC = "Data calculated based on original SPICE kernels"
/* TIME DATA ELEMENTS */
SPACECRAFT_CLOCK_START_COUNT = "1/0418340846.09041"
SPACECRAFT_CLOCK_STOP_COUNT = "1/0418341091.17125"
START_TIME = 2016-08-03T21:48:43.385Z
STOP_TIME = 2016-08-03T21:51:27.946Z
/* ORBITAL DATA ELEMENTS */
ASCENDING_NODE_LONGITUDE = 274.18
MAXIMUM_RESOLUTION = 70.6
FOOTPRINT_POINT_LATITUDE = (58.8928,58.8773,58.8608,58.8434, 58.8251,58.806,58.7859,58.4113,58.1308, 57.758,57.4789,57.107,56.8225,56.6328, 56.443,56.2535,56.0643,55.8752,55.6862, 55.3977,55.2047,55.012,54.8196,54.6273, 54.4354,54.2419,54.0457,53.8497,53.556, 53.3607,53.1658,52.8682,52.6691,52.4705 ,52.2721,52.074,51.7726,51.5705,51.3686 ,51.1672,50.966,50.6586,50.4536,50.2492 ,49.9427,49.6314,49.4221,49.2149, 49.1156,49.1306,49.1447,49.158,49.1719, 49.183,49.1939,49.402,49.6102,49.8186, 50.0275,50.2326,50.4378,50.6433,50.8491 ,51.0544,51.2562,51.4582,51.7622,51.965 ,52.1662,52.365,52.5641,52.7635,52.9632 ,53.2617,53.4572,53.6533,53.8494, 54.0458,54.2427,54.4388,54.6315,54.8243 ,55.0172,55.2106,55.4041,55.598,55.791, 55.9804,56.2651,56.5505,56.7408,56.9313 ,57.2169,57.5899,57.9637,58.3381, 58.5257,58.7134,58.9909,58.8928)
FOOTPRINT_POINT_LONGITUDE = (237.084,236.661,236.241,235.826, 235.415,235.008,234.603,234.644,234.673 ,234.709,234.736,234.77,234.795,234.811 ,234.827,234.842,234.857,234.872, 234.887,234.908,234.922,234.936,234.95, 234.963,234.975,234.988,235.0,235.012, 235.03,235.041,235.052,235.068,235.079, 235.089,235.099,235.109,235.123,235.132 ,235.141,235.15,235.158,235.17,235.178, 235.186,235.196,235.207,235.214,235.22, 235.494,235.892,236.293,236.697,237.156 ,237.567,237.939,237.933,237.926, 237.919,237.912,237.906,237.899,237.892 ,237.885,237.878,237.871,237.864, 237.853,237.845,237.838,237.831,237.823 ,237.815,237.807,237.795,237.787, 237.779,237.771,237.762,237.754,237.745 ,237.737,237.728,237.719,237.711, 237.702,237.693,237.684,237.675,237.661 ,237.647,237.637,237.627,237.612, 237.591,237.571,237.549,237.538,237.527 ,237.51,237.084)
ORBIT_NUMBER = 15954
ORBITAL_ECCENTRICITY = 0.571
ORBITAL_INCLINATION = 86.96
ORBITAL_SEMIMAJOR_AXIS = 8771.04
PERIAPSIS_ALTITUDE = 382.47
PERIAPSIS_ARGUMENT_ANGLE = 109.36
PERIAPSIS_TIME = 2016-08-03T21:45:09.000Z
SPACECRAFT_ORIENTATION = (0.0,-1.0,0.0)
^MEX_ORIENTATION_DESC = "MEX_ORIENTATION_DESC.TXT"
SPACECRAFT_POINTING_MODE = ACROSSTRACK
^MEX_POINTING_DESC = "MEX_POINTING_DESC.TXT"
RIGHT_ASCENSION = -1e+32
DECLINATION = -1e+32
OFFSET_ANGLE = 0.808
SPACECRAFT_SOLAR_DISTANCE = 2.14094e+08
TARGET_NAME = MARS
/* CAMERA DATA ELEMENTS */
DETECTOR_TEMPERATURE = 18.9822
FOCAL_PLANE_TEMPERATURE = 8.5833
INST_CMPRS_NAME = "DISCRETE COSINE TRANSFORMATION (DCT)"
INST_CMPRS_RATIO = 18.7152
INST_CMPRS_QUALITY = 0
INST_CMPRS_QUANTZ_TBL_ID = 0
INSTRUMENT_TEMPERATURE = 11.8457
LENS_TEMPERATURE = 9.6028
MACROPIXEL_SIZE = 4
MISSING_FRAMES = 0
PIXEL_SUBSAMPLING_FLAG = N
SIGNAL_CHAIN_ID = 2
/* RADIOMETRIC DATA ELEMENTS */
BANDWIDTH = 48.0
CENTER_FILTER_WAVELENGTH = 748.0
RADIANCE_OFFSET = 1.09974
RADIANCE_SCALING_FACTOR = 0.00371267
REFLECTANCE_SCALING_FACTOR = 0.000388348
MEX:REFLECTANCE_OFFSET = 0.115033
/* IMAGE OBJECT DEFINITIONS */
OBJECT = IMAGE
  INTERCHANGE_FORMAT = BINARY
  LINES = 11660
  LINE_SAMPLES = 2320
  SAMPLE_TYPE = UNSIGNED_INTEGER
  SAMPLE_BITS = 8
  BANDS = 1
  BAND_STORAGE_TYPE = BAND_SEQUENTIAL
  MAXIMUM = 255
  MEAN = 97.4213
  MINIMUM = 1
  STANDARD_DEVIATION = 46.1186
END_OBJECT = IMAGE
/* MAP OBJECT DEFINITIONS */
OBJECT = IMAGE_MAP_PROJECTION
  ^DATA_SET_MAP_PROJECTION_CATALOG= "DSMAP.CAT"
  A_AXIS_RADIUS = 3396.0
  B_AXIS_RADIUS = 3396.0
  C_AXIS_RADIUS = 3396.0
  CENTER_LATITUDE = 0.0
  CENTER_LONGITUDE = 236.0
  COORDINATE_SYSTEM_NAME = PLANETOGRAPHIC
  COORDINATE_SYSTEM_TYPE = "BODY-FIXED ROTATING"
  EASTERNMOST_LONGITUDE = 237.939
  FIRST_STANDARD_PARALLEL = "N/A"
  LINE_FIRST_PIXEL = 1
  LINE_LAST_PIXEL = 11660
  LINE_PROJECTION_OFFSET = 69889.875
  MAP_PROJECTION_ROTATION = 0.0
  MAP_PROJECTION_TYPE = SINUSOIDAL
  MAP_RESOLUTION = 1185.42760773333
  MAP_SCALE = 0.05
  MAXIMUM_LATITUDE = 58.9909
  MINIMUM_LATITUDE = 49.1156
  POSITIVE_LONGITUDE_DIRECTION = EAST
  REFERENCE_LATITUDE = "N/A"
  REFERENCE_LONGITUDE = "N/A"
  SAMPLE_FIRST_PIXEL = 1
  SAMPLE_LAST_PIXEL = 2320
  SAMPLE_PROJECTION_OFFSET = 852.125
  SECOND_STANDARD_PARALLEL = "N/A"
  WESTERNMOST_LONGITUDE = 234.603
END_OBJECT = IMAGE_MAP_PROJECTION
/* The JPEG2000 image data file associated with this label. */
OBJECT = COMPRESSED_FILE
  FILE_NAME = "HF954_0000_RE3.JP2"
  RECORD_TYPE = UNDEFINED
  FILE_RECORDS = UNK
  ENCODING_TYPE = "JP2"
  INTERCHANGE_FORMAT = BINARY
  UNCOMPRESSED_FILE_NAME = "HF954_0000_RE3.IMG"
  REQUIRED_STORAGE_BYTES = "27072080"
  ^DESCRIPTION = "JP2INFO.TXT"
END_OBJECT = COMPRESSED_FILE
END
