PDS_VERSION_ID = PDS3
/* FILE DATA ELEMENTS */
RECORD_TYPE = STREAM
/* POINTERS TO DATA OBJECTS */
^COMPRESSED_FILE = "HF955_0001_SR3.JP2"
/* IDENTIFICATION DATA ELEMENTS */
DATA_SET_ID = "MEX-M-HRSC-5-REFDR-MAPPROJECTED-V3.0"
DATA_SET_NAME = "MARS EXPRESS HRSC MAP PROJECTED REFDR V3.0"
DETECTOR_ID = MEX_HRSC_SRC
EVENT_TYPE = "MARS-LOCAL-CARTOGRAPHY-Pf-Tc-Ts"
INSTRUMENT_HOST_ID = MEX
INSTRUMENT_HOST_NAME = "MARS EXPRESS"
INSTRUMENT_ID = HRSC
INSTRUMENT_NAME = "HIGH RESOLUTION STEREO CAMERA"
MISSION_NAME = "MARS EXPRESS"
MISSION_PHASE_NAME = ME_Phase_35
PROCESSING_LEVEL_ID = 3
PRODUCT_CREATION_TIME = 2017-06-29T11:20:52.000Z
PRODUCT_ID = "HF955_0001_SR3.JP2"
RELEASE_ID = 0135
REVISION_ID = 0000
/* QUALITY DATA ELEMENTS */
DATA_QUALITY_ID = 1
DATA_QUALITY_DESC = "Data calculated based on original SPICE kernels"
/* TIME DATA ELEMENTS */
SPACECRAFT_CLOCK_START_COUNT = "1/0418366181.07304"
SPACECRAFT_CLOCK_STOP_COUNT = "1/0418366337.28890"
IMAGE_TIME = 2016-08-04T04:50:44.752Z
START_TIME = 2016-08-04T04:50:44.494Z
STOP_TIME = 2016-08-04T04:50:45.010Z
/* ORBITAL DATA ELEMENTS */
ASCENDING_NODE_LONGITUDE = 274.17
MAXIMUM_RESOLUTION = 4.455
FOOTPRINT_POINT_LATITUDE = (48.5579,48.5617,48.565,48.5671,48.5712 ,48.5737,48.5757,48.5781,48.5805,48.584 ,48.5882,48.5904,48.5938,48.5961, 48.5981,48.6012,48.6036,48.6057,48.6084 ,48.6114,48.6159,48.6189,48.6211, 48.6238,48.627,48.6305,48.6338,48.6339, 48.634,48.6341,48.6341,48.6342,48.6343, 48.6343,48.6344,48.6345,48.6345,48.6346 ,48.6347,48.6347,48.6348,48.6348, 48.6349,48.635,48.635,48.6351,48.6352, 48.6352,48.6353,48.6354,48.6354,48.6355 ,48.6332,48.6312,48.6282,48.6246, 48.6219,48.6178,48.6138,48.6113,48.6084 ,48.6041,48.5993,48.5971,48.5937, 48.5906,48.5869,48.5842,48.5801,48.5767 ,48.5743,48.5693,48.5653,48.5624, 48.5595,48.5594,48.5594,48.5593,48.5592 ,48.5592,48.5591,48.5591,48.559,48.5589 ,48.5589,48.5588,48.5587,48.5587, 48.5586,48.5586,48.5585,48.5584,48.5584 ,48.5583,48.5582,48.5582,48.5581,48.558 ,48.558,48.5579)
FOOTPRINT_POINT_LONGITUDE = (134.182,134.182,134.181,134.181, 134.181,134.181,134.181,134.181,134.181 ,134.181,134.181,134.181,134.18,134.18, 134.18,134.18,134.18,134.18,134.18, 134.18,134.18,134.18,134.18,134.18, 134.179,134.179,134.179,134.184,134.188 ,134.193,134.198,134.202,134.207, 134.211,134.216,134.221,134.225,134.23, 134.234,134.239,134.244,134.248,134.253 ,134.257,134.262,134.267,134.271, 134.276,134.281,134.285,134.29,134.294, 134.296,134.296,134.296,134.297,134.297 ,134.297,134.297,134.297,134.297, 134.297,134.297,134.297,134.297,134.298 ,134.298,134.298,134.298,134.298, 134.298,134.298,134.298,134.298,134.296 ,134.291,134.287,134.282,134.278, 134.273,134.268,134.264,134.259,134.255 ,134.25,134.245,134.241,134.236,134.232 ,134.227,134.223,134.218,134.213, 134.209,134.204,134.2,134.195,134.19, 134.186,134.182)
ORBIT_NUMBER = 15955
ORBITAL_ECCENTRICITY = 0.571
ORBITAL_INCLINATION = 86.94
ORBITAL_SEMIMAJOR_AXIS = 8774.08
PERIAPSIS_ALTITUDE = 383.71
PERIAPSIS_ARGUMENT_ANGLE = 109.21
PERIAPSIS_TIME = 2016-08-04T04:44:55.000Z
SPACECRAFT_ORIENTATION = (0.0,-1.0,0.0)
^MEX_ORIENTATION_DESC = "MEX_ORIENTATION_DESC.TXT"
SPACECRAFT_POINTING_MODE = ACROSSTRACK
^MEX_POINTING_DESC = "MEX_POINTING_DESC.TXT"
RIGHT_ASCENSION = -1e+32
DECLINATION = -1e+32
OFFSET_ANGLE = 0.8
SPACECRAFT_SOLAR_DISTANCE = 2.14048e+08
TARGET_NAME = MARS
/* CAMERA DATA ELEMENTS */
BUFFER_MODE_ID = DIRECT
EXPOSURE_DURATION = 516.096
INST_CMPRS_NAME = NONE
INST_CMPRS_RATIO = 1.0
INST_CMPRS_QUALITY = -2147483648
INST_CMPRS_QUANTZ_TBL_ID = -2147483648
INSTRUMENT_TEMPERATURE = 7.25759
MISSING_FRAMES = 0
START_BIT = 0
/* RADIOMETRIC DATA ELEMENTS */
BANDWIDTH = 250.0
CENTER_FILTER_WAVELENGTH = 600.0
RADIANCE_OFFSET = -9.99e+31
RADIANCE_SCALING_FACTOR = -9.99e+31
REFLECTANCE_SCALING_FACTOR = -9.99e+31
MEX:REFLECTANCE_OFFSET = -9.99e+31
/* IMAGE OBJECT DEFINITIONS */
OBJECT = IMAGE
  INTERCHANGE_FORMAT = BINARY
  LINES = 982
  LINE_SAMPLES = 1000
  SAMPLE_TYPE = UNSIGNED_INTEGER
  SAMPLE_BITS = 8
  BANDS = 1
  BAND_STORAGE_TYPE = BAND_SEQUENTIAL
  MAXIMUM = 255
  MEAN = 254.997
  MINIMUM = 124
  STANDARD_DEVIATION = 0.458959
END_OBJECT = IMAGE
/* MAP OBJECT DEFINITIONS */
OBJECT = IMAGE_MAP_PROJECTION
  ^DATA_SET_MAP_PROJECTION_CATALOG= "DSMAP.CAT"
  A_AXIS_RADIUS = 3396.19
  B_AXIS_RADIUS = 3396.19
  C_AXIS_RADIUS = 3396.19
  CENTER_LATITUDE = 0.0
  CENTER_LONGITUDE = 134.0
  COORDINATE_SYSTEM_NAME = PLANETOGRAPHIC
  COORDINATE_SYSTEM_TYPE = "BODY-FIXED ROTATING"
  EASTERNMOST_LONGITUDE = 134.298
  FIRST_STANDARD_PARALLEL = "N/A"
  LINE_FIRST_PIXEL = 1
  LINE_LAST_PIXEL = 982
  LINE_PROJECTION_OFFSET = 575906.0
  MAP_PROJECTION_ROTATION = 0.0
  MAP_PROJECTION_TYPE = SINUSOIDAL
  MAP_RESOLUTION = 11854.9393024378
  MAP_SCALE = 0.005
  MAXIMUM_LATITUDE = 48.6355
  MINIMUM_LATITUDE = 48.5579
  POSITIVE_LONGITUDE_DIRECTION = EAST
  REFERENCE_LATITUDE = "N/A"
  REFERENCE_LONGITUDE = "N/A"
  SAMPLE_FIRST_PIXEL = 1
  SAMPLE_LAST_PIXEL = 1000
  SAMPLE_PROJECTION_OFFSET = -1627.0
  SECOND_STANDARD_PARALLEL = "N/A"
  WESTERNMOST_LONGITUDE = 134.179
END_OBJECT = IMAGE_MAP_PROJECTION
/* The JPEG2000 image data file associated with this label. */
OBJECT = COMPRESSED_FILE
  FILE_NAME = "HF955_0001_SR3.JP2"
  RECORD_TYPE = UNDEFINED
  FILE_RECORDS = UNK
  ENCODING_TYPE = "JP2"
  INTERCHANGE_FORMAT = BINARY
  UNCOMPRESSED_FILE_NAME = "HF955_0001_SR3.IMG"
  REQUIRED_STORAGE_BYTES = "1001000"
  ^DESCRIPTION = "JP2INFO.TXT"
END_OBJECT = COMPRESSED_FILE
END
