PDS_VERSION_ID = PDS3
/* FILE DATA ELEMENTS */
RECORD_TYPE = STREAM
/* POINTERS TO DATA OBJECTS */
^COMPRESSED_FILE = "HF955_0006_SR3.JP2"
/* IDENTIFICATION DATA ELEMENTS */
DATA_SET_ID = "MEX-M-HRSC-5-REFDR-MAPPROJECTED-V3.0"
DATA_SET_NAME = "MARS EXPRESS HRSC MAP PROJECTED REFDR V3.0"
DETECTOR_ID = MEX_HRSC_SRC
EVENT_TYPE = "MARS-LOCAL-CARTOGRAPHY-Pf-Tc-Ts"
INSTRUMENT_HOST_ID = MEX
INSTRUMENT_HOST_NAME = "MARS EXPRESS"
INSTRUMENT_ID = HRSC
INSTRUMENT_NAME = "HIGH RESOLUTION STEREO CAMERA"
MISSION_NAME = "MARS EXPRESS"
MISSION_PHASE_NAME = ME_Phase_35
PROCESSING_LEVEL_ID = 3
PRODUCT_CREATION_TIME = 2017-06-29T11:20:52.000Z
PRODUCT_ID = "HF955_0006_SR3.JP2"
RELEASE_ID = 0135
REVISION_ID = 0000
/* QUALITY DATA ELEMENTS */
DATA_QUALITY_ID = 1
DATA_QUALITY_DESC = "Data calculated based on original SPICE kernels"
/* TIME DATA ELEMENTS */
SPACECRAFT_CLOCK_START_COUNT = "1/0418366181.07304"
SPACECRAFT_CLOCK_STOP_COUNT = "1/0418366337.28890"
IMAGE_TIME = 2016-08-04T04:50:50.202Z
START_TIME = 2016-08-04T04:50:50.200Z
STOP_TIME = 2016-08-04T04:50:50.205Z
/* ORBITAL DATA ELEMENTS */
ASCENDING_NODE_LONGITUDE = 274.17
MAXIMUM_RESOLUTION = 4.483
FOOTPRINT_POINT_LATITUDE = (48.2266,48.2308,48.2336,48.2381, 48.2429,48.2461,48.2497,48.2523,48.2545 ,48.2574,48.2601,48.2636,48.2661, 48.2689,48.2733,48.2759,48.2781,48.2809 ,48.2831,48.2864,48.2905,48.2938, 48.2962,48.3,48.3024,48.3024,48.3025, 48.3026,48.3026,48.3027,48.3028,48.3028 ,48.3029,48.303,48.303,48.3031,48.3031, 48.3032,48.3033,48.3033,48.3034,48.3035 ,48.3035,48.3036,48.3037,48.3037, 48.3038,48.3038,48.3039,48.304,48.3021, 48.2993,48.2971,48.2939,48.2918,48.2887 ,48.2862,48.2813,48.2782,48.2744,48.271 ,48.2679,48.2635,48.2602,48.2576, 48.2548,48.251,48.248,48.2453,48.2412, 48.2376,48.235,48.2331,48.2308,48.2287, 48.2275,48.2274,48.2273,48.2272,48.2272 ,48.2271,48.2271,48.227,48.2269,48.2269 ,48.2268,48.2268,48.2267,48.2266, 48.2266,48.2265,48.2265,48.2264,48.2263 ,48.2263,48.2262,48.2262,48.2261,48.226 ,48.2266)
FOOTPRINT_POINT_LONGITUDE = (134.191,134.191,134.191,134.191,134.19 ,134.19,134.19,134.19,134.19,134.19, 134.19,134.19,134.19,134.19,134.19, 134.189,134.189,134.189,134.189,134.189 ,134.189,134.189,134.189,134.189, 134.189,134.193,134.198,134.203,134.207 ,134.212,134.216,134.221,134.225,134.23 ,134.235,134.239,134.244,134.248, 134.253,134.258,134.262,134.267,134.271 ,134.276,134.281,134.285,134.29,134.295 ,134.298,134.303,134.306,134.306, 134.306,134.306,134.306,134.306,134.306 ,134.306,134.306,134.306,134.307, 134.307,134.307,134.307,134.307,134.307 ,134.307,134.307,134.307,134.307, 134.308,134.308,134.308,134.308,134.308 ,134.303,134.299,134.292,134.287, 134.282,134.278,134.273,134.269,134.264 ,134.259,134.255,134.25,134.246,134.241 ,134.236,134.232,134.227,134.223, 134.218,134.213,134.209,134.204,134.2, 134.195,134.191)
ORBIT_NUMBER = 15955
ORBITAL_ECCENTRICITY = 0.571
ORBITAL_INCLINATION = 86.94
ORBITAL_SEMIMAJOR_AXIS = 8774.08
PERIAPSIS_ALTITUDE = 383.71
PERIAPSIS_ARGUMENT_ANGLE = 109.21
PERIAPSIS_TIME = 2016-08-04T04:44:55.000Z
SPACECRAFT_ORIENTATION = (0.0,-1.0,0.0)
^MEX_ORIENTATION_DESC = "MEX_ORIENTATION_DESC.TXT"
SPACECRAFT_POINTING_MODE = ACROSSTRACK
^MEX_POINTING_DESC = "MEX_POINTING_DESC.TXT"
RIGHT_ASCENSION = -1e+32
DECLINATION = -1e+32
OFFSET_ANGLE = 0.8
SPACECRAFT_SOLAR_DISTANCE = 2.14048e+08
TARGET_NAME = MARS
/* CAMERA DATA ELEMENTS */
BUFFER_MODE_ID = DIRECT
EXPOSURE_DURATION = 5.04
INST_CMPRS_NAME = NONE
INST_CMPRS_RATIO = 1.0
INST_CMPRS_QUALITY = -2147483648
INST_CMPRS_QUANTZ_TBL_ID = -2147483648
INSTRUMENT_TEMPERATURE = 7.38661
MISSING_FRAMES = 0
START_BIT = 0
/* RADIOMETRIC DATA ELEMENTS */
BANDWIDTH = 250.0
CENTER_FILTER_WAVELENGTH = 600.0
RADIANCE_OFFSET = -9.99e+31
RADIANCE_SCALING_FACTOR = -9.99e+31
REFLECTANCE_SCALING_FACTOR = -9.99e+31
MEX:REFLECTANCE_OFFSET = -9.99e+31
/* IMAGE OBJECT DEFINITIONS */
OBJECT = IMAGE
  INTERCHANGE_FORMAT = BINARY
  LINES = 986
  LINE_SAMPLES = 1005
  SAMPLE_TYPE = UNSIGNED_INTEGER
  SAMPLE_BITS = 8
  BANDS = 1
  BAND_STORAGE_TYPE = BAND_SEQUENTIAL
  MAXIMUM = 255
  MEAN = 238.189
  MINIMUM = 3
  STANDARD_DEVIATION = 5.01931
END_OBJECT = IMAGE
/* MAP OBJECT DEFINITIONS */
OBJECT = IMAGE_MAP_PROJECTION
  ^DATA_SET_MAP_PROJECTION_CATALOG= "DSMAP.CAT"
  A_AXIS_RADIUS = 3396.19
  B_AXIS_RADIUS = 3396.19
  C_AXIS_RADIUS = 3396.19
  CENTER_LATITUDE = 0.0
  CENTER_LONGITUDE = 134.0
  COORDINATE_SYSTEM_NAME = PLANETOGRAPHIC
  COORDINATE_SYSTEM_TYPE = "BODY-FIXED ROTATING"
  EASTERNMOST_LONGITUDE = 134.308
  FIRST_STANDARD_PARALLEL = "N/A"
  LINE_FIRST_PIXEL = 1
  LINE_LAST_PIXEL = 986
  LINE_PROJECTION_OFFSET = 571988.0
  MAP_PROJECTION_ROTATION = 0.0
  MAP_PROJECTION_TYPE = SINUSOIDAL
  MAP_RESOLUTION = 11854.9393024378
  MAP_SCALE = 0.005
  MAXIMUM_LATITUDE = 48.304
  MINIMUM_LATITUDE = 48.226
  POSITIVE_LONGITUDE_DIRECTION = EAST
  REFERENCE_LATITUDE = "N/A"
  REFERENCE_LONGITUDE = "N/A"
  SAMPLE_FIRST_PIXEL = 1
  SAMPLE_LAST_PIXEL = 1005
  SAMPLE_PROJECTION_OFFSET = -1707.0
  SECOND_STANDARD_PARALLEL = "N/A"
  WESTERNMOST_LONGITUDE = 134.189
END_OBJECT = IMAGE_MAP_PROJECTION
/* The JPEG2000 image data file associated with this label. */
OBJECT = COMPRESSED_FILE
  FILE_NAME = "HF955_0006_SR3.JP2"
  RECORD_TYPE = UNDEFINED
  FILE_RECORDS = UNK
  ENCODING_TYPE = "JP2"
  INTERCHANGE_FORMAT = BINARY
  UNCOMPRESSED_FILE_NAME = "HF955_0006_SR3.IMG"
  REQUIRED_STORAGE_BYTES = "1010025"
  ^DESCRIPTION = "JP2INFO.TXT"
END_OBJECT = COMPRESSED_FILE
END
