PDS_VERSION_ID = PDS3
/* FILE DATA ELEMENTS */
RECORD_TYPE = STREAM
/* POINTERS TO DATA OBJECTS */
^COMPRESSED_FILE = "HF955_0019_SR3.JP2"
/* IDENTIFICATION DATA ELEMENTS */
DATA_SET_ID = "MEX-M-HRSC-5-REFDR-MAPPROJECTED-V3.0"
DATA_SET_NAME = "MARS EXPRESS HRSC MAP PROJECTED REFDR V3.0"
DETECTOR_ID = MEX_HRSC_SRC
EVENT_TYPE = "MARS-LOCAL-CARTOGRAPHY-Pf-Tc-Ts"
INSTRUMENT_HOST_ID = MEX
INSTRUMENT_HOST_NAME = "MARS EXPRESS"
INSTRUMENT_ID = HRSC
INSTRUMENT_NAME = "HIGH RESOLUTION STEREO CAMERA"
MISSION_NAME = "MARS EXPRESS"
MISSION_PHASE_NAME = ME_Phase_35
PROCESSING_LEVEL_ID = 3
PRODUCT_CREATION_TIME = 2017-06-29T11:20:52.000Z
PRODUCT_ID = "HF955_0019_SR3.JP2"
RELEASE_ID = 0135
REVISION_ID = 0000
/* QUALITY DATA ELEMENTS */
DATA_QUALITY_ID = 1
DATA_QUALITY_DESC = "Data calculated based on original SPICE kernels"
/* TIME DATA ELEMENTS */
SPACECRAFT_CLOCK_START_COUNT = "1/0418366181.07304"
SPACECRAFT_CLOCK_STOP_COUNT = "1/0418366337.28890"
IMAGE_TIME = 2016-08-04T04:51:04.373Z
START_TIME = 2016-08-04T04:51:04.370Z
STOP_TIME = 2016-08-04T04:51:04.375Z
/* ORBITAL DATA ELEMENTS */
ASCENDING_NODE_LONGITUDE = 274.17
MAXIMUM_RESOLUTION = 4.559
FOOTPRINT_POINT_LATITUDE = (47.3678,47.371,47.3733,47.3762,47.3783 ,47.3814,47.3841,47.3885,47.3928, 47.3959,47.398,47.401,47.4039,47.4075, 47.4109,47.4144,47.4177,47.4217,47.4241 ,47.4264,47.4293,47.4319,47.434,47.4372 ,47.4405,47.4431,47.4432,47.4432, 47.4433,47.4433,47.4434,47.4435,47.4435 ,47.4436,47.4436,47.4437,47.4438, 47.4438,47.4439,47.4439,47.444,47.4441, 47.4441,47.4442,47.4442,47.4443,47.4444 ,47.4444,47.4445,47.4442,47.4422, 47.4391,47.4352,47.4322,47.428,47.4248, 47.4217,47.4194,47.4171,47.4137,47.411, 47.4056,47.4018,47.3982,47.3958,47.3922 ,47.3892,47.386,47.3836,47.3801,47.3769 ,47.3748,47.3722,47.368,47.3668,47.3667 ,47.3666,47.3666,47.3665,47.3665, 47.3664,47.3664,47.3663,47.3663,47.3662 ,47.3661,47.3661,47.366,47.366,47.3659, 47.3659,47.3658,47.3657,47.3657,47.3656 ,47.3656,47.3655,47.3655,47.3654, 47.3678)
FOOTPRINT_POINT_LONGITUDE = (134.214,134.214,134.213,134.213, 134.213,134.213,134.213,134.213,134.213 ,134.213,134.213,134.213,134.213, 134.212,134.212,134.212,134.212,134.212 ,134.212,134.212,134.212,134.212, 134.212,134.212,134.212,134.215,134.22, 134.224,134.229,134.233,134.238,134.243 ,134.247,134.252,134.256,134.261, 134.266,134.27,134.275,134.279,134.284, 134.289,134.293,134.299,134.303,134.308 ,134.313,134.317,134.322,134.328, 134.328,134.328,134.329,134.329,134.329 ,134.329,134.329,134.329,134.329, 134.329,134.329,134.329,134.329,134.33, 134.33,134.33,134.33,134.33,134.33, 134.33,134.33,134.33,134.33,134.33, 134.327,134.322,134.318,134.313,134.308 ,134.304,134.299,134.294,134.289, 134.284,134.28,134.275,134.271,134.266, 134.261,134.257,134.252,134.248,134.243 ,134.238,134.234,134.229,134.225,134.22 ,134.215,134.214)
ORBIT_NUMBER = 15955
ORBITAL_ECCENTRICITY = 0.571
ORBITAL_INCLINATION = 86.94
ORBITAL_SEMIMAJOR_AXIS = 8774.08
PERIAPSIS_ALTITUDE = 383.71
PERIAPSIS_ARGUMENT_ANGLE = 109.21
PERIAPSIS_TIME = 2016-08-04T04:44:55.000Z
SPACECRAFT_ORIENTATION = (0.0,-1.0,0.0)
^MEX_ORIENTATION_DESC = "MEX_ORIENTATION_DESC.TXT"
SPACECRAFT_POINTING_MODE = ACROSSTRACK
^MEX_POINTING_DESC = "MEX_POINTING_DESC.TXT"
RIGHT_ASCENSION = -1e+32
DECLINATION = -1e+32
OFFSET_ANGLE = 0.8
SPACECRAFT_SOLAR_DISTANCE = 2.14048e+08
TARGET_NAME = MARS
/* CAMERA DATA ELEMENTS */
BUFFER_MODE_ID = DIRECT
EXPOSURE_DURATION = 5.04
INST_CMPRS_NAME = NONE
INST_CMPRS_RATIO = 1.0
INST_CMPRS_QUALITY = -2147483648
INST_CMPRS_QUANTZ_TBL_ID = -2147483648
INSTRUMENT_TEMPERATURE = 7.72207
MISSING_FRAMES = 0
START_BIT = 0
/* RADIOMETRIC DATA ELEMENTS */
BANDWIDTH = 250.0
CENTER_FILTER_WAVELENGTH = 600.0
RADIANCE_OFFSET = -9.99e+31
RADIANCE_SCALING_FACTOR = -9.99e+31
REFLECTANCE_SCALING_FACTOR = -9.99e+31
MEX:REFLECTANCE_OFFSET = -9.99e+31
/* IMAGE OBJECT DEFINITIONS */
OBJECT = IMAGE
  INTERCHANGE_FORMAT = BINARY
  LINES = 999
  LINE_SAMPLES = 1019
  SAMPLE_TYPE = UNSIGNED_INTEGER
  SAMPLE_BITS = 8
  BANDS = 1
  BAND_STORAGE_TYPE = BAND_SEQUENTIAL
  MAXIMUM = 252
  MEAN = 236.72
  MINIMUM = 3
  STANDARD_DEVIATION = 5.24375
END_OBJECT = IMAGE
/* MAP OBJECT DEFINITIONS */
OBJECT = IMAGE_MAP_PROJECTION
  ^DATA_SET_MAP_PROJECTION_CATALOG= "DSMAP.CAT"
  A_AXIS_RADIUS = 3396.19
  B_AXIS_RADIUS = 3396.19
  C_AXIS_RADIUS = 3396.19
  CENTER_LATITUDE = 0.0
  CENTER_LONGITUDE = 134.0
  COORDINATE_SYSTEM_NAME = PLANETOGRAPHIC
  COORDINATE_SYSTEM_TYPE = "BODY-FIXED ROTATING"
  EASTERNMOST_LONGITUDE = 134.33
  FIRST_STANDARD_PARALLEL = "N/A"
  LINE_FIRST_PIXEL = 1
  LINE_LAST_PIXEL = 999
  LINE_PROJECTION_OFFSET = 561831.0
  MAP_PROJECTION_ROTATION = 0.0
  MAP_PROJECTION_TYPE = SINUSOIDAL
  MAP_RESOLUTION = 11854.9393024378
  MAP_SCALE = 0.005
  MAXIMUM_LATITUDE = 47.4445
  MINIMUM_LATITUDE = 47.3654
  POSITIVE_LONGITUDE_DIRECTION = EAST
  REFERENCE_LATITUDE = "N/A"
  REFERENCE_LONGITUDE = "N/A"
  SAMPLE_FIRST_PIXEL = 1
  SAMPLE_LAST_PIXEL = 1019
  SAMPLE_PROJECTION_OFFSET = -1903.0
  SECOND_STANDARD_PARALLEL = "N/A"
  WESTERNMOST_LONGITUDE = 134.212
END_OBJECT = IMAGE_MAP_PROJECTION
/* The JPEG2000 image data file associated with this label. */
OBJECT = COMPRESSED_FILE
  FILE_NAME = "HF955_0019_SR3.JP2"
  RECORD_TYPE = UNDEFINED
  FILE_RECORDS = UNK
  ENCODING_TYPE = "JP2"
  INTERCHANGE_FORMAT = BINARY
  UNCOMPRESSED_FILE_NAME = "HF955_0019_SR3.IMG"
  REQUIRED_STORAGE_BYTES = "1036323"
  ^DESCRIPTION = "JP2INFO.TXT"
END_OBJECT = COMPRESSED_FILE
END
