PDS_VERSION_ID = PDS3
/* FILE DATA ELEMENTS */
RECORD_TYPE = STREAM
/* POINTERS TO DATA OBJECTS */
^COMPRESSED_FILE = "HF955_0023_SR3.JP2"
/* IDENTIFICATION DATA ELEMENTS */
DATA_SET_ID = "MEX-M-HRSC-5-REFDR-MAPPROJECTED-V3.0"
DATA_SET_NAME = "MARS EXPRESS HRSC MAP PROJECTED REFDR V3.0"
DETECTOR_ID = MEX_HRSC_SRC
EVENT_TYPE = "MARS-LOCAL-CARTOGRAPHY-Pf-Tc-Ts"
INSTRUMENT_HOST_ID = MEX
INSTRUMENT_HOST_NAME = "MARS EXPRESS"
INSTRUMENT_ID = HRSC
INSTRUMENT_NAME = "HIGH RESOLUTION STEREO CAMERA"
MISSION_NAME = "MARS EXPRESS"
MISSION_PHASE_NAME = ME_Phase_35
PROCESSING_LEVEL_ID = 3
PRODUCT_CREATION_TIME = 2017-06-29T11:20:52.000Z
PRODUCT_ID = "HF955_0023_SR3.JP2"
RELEASE_ID = 0135
REVISION_ID = 0000
/* QUALITY DATA ELEMENTS */
DATA_QUALITY_ID = 1
DATA_QUALITY_DESC = "Data calculated based on original SPICE kernels"
/* TIME DATA ELEMENTS */
SPACECRAFT_CLOCK_START_COUNT = "1/0418366181.07304"
SPACECRAFT_CLOCK_STOP_COUNT = "1/0418366337.28890"
IMAGE_TIME = 2016-08-04T04:51:08.733Z
START_TIME = 2016-08-04T04:51:08.730Z
STOP_TIME = 2016-08-04T04:51:08.735Z
/* ORBITAL DATA ELEMENTS */
ASCENDING_NODE_LONGITUDE = 274.17
MAXIMUM_RESOLUTION = 4.582
FOOTPRINT_POINT_LATITUDE = (47.1048,47.1085,47.1115,47.115,47.1176 ,47.1209,47.1242,47.1266,47.1297, 47.1341,47.1378,47.1401,47.1431,47.1469 ,47.1492,47.1528,47.1555,47.1579, 47.1614,47.1634,47.1666,47.169,47.1721, 47.1748,47.1775,47.1795,47.1795,47.1796 ,47.1796,47.1797,47.1798,47.1798, 47.1799,47.1799,47.18,47.1801,47.1801, 47.1802,47.1802,47.1803,47.1803,47.1804 ,47.1805,47.1805,47.1806,47.1806, 47.1807,47.1808,47.1808,47.1809,47.1797 ,47.177,47.1729,47.167,47.1633,47.1603, 47.1581,47.1562,47.1535,47.1498,47.1454 ,47.1423,47.1394,47.1368,47.1326, 47.1304,47.1271,47.1232,47.1186,47.116, 47.1114,47.1083,47.1057,47.1027,47.1027 ,47.1026,47.1026,47.1025,47.1025, 47.1024,47.1023,47.1023,47.1023,47.1022 ,47.1021,47.1021,47.102,47.102,47.1019, 47.1019,47.1018,47.1018,47.1017,47.1016 ,47.1016,47.1015,47.1015,47.1014, 47.1014,47.1048)
FOOTPRINT_POINT_LONGITUDE = (134.22,134.22,134.22,134.22,134.22, 134.219,134.219,134.219,134.219,134.219 ,134.219,134.219,134.219,134.219, 134.219,134.219,134.219,134.219,134.219 ,134.219,134.219,134.218,134.218, 134.218,134.218,134.219,134.224,134.229 ,134.233,134.238,134.242,134.247, 134.252,134.256,134.261,134.265,134.27, 134.275,134.279,134.284,134.288,134.293 ,134.299,134.303,134.308,134.312, 134.317,134.322,134.326,134.331,134.335 ,134.335,134.335,134.335,134.335, 134.336,134.336,134.336,134.336,134.336 ,134.336,134.336,134.336,134.336, 134.336,134.336,134.336,134.336,134.336 ,134.336,134.336,134.337,134.337, 134.337,134.331,134.326,134.322,134.317 ,134.312,134.308,134.303,134.299, 134.295,134.291,134.286,134.281,134.277 ,134.272,134.268,134.263,134.259, 134.254,134.249,134.245,134.24,134.236, 134.231,134.226,134.222,134.22)
ORBIT_NUMBER = 15955
ORBITAL_ECCENTRICITY = 0.571
ORBITAL_INCLINATION = 86.94
ORBITAL_SEMIMAJOR_AXIS = 8774.08
PERIAPSIS_ALTITUDE = 383.71
PERIAPSIS_ARGUMENT_ANGLE = 109.21
PERIAPSIS_TIME = 2016-08-04T04:44:55.000Z
SPACECRAFT_ORIENTATION = (0.0,-1.0,0.0)
^MEX_ORIENTATION_DESC = "MEX_ORIENTATION_DESC.TXT"
SPACECRAFT_POINTING_MODE = ACROSSTRACK
^MEX_POINTING_DESC = "MEX_POINTING_DESC.TXT"
RIGHT_ASCENSION = -1e+32
DECLINATION = -1e+32
OFFSET_ANGLE = 0.8
SPACECRAFT_SOLAR_DISTANCE = 2.14048e+08
TARGET_NAME = MARS
/* CAMERA DATA ELEMENTS */
BUFFER_MODE_ID = DIRECT
EXPOSURE_DURATION = 5.04
INST_CMPRS_NAME = NONE
INST_CMPRS_RATIO = 1.0
INST_CMPRS_QUALITY = -2147483648
INST_CMPRS_QUANTZ_TBL_ID = -2147483648
INSTRUMENT_TEMPERATURE = 7.82529
MISSING_FRAMES = 0
START_BIT = 0
/* RADIOMETRIC DATA ELEMENTS */
BANDWIDTH = 250.0
CENTER_FILTER_WAVELENGTH = 600.0
RADIANCE_OFFSET = -9.99e+31
RADIANCE_SCALING_FACTOR = -9.99e+31
REFLECTANCE_SCALING_FACTOR = -9.99e+31
MEX:REFLECTANCE_OFFSET = -9.99e+31
/* IMAGE OBJECT DEFINITIONS */
OBJECT = IMAGE
  INTERCHANGE_FORMAT = BINARY
  LINES = 1004
  LINE_SAMPLES = 1023
  SAMPLE_TYPE = UNSIGNED_INTEGER
  SAMPLE_BITS = 8
  BANDS = 1
  BAND_STORAGE_TYPE = BAND_SEQUENTIAL
  MAXIMUM = 252
  MEAN = 238.19
  MINIMUM = 3
  STANDARD_DEVIATION = 5.0235
END_OBJECT = IMAGE
/* MAP OBJECT DEFINITIONS */
OBJECT = IMAGE_MAP_PROJECTION
  ^DATA_SET_MAP_PROJECTION_CATALOG= "DSMAP.CAT"
  A_AXIS_RADIUS = 3396.19
  B_AXIS_RADIUS = 3396.19
  C_AXIS_RADIUS = 3396.19
  CENTER_LATITUDE = 0.0
  CENTER_LONGITUDE = 134.0
  COORDINATE_SYSTEM_NAME = PLANETOGRAPHIC
  COORDINATE_SYSTEM_TYPE = "BODY-FIXED ROTATING"
  EASTERNMOST_LONGITUDE = 134.337
  FIRST_STANDARD_PARALLEL = "N/A"
  LINE_FIRST_PIXEL = 1
  LINE_LAST_PIXEL = 1004
  LINE_PROJECTION_OFFSET = 558715.0
  MAP_PROJECTION_ROTATION = 0.0
  MAP_PROJECTION_TYPE = SINUSOIDAL
  MAP_RESOLUTION = 11854.9393024378
  MAP_SCALE = 0.005
  MAXIMUM_LATITUDE = 47.1809
  MINIMUM_LATITUDE = 47.1014
  POSITIVE_LONGITUDE_DIRECTION = EAST
  REFERENCE_LATITUDE = "N/A"
  REFERENCE_LONGITUDE = "N/A"
  SAMPLE_FIRST_PIXEL = 1
  SAMPLE_LAST_PIXEL = 1023
  SAMPLE_PROJECTION_OFFSET = -1962.0
  SECOND_STANDARD_PARALLEL = "N/A"
  WESTERNMOST_LONGITUDE = 134.218
END_OBJECT = IMAGE_MAP_PROJECTION
/* The JPEG2000 image data file associated with this label. */
OBJECT = COMPRESSED_FILE
  FILE_NAME = "HF955_0023_SR3.JP2"
  RECORD_TYPE = UNDEFINED
  FILE_RECORDS = UNK
  ENCODING_TYPE = "JP2"
  INTERCHANGE_FORMAT = BINARY
  UNCOMPRESSED_FILE_NAME = "HF955_0023_SR3.IMG"
  REQUIRED_STORAGE_BYTES = "1045506"
  ^DESCRIPTION = "JP2INFO.TXT"
END_OBJECT = COMPRESSED_FILE
END
