PDS_VERSION_ID = PDS3
/* FILE DATA ELEMENTS */
RECORD_TYPE = STREAM
/* POINTERS TO DATA OBJECTS */
^COMPRESSED_FILE = "HF956_0000_ND3.JP2"
/* IDENTIFICATION DATA ELEMENTS */
DATA_SET_ID = "MEX-M-HRSC-5-REFDR-MAPPROJECTED-V3.0"
DATA_SET_NAME = "MARS EXPRESS HRSC MAP PROJECTED REFDR V3.0"
DETECTOR_ID = MEX_HRSC_NADIR
EVENT_TYPE = "MARS-LOCAL-STEREO-Im-Fl-Pf"
INSTRUMENT_HOST_ID = MEX
INSTRUMENT_HOST_NAME = "MARS EXPRESS"
INSTRUMENT_ID = HRSC
INSTRUMENT_NAME = "HIGH RESOLUTION STEREO CAMERA"
MISSION_NAME = "MARS EXPRESS"
MISSION_PHASE_NAME = ME_Phase_35
PROCESSING_LEVEL_ID = 3
PRODUCT_CREATION_TIME = 2017-06-29T11:20:52.000Z
PRODUCT_ID = "HF956_0000_ND3.JP2"
RELEASE_ID = 0135
REVISION_ID = 0000
/* QUALITY DATA ELEMENTS */
DATA_QUALITY_ID = 1
DATA_QUALITY_DESC = "Data calculated based on original SPICE kernels"
/* TIME DATA ELEMENTS */
SPACECRAFT_CLOCK_START_COUNT = "1/0418391125.07306"
SPACECRAFT_CLOCK_STOP_COUNT = "1/0418391371.14671"
START_TIME = 2016-08-04T11:46:08.361Z
STOP_TIME = 2016-08-04T11:48:53.375Z
/* ORBITAL DATA ELEMENTS */
ASCENDING_NODE_LONGITUDE = 274.14
MAXIMUM_RESOLUTION = 15.7
FOOTPRINT_POINT_LATITUDE = (64.8249,64.8022,64.7776,64.7513, 64.7232,64.6931,64.3637,64.1603,63.9568 ,63.7533,63.5499,63.3465,63.1431, 62.9397,62.7364,62.5331,62.3298,62.1265 ,61.9233,61.7202,61.314,60.908,60.5023, 60.0968,59.6915,59.2866,58.8819,58.572, 58.3644,58.157,57.9497,57.7424,57.5353, 57.3283,57.1213,56.9145,56.7028,56.4908 ,56.2789,56.0671,55.8554,55.6439, 55.4325,55.2212,55.005,54.7886,54.5723, 54.3457,54.3643,54.3828,54.3998,54.4184 ,54.4333,54.4465,54.6636,54.8808, 55.0982,55.4221,55.6345,55.847,56.0596, 56.2723,56.4852,56.6983,56.9114,57.1221 ,57.33,57.5381,57.7463,57.9546,58.163, 58.3716,58.5802,58.7889,58.9968,59.4038 ,59.8112,60.2189,60.627,60.8311,61.0354 ,61.2397,61.4441,61.6485,61.853,62.0576 ,62.2623,62.467,62.6718,62.8766,63.0815 ,63.2864,63.4914,63.6965,63.9016, 64.1067,64.3119,64.5171,64.7224, 64.8249)
FOOTPRINT_POINT_LONGITUDE = (28.1257,27.6456,27.1619,26.6754, 26.1857,25.692,25.3862,25.4555,25.5232, 25.5897,25.6547,25.7186,25.7813,25.8428 ,25.9033,25.9624,26.0207,26.0774, 26.1331,26.1888,26.2953,26.398,26.4971, 26.5928,26.6849,26.7737,26.8594,26.923, 26.9646,27.0054,27.0453,27.0849,27.1236 ,27.1617,27.1991,27.2357,27.2721, 27.3081,27.3434,27.378,27.412,27.445, 27.478,27.5102,27.5424,27.5737,27.6046, 27.8522,28.227,28.6253,29.0209,29.4929, 29.909,30.3094,30.2845,30.2592,30.2335, 30.1945,30.1685,30.142,30.1152,30.0879, 30.0602,30.0321,30.0035,29.9748,29.9461 ,29.9169,29.8873,29.8572,29.8267, 29.7956,29.7641,29.7321,29.6997,29.6348 ,29.5679,29.4988,29.4274,29.3909, 29.3538,29.316,29.2777,29.2387,29.199, 29.1587,29.1177,29.0761,29.0337,28.9906 ,28.9467,28.9021,28.8567,28.8105, 28.7635,28.7157,28.667,28.6175,28.567, 28.1257)
ORBIT_NUMBER = 15956
ORBITAL_ECCENTRICITY = 0.571
ORBITAL_INCLINATION = 86.94
ORBITAL_SEMIMAJOR_AXIS = 8774.2
PERIAPSIS_ALTITUDE = 383.72
PERIAPSIS_ARGUMENT_ANGLE = 109.03
PERIAPSIS_TIME = 2016-08-04T11:44:35.000Z
SPACECRAFT_ORIENTATION = (0.0,-1.0,0.0)
^MEX_ORIENTATION_DESC = "MEX_ORIENTATION_DESC.TXT"
SPACECRAFT_POINTING_MODE = ACROSSTRACK
^MEX_POINTING_DESC = "MEX_POINTING_DESC.TXT"
RIGHT_ASCENSION = -1e+32
DECLINATION = -1e+32
OFFSET_ANGLE = -0.7
SPACECRAFT_SOLAR_DISTANCE = 2.14003e+08
TARGET_NAME = MARS
/* CAMERA DATA ELEMENTS */
DETECTOR_TEMPERATURE = 18.3705
FOCAL_PLANE_TEMPERATURE = 8.9911
INST_CMPRS_NAME = "DISCRETE COSINE TRANSFORMATION (DCT)"
INST_CMPRS_RATIO = 6.61213
INST_CMPRS_QUALITY = 0
INST_CMPRS_QUANTZ_TBL_ID = 0
INSTRUMENT_TEMPERATURE = 12.0496
LENS_TEMPERATURE = 9.3989
MACROPIXEL_SIZE = 1
MISSING_FRAMES = 0
PIXEL_SUBSAMPLING_FLAG = N
SIGNAL_CHAIN_ID = 0
/* RADIOMETRIC DATA ELEMENTS */
BANDWIDTH = 177.0
CENTER_FILTER_WAVELENGTH = 677.5
RADIANCE_OFFSET = 3.08731
RADIANCE_SCALING_FACTOR = 0.00766783
REFLECTANCE_SCALING_FACTOR = 0.00018655
MEX:REFLECTANCE_OFFSET = 0.0751108
/* IMAGE OBJECT DEFINITIONS */
OBJECT = IMAGE
  INTERCHANGE_FORMAT = BINARY
  LINES = 49813
  LINE_SAMPLES = 11823
  SAMPLE_TYPE = UNSIGNED_INTEGER
  SAMPLE_BITS = 8
  BANDS = 1
  BAND_STORAGE_TYPE = BAND_SEQUENTIAL
  MAXIMUM = 255
  MEAN = 122.203
  MINIMUM = 1
  STANDARD_DEVIATION = 40.7962
END_OBJECT = IMAGE
/* MAP OBJECT DEFINITIONS */
OBJECT = IMAGE_MAP_PROJECTION
  ^DATA_SET_MAP_PROJECTION_CATALOG= "DSMAP.CAT"
  A_AXIS_RADIUS = 3396.0
  B_AXIS_RADIUS = 3396.0
  C_AXIS_RADIUS = 3396.0
  CENTER_LATITUDE = 0.0
  CENTER_LONGITUDE = 28.0
  COORDINATE_SYSTEM_NAME = PLANETOGRAPHIC
  COORDINATE_SYSTEM_TYPE = "BODY-FIXED ROTATING"
  EASTERNMOST_LONGITUDE = 30.3094
  FIRST_STANDARD_PARALLEL = "N/A"
  LINE_FIRST_PIXEL = 1
  LINE_LAST_PIXEL = 49813
  LINE_PROJECTION_OFFSET = 307468.0
  MAP_PROJECTION_ROTATION = 0.0
  MAP_PROJECTION_TYPE = SINUSOIDAL
  MAP_RESOLUTION = 4741.71043093333
  MAP_SCALE = 0.0125
  MAXIMUM_LATITUDE = 64.8249
  MINIMUM_LATITUDE = 54.3457
  POSITIVE_LONGITUDE_DIRECTION = EAST
  REFERENCE_LATITUDE = "N/A"
  REFERENCE_LONGITUDE = "N/A"
  SAMPLE_FIRST_PIXEL = 1
  SAMPLE_LAST_PIXEL = 11823
  SAMPLE_PROJECTION_OFFSET = 5461.0
  SECOND_STANDARD_PARALLEL = "N/A"
  WESTERNMOST_LONGITUDE = 25.3862
END_OBJECT = IMAGE_MAP_PROJECTION
/* The JPEG2000 image data file associated with this label. */
OBJECT = COMPRESSED_FILE
  FILE_NAME = "HF956_0000_ND3.JP2"
  RECORD_TYPE = UNDEFINED
  FILE_RECORDS = UNK
  ENCODING_TYPE = "JP2"
  INTERCHANGE_FORMAT = BINARY
  UNCOMPRESSED_FILE_NAME = "HF956_0000_ND3.IMG"
  REQUIRED_STORAGE_BYTES = "588974568"
  ^DESCRIPTION = "JP2INFO.TXT"
END_OBJECT = COMPRESSED_FILE
END
