PDS_VERSION_ID = PDS3
/* FILE DATA ELEMENTS */
RECORD_TYPE = STREAM
/* POINTERS TO DATA OBJECTS */
^COMPRESSED_FILE = "HF956_0000_P13.JP2"
/* IDENTIFICATION DATA ELEMENTS */
DATA_SET_ID = "MEX-M-HRSC-5-REFDR-MAPPROJECTED-V3.0"
DATA_SET_NAME = "MARS EXPRESS HRSC MAP PROJECTED REFDR V3.0"
DETECTOR_ID = MEX_HRSC_P1
EVENT_TYPE = "MARS-LOCAL-STEREO-Im-Fl-Pf"
INSTRUMENT_HOST_ID = MEX
INSTRUMENT_HOST_NAME = "MARS EXPRESS"
INSTRUMENT_ID = HRSC
INSTRUMENT_NAME = "HIGH RESOLUTION STEREO CAMERA"
MISSION_NAME = "MARS EXPRESS"
MISSION_PHASE_NAME = ME_Phase_35
PROCESSING_LEVEL_ID = 3
PRODUCT_CREATION_TIME = 2017-06-29T11:20:52.000Z
PRODUCT_ID = "HF956_0000_P13.JP2"
RELEASE_ID = 0135
REVISION_ID = 0000
/* QUALITY DATA ELEMENTS */
DATA_QUALITY_ID = 1
DATA_QUALITY_DESC = "Data calculated based on original SPICE kernels"
/* TIME DATA ELEMENTS */
SPACECRAFT_CLOCK_START_COUNT = "1/0418391125.07306"
SPACECRAFT_CLOCK_STOP_COUNT = "1/0418391371.14671"
START_TIME = 2016-08-04T11:45:44.994Z
STOP_TIME = 2016-08-04T11:48:26.891Z
/* ORBITAL DATA ELEMENTS */
ASCENDING_NODE_LONGITUDE = 274.14
MAXIMUM_RESOLUTION = 32
FOOTPRINT_POINT_LATITUDE = (64.903,64.8746,64.8443,64.8122,64.778, 64.7254,64.5316,64.2278,64.025,63.7207, 63.5178,63.3149,63.0103,62.8073,62.604, 62.2992,62.0959,61.8924,61.6894,61.4858 ,61.2823,61.0789,60.8753,60.6717, 60.3665,60.163,59.9593,59.7558,59.5522, 59.3485,59.1408,58.9374,58.7338,58.4283 ,58.2247,58.0211,57.8177,57.6142,57.305 ,57.0985,56.8895,56.6803,56.4713, 56.2625,56.0534,55.8446,55.6355,55.4267 ,55.1101,54.8958,54.6819,54.4676, 54.3525,54.3831,54.4084,54.4344,54.4544 ,54.7877,55.0029,55.2179,55.4322,55.642 ,55.8518,56.0618,56.3766,56.6916, 57.0067,57.2168,57.4258,57.7366,57.9414 ,58.1459,58.453,58.6577,58.8625,59.1697 ,59.4809,59.6858,59.8908,60.198,60.4027 ,60.6077,60.8126,61.0173,61.2222, 61.4272,61.632,61.9391,62.2464,62.5535, 62.7584,63.0653,63.3724,63.5771,63.884, 64.0886,64.2929,64.4974,64.8041,64.903)
FOOTPRINT_POINT_LONGITUDE = (28.0481,27.5802,27.1091,26.6355, 26.1593,25.4686,25.3426,25.4478,25.5161 ,25.6162,25.6814,25.7454,25.8392, 25.9005,25.9602,26.0482,26.1054,26.1613 ,26.2171,26.2709,26.3241,26.3764, 26.4276,26.4779,26.552,26.6002,26.6474, 26.694,26.7396,26.7844,26.8293,26.8728, 26.9154,26.9776,27.0183,27.0582,27.0976 ,27.1363,27.1937,27.2316,27.2686, 27.3049,27.3406,27.3759,27.4102,27.4442 ,27.477,27.5098,27.5584,27.5902,27.6218 ,27.6523,28.2882,28.7703,29.1985,29.674 ,30.0712,30.2412,30.2163,30.191,30.1654 ,30.1401,30.1143,30.0881,30.0482, 30.0073,29.9655,29.9371,29.9084,29.8649 ,29.8357,29.8061,29.7608,29.7301, 29.6989,29.6511,29.6016,29.5684,29.5346 ,29.483,29.4479,29.4123,29.3761,29.3393 ,29.3019,29.2639,29.2253,29.1662, 29.1056,29.0435,29.0013,28.9366,28.8702 ,28.825,28.7558,28.7086,28.6606,28.6118 ,28.537,28.0481)
ORBIT_NUMBER = 15956
ORBITAL_ECCENTRICITY = 0.571
ORBITAL_INCLINATION = 86.94
ORBITAL_SEMIMAJOR_AXIS = 8774.2
PERIAPSIS_ALTITUDE = 383.72
PERIAPSIS_ARGUMENT_ANGLE = 109.03
PERIAPSIS_TIME = 2016-08-04T11:44:35.000Z
SPACECRAFT_ORIENTATION = (0.0,-1.0,0.0)
^MEX_ORIENTATION_DESC = "MEX_ORIENTATION_DESC.TXT"
SPACECRAFT_POINTING_MODE = ACROSSTRACK
^MEX_POINTING_DESC = "MEX_POINTING_DESC.TXT"
RIGHT_ASCENSION = -1e+32
DECLINATION = -1e+32
OFFSET_ANGLE = -0.7
SPACECRAFT_SOLAR_DISTANCE = 2.14003e+08
TARGET_NAME = MARS
/* CAMERA DATA ELEMENTS */
DETECTOR_TEMPERATURE = 17.5549
FOCAL_PLANE_TEMPERATURE = 8.9911
INST_CMPRS_NAME = "DISCRETE COSINE TRANSFORMATION (DCT)"
INST_CMPRS_RATIO = 10.6607
INST_CMPRS_QUALITY = 0
INST_CMPRS_QUANTZ_TBL_ID = 0
INSTRUMENT_TEMPERATURE = 12.0496
LENS_TEMPERATURE = 9.3989
MACROPIXEL_SIZE = 2
MISSING_FRAMES = 2
PIXEL_SUBSAMPLING_FLAG = N
SIGNAL_CHAIN_ID = 3
/* RADIOMETRIC DATA ELEMENTS */
BANDWIDTH = 174.0
CENTER_FILTER_WAVELENGTH = 675.0
RADIANCE_OFFSET = 3.46482
RADIANCE_SCALING_FACTOR = 0.00768769
REFLECTANCE_SCALING_FACTOR = 0.000189374
MEX:REFLECTANCE_OFFSET = 0.0853503
/* IMAGE OBJECT DEFINITIONS */
OBJECT = IMAGE
  INTERCHANGE_FORMAT = BINARY
  LINES = 24907
  LINE_SAMPLES = 5912
  SAMPLE_TYPE = UNSIGNED_INTEGER
  SAMPLE_BITS = 8
  BANDS = 1
  BAND_STORAGE_TYPE = BAND_SEQUENTIAL
  MAXIMUM = 255
  MEAN = 130.344
  MINIMUM = 1
  STANDARD_DEVIATION = 40.466
END_OBJECT = IMAGE
/* MAP OBJECT DEFINITIONS */
OBJECT = IMAGE_MAP_PROJECTION
  ^DATA_SET_MAP_PROJECTION_CATALOG= "DSMAP.CAT"
  A_AXIS_RADIUS = 3396.0
  B_AXIS_RADIUS = 3396.0
  C_AXIS_RADIUS = 3396.0
  CENTER_LATITUDE = 0.0
  CENTER_LONGITUDE = 28.0
  COORDINATE_SYSTEM_NAME = PLANETOGRAPHIC
  COORDINATE_SYSTEM_TYPE = "BODY-FIXED ROTATING"
  EASTERNMOST_LONGITUDE = 30.2412
  FIRST_STANDARD_PARALLEL = "N/A"
  LINE_FIRST_PIXEL = 1
  LINE_LAST_PIXEL = 24907
  LINE_PROJECTION_OFFSET = 153733.75
  MAP_PROJECTION_ROTATION = 0.0
  MAP_PROJECTION_TYPE = SINUSOIDAL
  MAP_RESOLUTION = 2370.85521546667
  MAP_SCALE = 0.025
  MAXIMUM_LATITUDE = 64.90300000000001
  MINIMUM_LATITUDE = 54.3525
  POSITIVE_LONGITUDE_DIRECTION = EAST
  REFERENCE_LATITUDE = "N/A"
  REFERENCE_LONGITUDE = "N/A"
  SAMPLE_FIRST_PIXEL = 1
  SAMPLE_LAST_PIXEL = 5912
  SAMPLE_PROJECTION_OFFSET = 2730.25
  SECOND_STANDARD_PARALLEL = "N/A"
  WESTERNMOST_LONGITUDE = 25.3426
END_OBJECT = IMAGE_MAP_PROJECTION
/* The JPEG2000 image data file associated with this label. */
OBJECT = COMPRESSED_FILE
  FILE_NAME = "HF956_0000_P13.JP2"
  RECORD_TYPE = UNDEFINED
  FILE_RECORDS = UNK
  ENCODING_TYPE = "JP2"
  INTERCHANGE_FORMAT = BINARY
  UNCOMPRESSED_FILE_NAME = "HF956_0000_P13.IMG"
  REQUIRED_STORAGE_BYTES = "147279744"
  ^DESCRIPTION = "JP2INFO.TXT"
END_OBJECT = COMPRESSED_FILE
END
