PDS_VERSION_ID = PDS3
/* FILE DATA ELEMENTS */
RECORD_TYPE = STREAM
/* POINTERS TO DATA OBJECTS */
^COMPRESSED_FILE = "HF959_0000_RE3.JP2"
/* IDENTIFICATION DATA ELEMENTS */
DATA_SET_ID = "MEX-M-HRSC-5-REFDR-MAPPROJECTED-V3.0"
DATA_SET_NAME = "MARS EXPRESS HRSC MAP PROJECTED REFDR V3.0"
DETECTOR_ID = MEX_HRSC_RED
EVENT_TYPE = "MARS-REGIONAL-MAPPING-Im-Gl-Pf"
INSTRUMENT_HOST_ID = MEX
INSTRUMENT_HOST_NAME = "MARS EXPRESS"
INSTRUMENT_ID = HRSC
INSTRUMENT_NAME = "HIGH RESOLUTION STEREO CAMERA"
MISSION_NAME = "MARS EXPRESS"
MISSION_PHASE_NAME = ME_Phase_35
PROCESSING_LEVEL_ID = 3
PRODUCT_CREATION_TIME = 2017-06-29T11:20:52.000Z
PRODUCT_ID = "HF959_0000_RE3.JP2"
RELEASE_ID = 0135
REVISION_ID = 0000
/* QUALITY DATA ELEMENTS */
DATA_QUALITY_ID = 1
DATA_QUALITY_DESC = "Data calculated based on original SPICE kernels"
/* TIME DATA ELEMENTS */
SPACECRAFT_CLOCK_START_COUNT = "1/0418466697.07345"
SPACECRAFT_CLOCK_STOP_COUNT = "1/0418466929.56572"
START_TIME = 2016-08-05T08:46:11.502Z
STOP_TIME = 2016-08-05T08:48:47.836Z
/* ORBITAL DATA ELEMENTS */
ASCENDING_NODE_LONGITUDE = 274.08
MAXIMUM_RESOLUTION = 67.3
FOOTPRINT_POINT_LATITUDE = (63.814,63.8003,63.7851,63.7686,63.7507 ,63.6337,63.3596,63.1773,62.9949, 62.7215,62.5394,62.3575,62.1757,61.8126 ,61.4497,61.1716,60.9858,60.7076, 60.5221,60.3368,60.1517,59.8741,59.5968 ,59.4092,59.22,59.0307,58.7481,58.5595, 58.3706,58.088,57.9001,57.7076,57.5152, 57.3227,57.131,56.9389,56.7474,56.4601, 56.2645,56.0691,55.7762,55.5812,55.3864 ,55.1916,54.9939,54.795,54.5963,54.3982 ,54.3921,54.4041,54.4183,54.4273,54.433 ,54.4384,54.7376,54.9371,55.2364, 55.4319,55.628,55.8242,56.0203,56.217, 56.4135,56.6085,56.8004,56.9932,57.1862 ,57.3792,57.5726,57.7661,57.9597, 58.1487,58.3378,58.5273,58.7168,58.9066 ,59.097,59.2873,59.4777,59.6668,59.8528 ,60.0388,60.3182,60.5045,60.6911, 60.8779,61.0648,61.2519,61.532,61.7148, 61.8975,62.0803,62.2631,62.538,62.8134, 62.997,63.272,63.4563,63.7326,63.814)
FOOTPRINT_POINT_LONGITUDE = (80.9139,80.4573,79.9966,79.5323, 79.0638,78.3358,78.4251,78.483,78.54, 78.624,78.6786,78.7321,78.7848,78.8871, 78.9866,79.0607,79.1088,79.179,79.2254, 79.2706,79.3152,79.3808,79.4449,79.4872 ,79.529,79.5705,79.6297,79.6692,79.7087 ,79.766,79.803,79.8404,79.877,79.9134, 79.9482,79.9834,80.0174,80.0677,80.1009 ,80.1332,80.1811,80.2123,80.2429, 80.2733,80.3032,80.3329,80.3622,80.3905 ,80.7149,81.1962,81.8831,82.4058, 82.8198,83.2139,83.1767,83.1514,83.1129 ,83.0874,83.0614,83.0351,83.0084, 82.9813,82.9539,82.9263,82.8988,82.8708 ,82.8424,82.8136,82.7843,82.7547, 82.7246,82.6949,82.6647,82.6341,82.603, 82.5715,82.5394,82.5068,82.4738,82.4406 ,82.4075,82.3739,82.3226,82.2878, 82.2524,82.2165,82.18,82.143,82.0866, 82.049,82.011,81.9724,81.9333,81.8733, 81.8119,81.7702,81.7066,81.6631,81.5967 ,80.9139)
ORBIT_NUMBER = 15959
ORBITAL_ECCENTRICITY = 0.571
ORBITAL_INCLINATION = 86.96
ORBITAL_SEMIMAJOR_AXIS = 8773.76
PERIAPSIS_ALTITUDE = 382.62
PERIAPSIS_ARGUMENT_ANGLE = 108.51
PERIAPSIS_TIME = 2016-08-05T08:43:46.000Z
SPACECRAFT_ORIENTATION = (0.0,-1.0,0.0)
^MEX_ORIENTATION_DESC = "MEX_ORIENTATION_DESC.TXT"
SPACECRAFT_POINTING_MODE = ACROSSTRACK
^MEX_POINTING_DESC = "MEX_POINTING_DESC.TXT"
RIGHT_ASCENSION = -1e+32
DECLINATION = -1e+32
OFFSET_ANGLE = -0.85
SPACECRAFT_SOLAR_DISTANCE = 2.13866e+08
TARGET_NAME = MARS
/* CAMERA DATA ELEMENTS */
DETECTOR_TEMPERATURE = 19.1861
FOCAL_PLANE_TEMPERATURE = 10.4184
INST_CMPRS_NAME = "DISCRETE COSINE TRANSFORMATION (DCT)"
INST_CMPRS_RATIO = 26.7954
INST_CMPRS_QUALITY = 0
INST_CMPRS_QUANTZ_TBL_ID = 0
INSTRUMENT_TEMPERATURE = 12.2535
LENS_TEMPERATURE = 11.0301
MACROPIXEL_SIZE = 4
MISSING_FRAMES = 0
PIXEL_SUBSAMPLING_FLAG = N
SIGNAL_CHAIN_ID = 2
/* RADIOMETRIC DATA ELEMENTS */
BANDWIDTH = 48.0
CENTER_FILTER_WAVELENGTH = 748.0
RADIANCE_OFFSET = 0.696425
RADIANCE_SCALING_FACTOR = 0.00173796
REFLECTANCE_SCALING_FACTOR = 0.000181405
MEX:REFLECTANCE_OFFSET = 0.0726914
/* IMAGE OBJECT DEFINITIONS */
OBJECT = IMAGE
  INTERCHANGE_FORMAT = BINARY
  LINES = 11387
  LINE_SAMPLES = 2869
  SAMPLE_TYPE = UNSIGNED_INTEGER
  SAMPLE_BITS = 8
  BANDS = 1
  BAND_STORAGE_TYPE = BAND_SEQUENTIAL
  MAXIMUM = 255
  MEAN = 124.449
  MINIMUM = 1
  STANDARD_DEVIATION = 38.8743
END_OBJECT = IMAGE
/* MAP OBJECT DEFINITIONS */
OBJECT = IMAGE_MAP_PROJECTION
  ^DATA_SET_MAP_PROJECTION_CATALOG= "DSMAP.CAT"
  A_AXIS_RADIUS = 3396.0
  B_AXIS_RADIUS = 3396.0
  C_AXIS_RADIUS = 3396.0
  CENTER_LATITUDE = 0.0
  CENTER_LONGITUDE = 81.0
  COORDINATE_SYSTEM_NAME = PLANETOGRAPHIC
  COORDINATE_SYSTEM_TYPE = "BODY-FIXED ROTATING"
  EASTERNMOST_LONGITUDE = 83.2139
  FIRST_STANDARD_PARALLEL = "N/A"
  LINE_FIRST_PIXEL = 1
  LINE_LAST_PIXEL = 11387
  LINE_PROJECTION_OFFSET = 75810.375
  MAP_PROJECTION_ROTATION = 0.0
  MAP_PROJECTION_TYPE = SINUSOIDAL
  MAP_RESOLUTION = 1185.42760773333
  MAP_SCALE = 0.05
  MAXIMUM_LATITUDE = 63.814
  MINIMUM_LATITUDE = 54.3921
  POSITIVE_LONGITUDE_DIRECTION = EAST
  REFERENCE_LATITUDE = "N/A"
  REFERENCE_LONGITUDE = "N/A"
  SAMPLE_FIRST_PIXEL = 1
  SAMPLE_LAST_PIXEL = 2869
  SAMPLE_PROJECTION_OFFSET = 1379.625
  SECOND_STANDARD_PARALLEL = "N/A"
  WESTERNMOST_LONGITUDE = 78.33580000000001
END_OBJECT = IMAGE_MAP_PROJECTION
/* The JPEG2000 image data file associated with this label. */
OBJECT = COMPRESSED_FILE
  FILE_NAME = "HF959_0000_RE3.JP2"
  RECORD_TYPE = UNDEFINED
  FILE_RECORDS = UNK
  ENCODING_TYPE = "JP2"
  INTERCHANGE_FORMAT = BINARY
  UNCOMPRESSED_FILE_NAME = "HF959_0000_RE3.IMG"
  REQUIRED_STORAGE_BYTES = "32692255"
  ^DESCRIPTION = "JP2INFO.TXT"
END_OBJECT = COMPRESSED_FILE
END
