PDS_VERSION_ID = PDS3
/* FILE DATA ELEMENTS */
RECORD_TYPE = STREAM
/* POINTERS TO DATA OBJECTS */
^COMPRESSED_FILE = "HF959_0000_S23.JP2"
/* IDENTIFICATION DATA ELEMENTS */
DATA_SET_ID = "MEX-M-HRSC-5-REFDR-MAPPROJECTED-V3.0"
DATA_SET_NAME = "MARS EXPRESS HRSC MAP PROJECTED REFDR V3.0"
DETECTOR_ID = MEX_HRSC_S2
EVENT_TYPE = "MARS-REGIONAL-MAPPING-Im-Gl-Pf"
INSTRUMENT_HOST_ID = MEX
INSTRUMENT_HOST_NAME = "MARS EXPRESS"
INSTRUMENT_ID = HRSC
INSTRUMENT_NAME = "HIGH RESOLUTION STEREO CAMERA"
MISSION_NAME = "MARS EXPRESS"
MISSION_PHASE_NAME = ME_Phase_35
PROCESSING_LEVEL_ID = 3
PRODUCT_CREATION_TIME = 2017-06-29T11:20:52.000Z
PRODUCT_ID = "HF959_0000_S23.JP2"
RELEASE_ID = 0135
REVISION_ID = 0000
/* QUALITY DATA ELEMENTS */
DATA_QUALITY_ID = 1
DATA_QUALITY_DESC = "Data calculated based on original SPICE kernels"
/* TIME DATA ELEMENTS */
SPACECRAFT_CLOCK_START_COUNT = "1/0418466697.07345"
SPACECRAFT_CLOCK_STOP_COUNT = "1/0418466929.56572"
START_TIME = 2016-08-05T08:46:18.010Z
STOP_TIME = 2016-08-05T08:48:55.671Z
/* ORBITAL DATA ELEMENTS */
ASCENDING_NODE_LONGITUDE = 274.08
MAXIMUM_RESOLUTION = 34.4
FOOTPRINT_POINT_LATITUDE = (63.8082,63.7971,63.7845,63.7705, 63.7552,63.7383,63.721,63.4683,63.2869, 63.1057,62.9245,62.5625,62.2012,61.8406 ,61.6557,61.3783,61.1935,61.0092, 60.8252,60.6411,60.3652,60.1816,59.998, 59.8105,59.6224,59.4346,59.247,58.9659, 58.7795,58.5927,58.4054,58.2153,58.0243 ,57.7382,57.4523,57.2619,57.072,56.8812 ,56.6869,56.4927,56.299,56.1058,55.816, 55.6232,55.3275,55.1304,54.9339,54.6392 ,54.4074,54.4151,54.4238,54.4312, 54.4355,54.4401,54.4432,54.6405,54.9365 ,55.2331,55.4312,55.6299,55.8245, 56.0186,56.2131,56.4074,56.6026,56.7973 ,56.9922,57.1832,57.3744,57.5658, 57.7575,58.045,58.2369,58.4286,58.6163, 58.8045,58.9929,59.1814,59.3701,59.5591 ,59.7481,59.9373,60.1245,60.3093, 60.4942,60.6792,60.8645,61.05,61.2357, 61.4217,61.6078,61.794,62.0695,62.5244, 62.7066,62.8888,63.0714,63.2533,63.5281 ,63.8082)
FOOTPRINT_POINT_LONGITUDE = (81.3722,80.8972,80.4178,79.934,79.4461 ,78.953,78.4859,78.3697,78.4279,78.485, 78.5413,78.651,78.7568,78.8586,78.9097, 78.985,79.0341,79.0818,79.1284,79.1746, 79.2426,79.2868,79.3304,79.3744,79.4176 ,79.46,79.5015,79.5627,79.6014,79.6403, 79.6796,79.7187,79.7565,79.812,79.8664, 79.9021,79.9366,79.9711,80.0055,80.0393 ,80.0722,80.1042,80.1516,80.1824, 80.2288,80.2593,80.2886,80.3322,80.593, 80.9612,81.4663,81.9939,82.3243,82.8162 ,83.2322,83.2075,83.17,83.1316,83.1056, 83.0791,83.0529,83.0263,82.9994,82.9722 ,82.9444,82.9164,82.888,82.8597,82.8311 ,82.802,82.7725,82.7276,82.6971,82.6662 ,82.6355,82.6043,82.5727,82.5406,82.508 ,82.475,82.4415,82.4075,82.3733,82.3392 ,82.3046,82.2694,82.2337,82.1974, 82.1606,82.1232,82.0853,82.0467,81.9887 ,81.89,81.8495,81.8084,81.7665,81.7243, 81.6592,81.3722)
ORBIT_NUMBER = 15959
ORBITAL_ECCENTRICITY = 0.571
ORBITAL_INCLINATION = 86.96
ORBITAL_SEMIMAJOR_AXIS = 8773.76
PERIAPSIS_ALTITUDE = 382.62
PERIAPSIS_ARGUMENT_ANGLE = 108.51
PERIAPSIS_TIME = 2016-08-05T08:43:46.000Z
SPACECRAFT_ORIENTATION = (0.0,-1.0,0.0)
^MEX_ORIENTATION_DESC = "MEX_ORIENTATION_DESC.TXT"
SPACECRAFT_POINTING_MODE = ACROSSTRACK
^MEX_POINTING_DESC = "MEX_POINTING_DESC.TXT"
RIGHT_ASCENSION = -1e+32
DECLINATION = -1e+32
OFFSET_ANGLE = -0.85
SPACECRAFT_SOLAR_DISTANCE = 2.13866e+08
TARGET_NAME = MARS
/* CAMERA DATA ELEMENTS */
DETECTOR_TEMPERATURE = 19.1861
FOCAL_PLANE_TEMPERATURE = 10.4184
INST_CMPRS_NAME = "DISCRETE COSINE TRANSFORMATION (DCT)"
INST_CMPRS_RATIO = 12.9267
INST_CMPRS_QUALITY = 0
INST_CMPRS_QUANTZ_TBL_ID = 0
INSTRUMENT_TEMPERATURE = 12.2535
LENS_TEMPERATURE = 11.0301
MACROPIXEL_SIZE = 2
MISSING_FRAMES = 0
PIXEL_SUBSAMPLING_FLAG = N
SIGNAL_CHAIN_ID = 1
/* RADIOMETRIC DATA ELEMENTS */
BANDWIDTH = 178.0
CENTER_FILTER_WAVELENGTH = 679.0
RADIANCE_OFFSET = 2.8567
RADIANCE_SCALING_FACTOR = 0.00685685
REFLECTANCE_SCALING_FACTOR = 0.000166087
MEX:REFLECTANCE_OFFSET = 0.0691952
/* IMAGE OBJECT DEFINITIONS */
OBJECT = IMAGE
  INTERCHANGE_FORMAT = BINARY
  LINES = 22773
  LINE_SAMPLES = 5738
  SAMPLE_TYPE = UNSIGNED_INTEGER
  SAMPLE_BITS = 8
  BANDS = 1
  BAND_STORAGE_TYPE = BAND_SEQUENTIAL
  MAXIMUM = 255
  MEAN = 126.772
  MINIMUM = 1
  STANDARD_DEVIATION = 38.0841
END_OBJECT = IMAGE
/* MAP OBJECT DEFINITIONS */
OBJECT = IMAGE_MAP_PROJECTION
  ^DATA_SET_MAP_PROJECTION_CATALOG= "DSMAP.CAT"
  A_AXIS_RADIUS = 3396.0
  B_AXIS_RADIUS = 3396.0
  C_AXIS_RADIUS = 3396.0
  CENTER_LATITUDE = 0.0
  CENTER_LONGITUDE = 81.0
  COORDINATE_SYSTEM_NAME = PLANETOGRAPHIC
  COORDINATE_SYSTEM_TYPE = "BODY-FIXED ROTATING"
  EASTERNMOST_LONGITUDE = 83.23220000000001
  FIRST_STANDARD_PARALLEL = "N/A"
  LINE_FIRST_PIXEL = 1
  LINE_LAST_PIXEL = 22773
  LINE_PROJECTION_OFFSET = 151621.25
  MAP_PROJECTION_ROTATION = 0.0
  MAP_PROJECTION_TYPE = SINUSOIDAL
  MAP_RESOLUTION = 2370.85521546667
  MAP_SCALE = 0.025
  MAXIMUM_LATITUDE = 63.8082
  MINIMUM_LATITUDE = 54.4074
  POSITIVE_LONGITUDE_DIRECTION = EAST
  REFERENCE_LATITUDE = "N/A"
  REFERENCE_LONGITUDE = "N/A"
  SAMPLE_FIRST_PIXEL = 1
  SAMPLE_LAST_PIXEL = 5738
  SAMPLE_PROJECTION_OFFSET = 2759.75
  SECOND_STANDARD_PARALLEL = "N/A"
  WESTERNMOST_LONGITUDE = 78.36969999999999
END_OBJECT = IMAGE_MAP_PROJECTION
/* The JPEG2000 image data file associated with this label. */
OBJECT = COMPRESSED_FILE
  FILE_NAME = "HF959_0000_S23.JP2"
  RECORD_TYPE = UNDEFINED
  FILE_RECORDS = UNK
  ENCODING_TYPE = "JP2"
  INTERCHANGE_FORMAT = BINARY
  UNCOMPRESSED_FILE_NAME = "HF959_0000_S23.IMG"
  REQUIRED_STORAGE_BYTES = "130700164"
  ^DESCRIPTION = "JP2INFO.TXT"
END_OBJECT = COMPRESSED_FILE
END
