PDS_VERSION_ID = PDS3
/* FILE DATA ELEMENTS */
RECORD_TYPE = STREAM
/* POINTERS TO DATA OBJECTS */
^COMPRESSED_FILE = "HF961_0000_S23.JP2"
/* IDENTIFICATION DATA ELEMENTS */
DATA_SET_ID = "MEX-M-HRSC-5-REFDR-MAPPROJECTED-V3.0"
DATA_SET_NAME = "MARS EXPRESS HRSC MAP PROJECTED REFDR V3.0"
DETECTOR_ID = MEX_HRSC_S2
EVENT_TYPE = "MARS-LOCAL-CARTOGRAPHY-Pf-Tc"
INSTRUMENT_HOST_ID = MEX
INSTRUMENT_HOST_NAME = "MARS EXPRESS"
INSTRUMENT_ID = HRSC
INSTRUMENT_NAME = "HIGH RESOLUTION STEREO CAMERA"
MISSION_NAME = "MARS EXPRESS"
MISSION_PHASE_NAME = ME_Phase_35
PROCESSING_LEVEL_ID = 3
PRODUCT_CREATION_TIME = 2017-06-29T11:20:52.000Z
PRODUCT_ID = "HF961_0000_S23.JP2"
RELEASE_ID = 0135
REVISION_ID = 0000
/* QUALITY DATA ELEMENTS */
DATA_QUALITY_ID = 1
DATA_QUALITY_DESC = "Data calculated based on original SPICE kernels"
/* TIME DATA ELEMENTS */
SPACECRAFT_CLOCK_START_COUNT = "1/0418516958.09055"
SPACECRAFT_CLOCK_STOP_COUNT = "1/0418517105.49124"
START_TIME = 2016-08-05T22:43:56.665Z
STOP_TIME = 2016-08-05T22:45:11.552Z
/* ORBITAL DATA ELEMENTS */
ASCENDING_NODE_LONGITUDE = 274.05
MAXIMUM_RESOLUTION = 33.1
FOOTPRINT_POINT_LATITUDE = (70.5616,70.5512,70.5404,70.529,70.5172 ,70.505,70.4922,70.479,70.4653,70.4511, 70.4364,70.4073,70.5259,70.3878,70.2955 ,70.2033,70.1112,69.9727,69.8807, 69.7426,69.6046,69.5125,69.4203,69.282, 69.1887,69.0962,68.9582,68.8208,68.6373 ,68.5447,68.4071,68.3151,68.2232, 68.1313,67.9935,67.9017,67.7639,67.6715 ,67.4877,67.3497,67.2576,67.0747,66.891 ,66.7989,66.5697,66.3406,66.1577, 65.9747,65.8917,65.9068,65.9181,65.9291 ,65.9397,65.9483,65.9593,65.9706, 65.9848,65.9926,66.0003,66.0076,66.1034 ,66.2882,66.4269,66.6119,66.797,66.8896 ,67.0287,67.214,67.3534,67.4462,67.539, 67.6319,67.7245,67.864,67.957,68.0498, 68.1887,68.2823,68.3758,68.4686,68.5617 ,68.6548,68.795,68.8883,68.9815,69.0748 ,69.2147,69.3079,69.4478,69.6328, 69.7262,69.8197,69.9132,70.007,70.1007, 70.1944,70.2879,70.4284,70.569,70.5616)
FOOTPRINT_POINT_LONGITUDE = (234.903,234.606,234.307,234.007, 233.706,233.405,233.102,232.799,232.494 ,232.189,231.882,231.304,230.954, 231.042,231.101,231.159,231.216,231.301 ,231.356,231.438,231.519,231.572, 231.625,231.703,231.758,231.81,231.885, 231.957,232.053,232.102,232.172,232.219 ,232.265,232.311,232.378,232.423, 232.489,232.533,232.619,232.683,232.725 ,232.806,232.887,232.928,233.026, 233.121,233.195,233.268,233.405,233.751 ,234.027,234.301,234.574,234.812, 235.117,235.455,235.892,236.159,236.426 ,236.691,236.776,236.724,236.683, 236.629,236.573,236.545,236.502,236.444 ,236.4,236.371,236.341,236.31,236.28, 236.234,236.202,236.171,236.123,236.091 ,236.058,236.025,235.992,235.958, 235.907,235.873,235.838,235.803,235.75, 235.714,235.66,235.586,235.549,235.511, 235.473,235.434,235.395,235.355,235.315 ,235.254,235.193,234.903)
ORBIT_NUMBER = 15961
ORBITAL_ECCENTRICITY = 0.571
ORBITAL_INCLINATION = 86.95
ORBITAL_SEMIMAJOR_AXIS = 8769.91
PERIAPSIS_ALTITUDE = 382.9
PERIAPSIS_ARGUMENT_ANGLE = 108.15
PERIAPSIS_TIME = 2016-08-05T22:43:07.000Z
SPACECRAFT_ORIENTATION = (0.0,-1.0,0.0)
^MEX_ORIENTATION_DESC = "MEX_ORIENTATION_DESC.TXT"
SPACECRAFT_POINTING_MODE = ACROSSTRACK
^MEX_POINTING_DESC = "MEX_POINTING_DESC.TXT"
RIGHT_ASCENSION = -1e+32
DECLINATION = -1e+32
OFFSET_ANGLE = -0.7
SPACECRAFT_SOLAR_DISTANCE = 2.13775e+08
TARGET_NAME = MARS
/* CAMERA DATA ELEMENTS */
DETECTOR_TEMPERATURE = 18.9822
FOCAL_PLANE_TEMPERATURE = 9.6028
INST_CMPRS_NAME = "DISCRETE COSINE TRANSFORMATION (DCT)"
INST_CMPRS_RATIO = 15.3064
INST_CMPRS_QUALITY = 0
INST_CMPRS_QUANTZ_TBL_ID = 0
INSTRUMENT_TEMPERATURE = 11.8457
LENS_TEMPERATURE = 9.8067
MACROPIXEL_SIZE = 2
MISSING_FRAMES = 0
PIXEL_SUBSAMPLING_FLAG = N
SIGNAL_CHAIN_ID = 1
/* RADIOMETRIC DATA ELEMENTS */
BANDWIDTH = 178.0
CENTER_FILTER_WAVELENGTH = 679.0
RADIANCE_OFFSET = 1.94615
RADIANCE_SCALING_FACTOR = 0.0065096
REFLECTANCE_SCALING_FACTOR = 0.000157543
MEX:REFLECTANCE_OFFSET = 0.0470999
/* IMAGE OBJECT DEFINITIONS */
OBJECT = IMAGE
  INTERCHANGE_FORMAT = BINARY
  LINES = 11570
  LINE_SAMPLES = 4979
  SAMPLE_TYPE = UNSIGNED_INTEGER
  SAMPLE_BITS = 8
  BANDS = 1
  BAND_STORAGE_TYPE = BAND_SEQUENTIAL
  MAXIMUM = 254
  MEAN = 148.069
  MINIMUM = 1
  STANDARD_DEVIATION = 52.4748
END_OBJECT = IMAGE
/* MAP OBJECT DEFINITIONS */
OBJECT = IMAGE_MAP_PROJECTION
  ^DATA_SET_MAP_PROJECTION_CATALOG= "DSMAP.CAT"
  A_AXIS_RADIUS = 3396.0
  B_AXIS_RADIUS = 3396.0
  C_AXIS_RADIUS = 3396.0
  CENTER_LATITUDE = 0.0
  CENTER_LONGITUDE = 234.0
  COORDINATE_SYSTEM_NAME = PLANETOGRAPHIC
  COORDINATE_SYSTEM_TYPE = "BODY-FIXED ROTATING"
  EASTERNMOST_LONGITUDE = 236.776
  FIRST_STANDARD_PARALLEL = "N/A"
  LINE_FIRST_PIXEL = 1
  LINE_LAST_PIXEL = 11570
  LINE_PROJECTION_OFFSET = 167667.25
  MAP_PROJECTION_ROTATION = 0.0
  MAP_PROJECTION_TYPE = SINUSOIDAL
  MAP_RESOLUTION = 2370.85521546667
  MAP_SCALE = 0.025
  MAXIMUM_LATITUDE = 70.569
  MINIMUM_LATITUDE = 65.8917
  POSITIVE_LONGITUDE_DIRECTION = EAST
  REFERENCE_LATITUDE = "N/A"
  REFERENCE_LONGITUDE = "N/A"
  SAMPLE_FIRST_PIXEL = 1
  SAMPLE_LAST_PIXEL = 4979
  SAMPLE_PROJECTION_OFFSET = 2320.75
  SECOND_STANDARD_PARALLEL = "N/A"
  WESTERNMOST_LONGITUDE = 230.954
END_OBJECT = IMAGE_MAP_PROJECTION
/* The JPEG2000 image data file associated with this label. */
OBJECT = COMPRESSED_FILE
  FILE_NAME = "HF961_0000_S23.JP2"
  RECORD_TYPE = UNDEFINED
  FILE_RECORDS = UNK
  ENCODING_TYPE = "JP2"
  INTERCHANGE_FORMAT = BINARY
  UNCOMPRESSED_FILE_NAME = "HF961_0000_S23.IMG"
  REQUIRED_STORAGE_BYTES = "57631925"
  ^DESCRIPTION = "JP2INFO.TXT"
END_OBJECT = COMPRESSED_FILE
END
