PDS_VERSION_ID = PDS3
/* FILE DATA ELEMENTS */
RECORD_TYPE = STREAM
/* POINTERS TO DATA OBJECTS */
^COMPRESSED_FILE = "HF961_0006_SR3.JP2"
/* IDENTIFICATION DATA ELEMENTS */
DATA_SET_ID = "MEX-M-HRSC-5-REFDR-MAPPROJECTED-V3.0"
DATA_SET_NAME = "MARS EXPRESS HRSC MAP PROJECTED REFDR V3.0"
DETECTOR_ID = MEX_HRSC_SRC
EVENT_TYPE = "MARS-LOCAL-CARTOGRAPHY-Pf-Tc"
INSTRUMENT_HOST_ID = MEX
INSTRUMENT_HOST_NAME = "MARS EXPRESS"
INSTRUMENT_ID = HRSC
INSTRUMENT_NAME = "HIGH RESOLUTION STEREO CAMERA"
MISSION_NAME = "MARS EXPRESS"
MISSION_PHASE_NAME = ME_Phase_35
PROCESSING_LEVEL_ID = 3
PRODUCT_CREATION_TIME = 2017-06-29T11:20:52.000Z
PRODUCT_ID = "HF961_0006_SR3.JP2"
RELEASE_ID = 0135
REVISION_ID = 0000
/* QUALITY DATA ELEMENTS */
DATA_QUALITY_ID = 1
DATA_QUALITY_DESC = "Data calculated based on original SPICE kernels"
/* TIME DATA ELEMENTS */
SPACECRAFT_CLOCK_START_COUNT = "1/0418516958.09055"
SPACECRAFT_CLOCK_STOP_COUNT = "1/0418517105.49124"
IMAGE_TIME = 2016-08-05T22:43:45.018Z
START_TIME = 2016-08-05T22:43:45.015Z
STOP_TIME = 2016-08-05T22:43:45.020Z
/* ORBITAL DATA ELEMENTS */
ASCENDING_NODE_LONGITUDE = 274.05
MAXIMUM_RESOLUTION = 3.552
FOOTPRINT_POINT_LATITUDE = (69.0386,69.0417,69.0441,69.0469, 69.0487,69.0504,69.0527,69.0558,69.0574 ,69.0595,69.0611,69.0635,69.0663, 69.0685,69.0701,69.0722,69.0754,69.0772 ,69.0803,69.0825,69.0852,69.087,69.0889 ,69.0916,69.0932,69.095,69.0971,69.0975 ,69.0979,69.0983,69.0987,69.0991, 69.0995,69.0999,69.1003,69.1007,69.1011 ,69.1015,69.102,69.1023,69.1027,69.1031 ,69.1035,69.1039,69.1043,69.1047, 69.1051,69.1055,69.1059,69.1063,69.1066 ,69.106,69.1033,69.1009,69.0988,69.0963 ,69.0926,69.0908,69.089,69.087,69.0838, 69.0816,69.0786,69.0757,69.0736,69.0702 ,69.0669,69.065,69.062,69.0597,69.0569, 69.0552,69.0526,69.0495,69.047,69.0466, 69.0462,69.0458,69.0454,69.045,69.0446, 69.0442,69.0438,69.0435,69.0431,69.0427 ,69.0423,69.0419,69.0415,69.0411, 69.0407,69.0403,69.0398,69.0394,69.039, 69.0386,69.0382,69.0378,69.0374, 69.0386)
FOOTPRINT_POINT_LONGITUDE = (233.79,233.788,233.787,233.786,233.785 ,233.784,233.783,233.782,233.781,233.78 ,233.779,233.778,233.777,233.776, 233.775,233.774,233.773,233.772,233.769 ,233.768,233.766,233.765,233.765, 233.763,233.763,233.762,233.764,233.771 ,233.778,233.785,233.791,233.798, 233.805,233.811,233.818,233.825,233.832 ,233.838,233.847,233.853,233.86,233.867 ,233.874,233.88,233.887,233.894,233.901 ,233.907,233.914,233.921,233.928, 233.932,233.934,233.935,233.936,233.937 ,233.938,233.939,233.94,233.941,233.942 ,233.943,233.946,233.948,233.949,233.95 ,233.952,233.953,233.954,233.955, 233.956,233.957,233.958,233.96,233.959, 233.952,233.945,233.939,233.932,233.925 ,233.919,233.912,233.905,233.899, 233.892,233.885,233.878,233.872,233.865 ,233.858,233.852,233.845,233.837,233.83 ,233.823,233.816,233.81,233.803,233.796 ,233.79)
ORBIT_NUMBER = 15961
ORBITAL_ECCENTRICITY = 0.571
ORBITAL_INCLINATION = 86.95
ORBITAL_SEMIMAJOR_AXIS = 8769.91
PERIAPSIS_ALTITUDE = 382.9
PERIAPSIS_ARGUMENT_ANGLE = 108.15
PERIAPSIS_TIME = 2016-08-05T22:43:07.000Z
SPACECRAFT_ORIENTATION = (0.0,-1.0,0.0)
^MEX_ORIENTATION_DESC = "MEX_ORIENTATION_DESC.TXT"
SPACECRAFT_POINTING_MODE = ACROSSTRACK
^MEX_POINTING_DESC = "MEX_POINTING_DESC.TXT"
RIGHT_ASCENSION = -1e+32
DECLINATION = -1e+32
OFFSET_ANGLE = -0.7
SPACECRAFT_SOLAR_DISTANCE = 2.13775e+08
TARGET_NAME = MARS
/* CAMERA DATA ELEMENTS */
BUFFER_MODE_ID = DIRECT
EXPOSURE_DURATION = 5.04
INST_CMPRS_NAME = NONE
INST_CMPRS_RATIO = 1.0
INST_CMPRS_QUALITY = -2147483648
INST_CMPRS_QUANTZ_TBL_ID = -2147483648
INSTRUMENT_TEMPERATURE = 9.18762
MISSING_FRAMES = 0
START_BIT = 0
/* RADIOMETRIC DATA ELEMENTS */
BANDWIDTH = 250.0
CENTER_FILTER_WAVELENGTH = 600.0
RADIANCE_OFFSET = -9.99e+31
RADIANCE_SCALING_FACTOR = -9.99e+31
REFLECTANCE_SCALING_FACTOR = -9.99e+31
MEX:REFLECTANCE_OFFSET = -9.99e+31
/* IMAGE OBJECT DEFINITIONS */
OBJECT = IMAGE
  INTERCHANGE_FORMAT = BINARY
  LINES = 1775
  LINE_SAMPLES = 1795
  SAMPLE_TYPE = UNSIGNED_INTEGER
  SAMPLE_BITS = 8
  BANDS = 1
  BAND_STORAGE_TYPE = BAND_SEQUENTIAL
  MAXIMUM = 246
  MEAN = 131.738
  MINIMUM = 9
  STANDARD_DEVIATION = 18.8586
END_OBJECT = IMAGE
/* MAP OBJECT DEFINITIONS */
OBJECT = IMAGE_MAP_PROJECTION
  ^DATA_SET_MAP_PROJECTION_CATALOG= "DSMAP.CAT"
  A_AXIS_RADIUS = 3396.19
  B_AXIS_RADIUS = 3396.19
  C_AXIS_RADIUS = 3396.19
  CENTER_LATITUDE = 0.0
  CENTER_LONGITUDE = 234.0
  COORDINATE_SYSTEM_NAME = PLANETOGRAPHIC
  COORDINATE_SYSTEM_TYPE = "BODY-FIXED ROTATING"
  EASTERNMOST_LONGITUDE = 233.96
  FIRST_STANDARD_PARALLEL = "N/A"
  LINE_FIRST_PIXEL = 1
  LINE_LAST_PIXEL = 1775
  LINE_PROJECTION_OFFSET = 1634968.0
  MAP_PROJECTION_ROTATION = 0.0
  MAP_PROJECTION_TYPE = SINUSOIDAL
  MAP_RESOLUTION = 23709.8786048756
  MAP_SCALE = 0.0025
  MAXIMUM_LATITUDE = 69.1066
  MINIMUM_LATITUDE = 69.03740000000001
  POSITIVE_LONGITUDE_DIRECTION = EAST
  REFERENCE_LATITUDE = "N/A"
  REFERENCE_LONGITUDE = "N/A"
  SAMPLE_FIRST_PIXEL = 1
  SAMPLE_LAST_PIXEL = 1795
  SAMPLE_PROJECTION_OFFSET = 2945.0
  SECOND_STANDARD_PARALLEL = "N/A"
  WESTERNMOST_LONGITUDE = 233.762
END_OBJECT = IMAGE_MAP_PROJECTION
/* The JPEG2000 image data file associated with this label. */
OBJECT = COMPRESSED_FILE
  FILE_NAME = "HF961_0006_SR3.JP2"
  RECORD_TYPE = UNDEFINED
  FILE_RECORDS = UNK
  ENCODING_TYPE = "JP2"
  INTERCHANGE_FORMAT = BINARY
  UNCOMPRESSED_FILE_NAME = "HF961_0006_SR3.IMG"
  REQUIRED_STORAGE_BYTES = "3207665"
  ^DESCRIPTION = "JP2INFO.TXT"
END_OBJECT = COMPRESSED_FILE
END
