PDS_VERSION_ID = PDS3
/* FILE DATA ELEMENTS */
RECORD_TYPE = STREAM
/* POINTERS TO DATA OBJECTS */
^COMPRESSED_FILE = "HF961_0021_SR3.JP2"
/* IDENTIFICATION DATA ELEMENTS */
DATA_SET_ID = "MEX-M-HRSC-5-REFDR-MAPPROJECTED-V3.0"
DATA_SET_NAME = "MARS EXPRESS HRSC MAP PROJECTED REFDR V3.0"
DETECTOR_ID = MEX_HRSC_SRC
EVENT_TYPE = "MARS-LOCAL-CARTOGRAPHY-Pf-Tc"
INSTRUMENT_HOST_ID = MEX
INSTRUMENT_HOST_NAME = "MARS EXPRESS"
INSTRUMENT_ID = HRSC
INSTRUMENT_NAME = "HIGH RESOLUTION STEREO CAMERA"
MISSION_NAME = "MARS EXPRESS"
MISSION_PHASE_NAME = ME_Phase_35
PROCESSING_LEVEL_ID = 3
PRODUCT_CREATION_TIME = 2017-06-29T11:20:52.000Z
PRODUCT_ID = "HF961_0021_SR3.JP2"
RELEASE_ID = 0135
REVISION_ID = 0000
/* QUALITY DATA ELEMENTS */
DATA_QUALITY_ID = 1
DATA_QUALITY_DESC = "Data calculated based on original SPICE kernels"
/* TIME DATA ELEMENTS */
SPACECRAFT_CLOCK_START_COUNT = "1/0418516958.09055"
SPACECRAFT_CLOCK_STOP_COUNT = "1/0418517105.49124"
IMAGE_TIME = 2016-08-05T22:43:53.193Z
START_TIME = 2016-08-05T22:43:53.191Z
STOP_TIME = 2016-08-05T22:43:53.196Z
/* ORBITAL DATA ELEMENTS */
ASCENDING_NODE_LONGITUDE = 274.05
MAXIMUM_RESOLUTION = 3.558
FOOTPRINT_POINT_LATITUDE = (68.5206,68.5222,68.5244,68.5271, 68.5287,68.5312,68.534,68.5355,68.5378, 68.5414,68.5446,68.5469,68.5501,68.552, 68.5537,68.5561,68.5598,68.5629,68.5648 ,68.5672,68.5699,68.5716,68.5743, 68.5763,68.5781,68.58,68.5804,68.5808, 68.5812,68.5816,68.5819,68.5823,68.5827 ,68.5831,68.5835,68.5838,68.5842, 68.5846,68.585,68.5854,68.5857,68.5861, 68.5865,68.5869,68.5873,68.5876,68.588, 68.5884,68.5888,68.5892,68.5895,68.5882 ,68.5861,68.5844,68.582,68.5796,68.5776 ,68.5757,68.5728,68.5691,68.565,68.5621 ,68.5603,68.5585,68.5566,68.5544, 68.5513,68.5482,68.5463,68.5435,68.5402 ,68.5377,68.536,68.5332,68.5297,68.5293 ,68.5287,68.5284,68.528,68.5276,68.5272 ,68.5268,68.5264,68.5261,68.5257, 68.5253,68.5249,68.5245,68.5242,68.5238 ,68.5234,68.523,68.5226,68.5222,68.5219 ,68.5215,68.5211,68.5207,68.5203, 68.5206)
FOOTPRINT_POINT_LONGITUDE = (234.021,234.02,234.019,234.018,234.017 ,234.016,234.015,234.014,234.013, 234.012,234.01,234.009,234.008,234.007, 234.006,234.005,234.004,234.002,234.002 ,234.001,233.999,233.999,233.997, 233.996,233.996,233.995,234.002,234.008 ,234.015,234.021,234.028,234.035, 234.041,234.048,234.054,234.061,234.068 ,234.074,234.081,234.087,234.094,234.1, 234.107,234.114,234.12,234.127,234.133, 234.14,234.147,234.153,234.16,234.163, 234.164,234.165,234.166,234.167,234.168 ,234.168,234.17,234.171,234.173,234.174 ,234.175,234.176,234.177,234.177, 234.179,234.18,234.181,234.182,234.183, 234.184,234.185,234.186,234.188,234.181 ,234.172,234.165,234.159,234.152, 234.145,234.139,234.132,234.126,234.119 ,234.113,234.106,234.099,234.093, 234.086,234.08,234.073,234.067,234.06, 234.053,234.047,234.04,234.034,234.027, 234.021)
ORBIT_NUMBER = 15961
ORBITAL_ECCENTRICITY = 0.571
ORBITAL_INCLINATION = 86.95
ORBITAL_SEMIMAJOR_AXIS = 8769.91
PERIAPSIS_ALTITUDE = 382.9
PERIAPSIS_ARGUMENT_ANGLE = 108.15
PERIAPSIS_TIME = 2016-08-05T22:43:07.000Z
SPACECRAFT_ORIENTATION = (0.0,-1.0,0.0)
^MEX_ORIENTATION_DESC = "MEX_ORIENTATION_DESC.TXT"
SPACECRAFT_POINTING_MODE = ACROSSTRACK
^MEX_POINTING_DESC = "MEX_POINTING_DESC.TXT"
RIGHT_ASCENSION = -1e+32
DECLINATION = -1e+32
OFFSET_ANGLE = -0.7
SPACECRAFT_SOLAR_DISTANCE = 2.13775e+08
TARGET_NAME = MARS
/* CAMERA DATA ELEMENTS */
BUFFER_MODE_ID = DIRECT
EXPOSURE_DURATION = 5.04
INST_CMPRS_NAME = NONE
INST_CMPRS_RATIO = 1.0
INST_CMPRS_QUALITY = -2147483648
INST_CMPRS_QUANTZ_TBL_ID = -2147483648
INSTRUMENT_TEMPERATURE = 9.57471
MISSING_FRAMES = 0
START_BIT = 0
/* RADIOMETRIC DATA ELEMENTS */
BANDWIDTH = 250.0
CENTER_FILTER_WAVELENGTH = 600.0
RADIANCE_OFFSET = -9.99e+31
RADIANCE_SCALING_FACTOR = -9.99e+31
REFLECTANCE_SCALING_FACTOR = -9.99e+31
MEX:REFLECTANCE_OFFSET = -9.99e+31
/* IMAGE OBJECT DEFINITIONS */
OBJECT = IMAGE
  INTERCHANGE_FORMAT = BINARY
  LINES = 1769
  LINE_SAMPLES = 1794
  SAMPLE_TYPE = UNSIGNED_INTEGER
  SAMPLE_BITS = 8
  BANDS = 1
  BAND_STORAGE_TYPE = BAND_SEQUENTIAL
  MAXIMUM = 246
  MEAN = 133.788
  MINIMUM = 20
  STANDARD_DEVIATION = 19.4708
END_OBJECT = IMAGE
/* MAP OBJECT DEFINITIONS */
OBJECT = IMAGE_MAP_PROJECTION
  ^DATA_SET_MAP_PROJECTION_CATALOG= "DSMAP.CAT"
  A_AXIS_RADIUS = 3396.19
  B_AXIS_RADIUS = 3396.19
  C_AXIS_RADIUS = 3396.19
  CENTER_LATITUDE = 0.0
  CENTER_LONGITUDE = 234.0
  COORDINATE_SYSTEM_NAME = PLANETOGRAPHIC
  COORDINATE_SYSTEM_TYPE = "BODY-FIXED ROTATING"
  EASTERNMOST_LONGITUDE = 234.188
  FIRST_STANDARD_PARALLEL = "N/A"
  LINE_FIRST_PIXEL = 1
  LINE_LAST_PIXEL = 1769
  LINE_PROJECTION_OFFSET = 1622772.0
  MAP_PROJECTION_ROTATION = 0.0
  MAP_PROJECTION_TYPE = SINUSOIDAL
  MAP_RESOLUTION = 23709.8786048756
  MAP_SCALE = 0.0025
  MAXIMUM_LATITUDE = 68.5895
  MINIMUM_LATITUDE = 68.52030000000001
  POSITIVE_LONGITUDE_DIRECTION = EAST
  REFERENCE_LATITUDE = "N/A"
  REFERENCE_LONGITUDE = "N/A"
  SAMPLE_FIRST_PIXEL = 1
  SAMPLE_LAST_PIXEL = 1794
  SAMPLE_PROJECTION_OFFSET = 967.0
  SECOND_STANDARD_PARALLEL = "N/A"
  WESTERNMOST_LONGITUDE = 233.995
END_OBJECT = IMAGE_MAP_PROJECTION
/* The JPEG2000 image data file associated with this label. */
OBJECT = COMPRESSED_FILE
  FILE_NAME = "HF961_0021_SR3.JP2"
  RECORD_TYPE = UNDEFINED
  FILE_RECORDS = UNK
  ENCODING_TYPE = "JP2"
  INTERCHANGE_FORMAT = BINARY
  UNCOMPRESSED_FILE_NAME = "HF961_0021_SR3.IMG"
  REQUIRED_STORAGE_BYTES = "3195114"
  ^DESCRIPTION = "JP2INFO.TXT"
END_OBJECT = COMPRESSED_FILE
END
