PDS_VERSION_ID = PDS3
/* FILE DATA ELEMENTS */
RECORD_TYPE = STREAM
/* POINTERS TO DATA OBJECTS */
^COMPRESSED_FILE = "HF961_0043_SR3.JP2"
/* IDENTIFICATION DATA ELEMENTS */
DATA_SET_ID = "MEX-M-HRSC-5-REFDR-MAPPROJECTED-V3.0"
DATA_SET_NAME = "MARS EXPRESS HRSC MAP PROJECTED REFDR V3.0"
DETECTOR_ID = MEX_HRSC_SRC
EVENT_TYPE = "MARS-LOCAL-CARTOGRAPHY-Pf-Tc"
INSTRUMENT_HOST_ID = MEX
INSTRUMENT_HOST_NAME = "MARS EXPRESS"
INSTRUMENT_ID = HRSC
INSTRUMENT_NAME = "HIGH RESOLUTION STEREO CAMERA"
MISSION_NAME = "MARS EXPRESS"
MISSION_PHASE_NAME = ME_Phase_35
PROCESSING_LEVEL_ID = 3
PRODUCT_CREATION_TIME = 2017-06-29T11:20:52.000Z
PRODUCT_ID = "HF961_0043_SR3.JP2"
RELEASE_ID = 0135
REVISION_ID = 0000
/* QUALITY DATA ELEMENTS */
DATA_QUALITY_ID = 1
DATA_QUALITY_DESC = "Data calculated based on original SPICE kernels"
/* TIME DATA ELEMENTS */
SPACECRAFT_CLOCK_START_COUNT = "1/0418516958.09055"
SPACECRAFT_CLOCK_STOP_COUNT = "1/0418517105.49124"
IMAGE_TIME = 2016-08-05T22:44:05.184Z
START_TIME = 2016-08-05T22:44:05.181Z
STOP_TIME = 2016-08-05T22:44:05.186Z
/* ORBITAL DATA ELEMENTS */
ASCENDING_NODE_LONGITUDE = 274.05
MAXIMUM_RESOLUTION = 3.567
FOOTPRINT_POINT_LATITUDE = (67.7622,67.7645,67.7682,67.7712, 67.7732,67.7762,67.7784,67.7799,67.7818 ,67.7834,67.786,67.7899,67.7924,67.7954 ,67.7986,67.801,67.803,67.8046,67.8071, 67.8088,67.8111,67.8131,67.8159,67.8191 ,67.8215,67.8218,67.8222,67.8226,67.823 ,67.8233,67.8237,67.8241,67.8244, 67.8248,67.8251,67.8255,67.8259,67.8262 ,67.8266,67.827,67.8273,67.8277,67.8281 ,67.8284,67.8288,67.8291,67.8295, 67.8299,67.8302,67.8306,67.8289,67.8254 ,67.8231,67.8201,67.8178,67.816,67.8136 ,67.8113,67.8086,67.8066,67.8044, 67.8022,67.8001,67.7985,67.7961,67.7931 ,67.7912,67.7895,67.7861,67.7841, 67.7807,67.7788,67.7757,67.7738,67.7713 ,67.7699,67.7695,67.7692,67.7688, 67.7684,67.7681,67.7677,67.7673,67.767, 67.7666,67.7662,67.7659,67.7655,67.7651 ,67.7648,67.7644,67.764,67.7637,67.7633 ,67.7629,67.7626,67.7622,67.7618, 67.7615,67.7622)
FOOTPRINT_POINT_LONGITUDE = (234.339,234.338,234.337,234.335, 234.335,234.333,234.333,234.332,234.331 ,234.331,234.329,234.328,234.327, 234.326,234.324,234.323,234.323,234.322 ,234.321,234.32,234.319,234.318,234.317 ,234.316,234.317,234.323,234.33,234.336 ,234.342,234.349,234.355,234.362, 234.368,234.374,234.381,234.387,234.394 ,234.4,234.406,234.413,234.419,234.426, 234.432,234.438,234.445,234.451,234.458 ,234.464,234.47,234.477,234.478,234.48, 234.481,234.482,234.483,234.484,234.485 ,234.485,234.487,234.487,234.488, 234.489,234.49,234.491,234.492,234.493, 234.493,234.494,234.496,234.496,234.498 ,234.498,234.5,234.5,234.501,234.492, 234.486,234.479,234.473,234.467,234.46, 234.454,234.447,234.441,234.435,234.428 ,234.422,234.415,234.409,234.403, 234.396,234.39,234.384,234.377,234.371, 234.364,234.358,234.352,234.345, 234.339)
ORBIT_NUMBER = 15961
ORBITAL_ECCENTRICITY = 0.571
ORBITAL_INCLINATION = 86.95
ORBITAL_SEMIMAJOR_AXIS = 8769.91
PERIAPSIS_ALTITUDE = 382.9
PERIAPSIS_ARGUMENT_ANGLE = 108.15
PERIAPSIS_TIME = 2016-08-05T22:43:07.000Z
SPACECRAFT_ORIENTATION = (0.0,-1.0,0.0)
^MEX_ORIENTATION_DESC = "MEX_ORIENTATION_DESC.TXT"
SPACECRAFT_POINTING_MODE = ACROSSTRACK
^MEX_POINTING_DESC = "MEX_POINTING_DESC.TXT"
RIGHT_ASCENSION = -1e+32
DECLINATION = -1e+32
OFFSET_ANGLE = -0.7
SPACECRAFT_SOLAR_DISTANCE = 2.13775e+08
TARGET_NAME = MARS
/* CAMERA DATA ELEMENTS */
BUFFER_MODE_ID = DIRECT
EXPOSURE_DURATION = 5.04
INST_CMPRS_NAME = NONE
INST_CMPRS_RATIO = 1.0
INST_CMPRS_QUALITY = -2147483648
INST_CMPRS_QUANTZ_TBL_ID = -2147483648
INSTRUMENT_TEMPERATURE = 10.1424
MISSING_FRAMES = 0
START_BIT = 0
/* RADIOMETRIC DATA ELEMENTS */
BANDWIDTH = 250.0
CENTER_FILTER_WAVELENGTH = 600.0
RADIANCE_OFFSET = -9.99e+31
RADIANCE_SCALING_FACTOR = -9.99e+31
REFLECTANCE_SCALING_FACTOR = -9.99e+31
MEX:REFLECTANCE_OFFSET = -9.99e+31
/* IMAGE OBJECT DEFINITIONS */
OBJECT = IMAGE
  INTERCHANGE_FORMAT = BINARY
  LINES = 1764
  LINE_SAMPLES = 1795
  SAMPLE_TYPE = UNSIGNED_INTEGER
  SAMPLE_BITS = 8
  BANDS = 1
  BAND_STORAGE_TYPE = BAND_SEQUENTIAL
  MAXIMUM = 239
  MEAN = 133.848
  MINIMUM = 7
  STANDARD_DEVIATION = 19.3216
END_OBJECT = IMAGE
/* MAP OBJECT DEFINITIONS */
OBJECT = IMAGE_MAP_PROJECTION
  ^DATA_SET_MAP_PROJECTION_CATALOG= "DSMAP.CAT"
  A_AXIS_RADIUS = 3396.19
  B_AXIS_RADIUS = 3396.19
  C_AXIS_RADIUS = 3396.19
  CENTER_LATITUDE = 0.0
  CENTER_LONGITUDE = 234.0
  COORDINATE_SYSTEM_NAME = PLANETOGRAPHIC
  COORDINATE_SYSTEM_TYPE = "BODY-FIXED ROTATING"
  EASTERNMOST_LONGITUDE = 234.501
  FIRST_STANDARD_PARALLEL = "N/A"
  LINE_FIRST_PIXEL = 1
  LINE_LAST_PIXEL = 1764
  LINE_PROJECTION_OFFSET = 1604874.0
  MAP_PROJECTION_ROTATION = 0.0
  MAP_PROJECTION_TYPE = SINUSOIDAL
  MAP_RESOLUTION = 23709.8786048756
  MAP_SCALE = 0.0025
  MAXIMUM_LATITUDE = 67.8306
  MINIMUM_LATITUDE = 67.7615
  POSITIVE_LONGITUDE_DIRECTION = EAST
  REFERENCE_LATITUDE = "N/A"
  REFERENCE_LONGITUDE = "N/A"
  SAMPLE_FIRST_PIXEL = 1
  SAMPLE_LAST_PIXEL = 1795
  SAMPLE_PROJECTION_OFFSET = -1895.0
  SECOND_STANDARD_PARALLEL = "N/A"
  WESTERNMOST_LONGITUDE = 234.316
END_OBJECT = IMAGE_MAP_PROJECTION
/* The JPEG2000 image data file associated with this label. */
OBJECT = COMPRESSED_FILE
  FILE_NAME = "HF961_0043_SR3.JP2"
  RECORD_TYPE = UNDEFINED
  FILE_RECORDS = UNK
  ENCODING_TYPE = "JP2"
  INTERCHANGE_FORMAT = BINARY
  UNCOMPRESSED_FILE_NAME = "HF961_0043_SR3.IMG"
  REQUIRED_STORAGE_BYTES = "3187920"
  ^DESCRIPTION = "JP2INFO.TXT"
END_OBJECT = COMPRESSED_FILE
END
