PDS_VERSION_ID = PDS3
/* FILE DATA ELEMENTS */
RECORD_TYPE = STREAM
/* POINTERS TO DATA OBJECTS */
^COMPRESSED_FILE = "HF970_0000_IR3.JP2"
/* IDENTIFICATION DATA ELEMENTS */
DATA_SET_ID = "MEX-M-HRSC-5-REFDR-MAPPROJECTED-V3.0"
DATA_SET_NAME = "MARS EXPRESS HRSC MAP PROJECTED REFDR V3.0"
DETECTOR_ID = MEX_HRSC_IR
EVENT_TYPE = "MARS-LOCAL-MAPPING-Im-Fl-Pf"
INSTRUMENT_HOST_ID = MEX
INSTRUMENT_HOST_NAME = "MARS EXPRESS"
INSTRUMENT_ID = HRSC
INSTRUMENT_NAME = "HIGH RESOLUTION STEREO CAMERA"
MISSION_NAME = "MARS EXPRESS"
MISSION_PHASE_NAME = ME_Phase_35
PROCESSING_LEVEL_ID = 3
PRODUCT_CREATION_TIME = 2017-06-29T11:20:52.000Z
PRODUCT_ID = "HF970_0000_IR3.JP2"
RELEASE_ID = 0135
REVISION_ID = 0000
/* QUALITY DATA ELEMENTS */
DATA_QUALITY_ID = 1
DATA_QUALITY_DESC = "Data calculated based on original SPICE kernels"
/* TIME DATA ELEMENTS */
SPACECRAFT_CLOCK_START_COUNT = "1/0418743725.07321"
SPACECRAFT_CLOCK_STOP_COUNT = "1/0418743976.40245"
START_TIME = 2016-08-08T13:42:19.018Z
STOP_TIME = 2016-08-08T13:45:01.290Z
/* ORBITAL DATA ELEMENTS */
ASCENDING_NODE_LONGITUDE = 273.88
MAXIMUM_RESOLUTION = 66.1
FOOTPRINT_POINT_LATITUDE = (64.5315,64.5172,64.5046,64.4903, 64.4745,64.4572,64.3291,64.1265,63.9232 ,63.6186,63.4156,63.1111,62.8064, 62.6031,62.3999,62.0951,61.8918,61.587, 61.3835,61.0785,60.8751,60.5702,60.3669 ,60.0619,59.8585,59.6553,59.4519, 59.1471,58.8365,58.6279,58.419,58.2104, 57.8973,57.5839,57.3753,57.1666,56.8475 ,56.5265,56.3125,56.0987,55.8848, 55.6712,55.4573,55.2396,55.0205,54.8013 ,54.5826,54.3636,54.145,53.8974,53.9061 ,53.9163,53.9276,53.9377,53.9459, 53.9497,54.1719,54.5012,54.7209,54.9412 ,55.1609,55.49,55.7046,56.0263,56.2408, 56.4557,56.7778,56.9927,57.2063,57.4157 ,57.6253,57.9397,58.1493,58.3589, 58.5685,58.7779,58.9876,59.1954,59.3998 ,59.7061,60.0125,60.2166,60.4209, 60.6253,60.8295,61.1361,61.3405,61.545, 61.8514,62.0557,62.26,62.4643,62.6687, 62.873,63.1796,63.384,63.6902,63.8945, 64.2006,64.5315)
FOOTPRINT_POINT_LONGITUDE = (38.6989,38.0948,37.6367,37.1804, 36.7263,36.2743,35.6258,35.6752,35.7236 ,35.7944,35.8404,35.9078,35.9732, 36.0157,36.0574,36.1184,36.1581,36.2162 ,36.2539,36.3092,36.3451,36.3977, 36.4319,36.482,36.5146,36.5466,36.5779, 36.6237,36.669,36.6987,36.7278,36.7564, 36.7981,36.8384,36.8647,36.8904,36.9288 ,36.9662,36.9905,37.0143,37.0375, 37.0603,37.0826,37.1048,37.1267,37.148, 37.169,37.1895,37.2095,37.3524,37.6224, 37.9667,38.4104,38.9057,39.4027,39.7017 ,39.8708,39.849,39.8341,39.8184,39.8031 ,39.7796,39.7638,39.7399,39.7237, 39.7069,39.6815,39.6642,39.6467,39.6293 ,39.6114,39.5841,39.5654,39.5466, 39.5275,39.5084,39.4886,39.4687,39.4486 ,39.4181,39.3869,39.3658,39.3442, 39.3222,39.2999,39.2656,39.2422,39.2182 ,39.182,39.1574,39.1321,39.1066,39.0804 ,39.0538,39.013,38.9851,38.9428,38.9137 ,38.8695,38.6989)
ORBIT_NUMBER = 15970
ORBITAL_ECCENTRICITY = 0.571
ORBITAL_INCLINATION = 86.95
ORBITAL_SEMIMAJOR_AXIS = 8771.94
PERIAPSIS_ALTITUDE = 384.37
PERIAPSIS_ARGUMENT_ANGLE = 106.62
PERIAPSIS_TIME = 2016-08-08T13:40:31.000Z
SPACECRAFT_ORIENTATION = (0.0,-1.0,0.0)
^MEX_ORIENTATION_DESC = "MEX_ORIENTATION_DESC.TXT"
SPACECRAFT_POINTING_MODE = ACROSSTRACK
^MEX_POINTING_DESC = "MEX_POINTING_DESC.TXT"
RIGHT_ASCENSION = -1e+32
DECLINATION = -1e+32
OFFSET_ANGLE = 0.269
SPACECRAFT_SOLAR_DISTANCE = 2.13372e+08
TARGET_NAME = MARS
/* CAMERA DATA ELEMENTS */
DETECTOR_TEMPERATURE = 17.351
FOCAL_PLANE_TEMPERATURE = 8.3794
INST_CMPRS_NAME = "DISCRETE COSINE TRANSFORMATION (DCT)"
INST_CMPRS_RATIO = 11.8438
INST_CMPRS_QUALITY = 0
INST_CMPRS_QUANTZ_TBL_ID = 0
INSTRUMENT_TEMPERATURE = 11.4379
LENS_TEMPERATURE = 8.7872
MACROPIXEL_SIZE = 4
MISSING_FRAMES = 0
PIXEL_SUBSAMPLING_FLAG = N
SIGNAL_CHAIN_ID = 2
/* RADIOMETRIC DATA ELEMENTS */
BANDWIDTH = 81.0
CENTER_FILTER_WAVELENGTH = 955.5
RADIANCE_OFFSET = 0.628237
RADIANCE_SCALING_FACTOR = 0.00341124
REFLECTANCE_SCALING_FACTOR = 0.000335055
MEX:REFLECTANCE_OFFSET = 0.0617059
/* IMAGE OBJECT DEFINITIONS */
OBJECT = IMAGE
  INTERCHANGE_FORMAT = BINARY
  LINES = 12510
  LINE_SAMPLES = 2566
  SAMPLE_TYPE = UNSIGNED_INTEGER
  SAMPLE_BITS = 8
  BANDS = 1
  BAND_STORAGE_TYPE = BAND_SEQUENTIAL
  MAXIMUM = 255
  MEAN = 102.075
  MINIMUM = 1
  STANDARD_DEVIATION = 35.9817
END_OBJECT = IMAGE
/* MAP OBJECT DEFINITIONS */
OBJECT = IMAGE_MAP_PROJECTION
  ^DATA_SET_MAP_PROJECTION_CATALOG= "DSMAP.CAT"
  A_AXIS_RADIUS = 3396.0
  B_AXIS_RADIUS = 3396.0
  C_AXIS_RADIUS = 3396.0
  CENTER_LATITUDE = 0.0
  CENTER_LONGITUDE = 38.0
  COORDINATE_SYSTEM_NAME = PLANETOGRAPHIC
  COORDINATE_SYSTEM_TYPE = "BODY-FIXED ROTATING"
  EASTERNMOST_LONGITUDE = 39.8708
  FIRST_STANDARD_PARALLEL = "N/A"
  LINE_FIRST_PIXEL = 1
  LINE_LAST_PIXEL = 12510
  LINE_PROJECTION_OFFSET = 76405.875
  MAP_PROJECTION_ROTATION = 0.0
  MAP_PROJECTION_TYPE = SINUSOIDAL
  MAP_RESOLUTION = 1185.42760773333
  MAP_SCALE = 0.05
  MAXIMUM_LATITUDE = 64.53149999999999
  MINIMUM_LATITUDE = 53.8974
  POSITIVE_LONGITUDE_DIRECTION = EAST
  REFERENCE_LATITUDE = "N/A"
  REFERENCE_LONGITUDE = "N/A"
  SAMPLE_FIRST_PIXEL = 1
  SAMPLE_LAST_PIXEL = 2566
  SAMPLE_PROJECTION_OFFSET = 1216.375
  SECOND_STANDARD_PARALLEL = "N/A"
  WESTERNMOST_LONGITUDE = 35.6258
END_OBJECT = IMAGE_MAP_PROJECTION
/* The JPEG2000 image data file associated with this label. */
OBJECT = COMPRESSED_FILE
  FILE_NAME = "HF970_0000_IR3.JP2"
  RECORD_TYPE = UNDEFINED
  FILE_RECORDS = UNK
  ENCODING_TYPE = "JP2"
  INTERCHANGE_FORMAT = BINARY
  UNCOMPRESSED_FILE_NAME = "HF970_0000_IR3.IMG"
  REQUIRED_STORAGE_BYTES = "32121188"
  ^DESCRIPTION = "JP2INFO.TXT"
END_OBJECT = COMPRESSED_FILE
END
