PDS_VERSION_ID = PDS3
/* FILE DATA ELEMENTS */
RECORD_TYPE = STREAM
/* POINTERS TO DATA OBJECTS */
^COMPRESSED_FILE = "HF973_0000_IR3.JP2"
/* IDENTIFICATION DATA ELEMENTS */
DATA_SET_ID = "MEX-M-HRSC-5-REFDR-MAPPROJECTED-V3.0"
DATA_SET_NAME = "MARS EXPRESS HRSC MAP PROJECTED REFDR V3.0"
DETECTOR_ID = MEX_HRSC_IR
EVENT_TYPE = "MARS-REGIONAL-MAPPING-Im-Gl-Pf"
INSTRUMENT_HOST_ID = MEX
INSTRUMENT_HOST_NAME = "MARS EXPRESS"
INSTRUMENT_ID = HRSC
INSTRUMENT_NAME = "HIGH RESOLUTION STEREO CAMERA"
MISSION_NAME = "MARS EXPRESS"
MISSION_PHASE_NAME = ME_Phase_35
PROCESSING_LEVEL_ID = 3
PRODUCT_CREATION_TIME = 2017-06-29T11:20:52.000Z
PRODUCT_ID = "HF973_0000_IR3.JP2"
RELEASE_ID = 0135
REVISION_ID = 0000
/* QUALITY DATA ELEMENTS */
DATA_QUALITY_ID = 1
DATA_QUALITY_DESC = "Data calculated based on original SPICE kernels"
/* TIME DATA ELEMENTS */
SPACECRAFT_CLOCK_START_COUNT = "1/0418819257.07338"
SPACECRAFT_CLOCK_STOP_COUNT = "1/0418819502.24495"
START_TIME = 2016-08-09T10:41:10.765Z
STOP_TIME = 2016-08-09T10:43:49.679Z
/* ORBITAL DATA ELEMENTS */
ASCENDING_NODE_LONGITUDE = 273.83
MAXIMUM_RESOLUTION = 65.4
FOOTPRINT_POINT_LATITUDE = (66.2398,66.2219,66.2014,66.1732, 66.1488,66.1143,65.7952,65.5951,65.3951 ,65.1946,64.9945,64.794,64.4933,64.2927 ,64.092,63.8914,63.6908,63.4904,63.2896 ,63.089,62.8881,62.687,62.4861,62.1846, 61.7825,61.5815,61.2801,60.9795,60.7784 ,60.577,60.3767,60.0743,59.8726,59.6715 ,59.4704,59.1649,58.9585,58.6488,58.34, 58.1335,57.8237,57.514,57.1996,56.988, 56.6707,56.3533,56.1415,55.9299,55.804, 55.8193,55.8398,55.8597,55.8729,55.8919 ,56.1041,56.3166,56.5288,56.7415, 57.0603,57.273,57.4855,57.6933,57.9004, 58.1078,58.4188,58.73,58.9375,59.1449, 59.4557,59.6573,59.8593,60.0612,60.2634 ,60.5666,60.7689,60.971,61.173,61.3751, 61.5773,61.7796,61.9814,62.1835,62.3857 ,62.6888,62.992,63.1941,63.3964,63.5982 ,63.8003,64.1033,64.3054,64.6085, 64.8104,65.1129,65.3147,65.5165,65.7183 ,65.9202,66.1216,66.2398)
FOOTPRINT_POINT_LONGITUDE = (90.2964,89.8486,89.3709,88.7746, 88.2984,87.6735,87.4276,87.4912,87.5536 ,87.6146,87.6746,87.7333,87.8193, 87.8751,87.9299,87.9837,88.0365,88.0884 ,88.1391,88.189,88.2378,88.2855,88.3325 ,88.4013,88.4899,88.533,88.5962,88.6581 ,88.6981,88.7371,88.776,88.8319,88.8682 ,88.9042,88.9395,88.9919,89.0265, 89.0772,89.1269,89.1588,89.2056,89.251, 89.2959,89.3254,89.3687,89.4105,89.4375 ,89.4641,89.8084,90.1372,90.6171,91.148 ,91.5525,92.1929,92.1731,92.1527, 92.1323,92.1113,92.0793,92.0575,92.0355 ,92.0135,91.9914,91.9688,91.9342, 91.8987,91.8746,91.8502,91.8127,91.7882 ,91.7631,91.7377,91.7116,91.6717, 91.6446,91.617,91.5892,91.5609,91.5319, 91.5024,91.4728,91.4425,91.4116,91.3644 ,91.3159,91.2828,91.2491,91.2151, 91.1804,91.127,91.0906,91.0348,90.9968, 90.939,90.8993,90.8589,90.8177,90.7756, 90.7332,90.2964)
ORBIT_NUMBER = 15973
ORBITAL_ECCENTRICITY = 0.571
ORBITAL_INCLINATION = 86.96
ORBITAL_SEMIMAJOR_AXIS = 8771.18
PERIAPSIS_ALTITUDE = 383.36
PERIAPSIS_ARGUMENT_ANGLE = 106.09
PERIAPSIS_TIME = 2016-08-09T10:39:41.000Z
SPACECRAFT_ORIENTATION = (0.0,-1.0,0.0)
^MEX_ORIENTATION_DESC = "MEX_ORIENTATION_DESC.TXT"
SPACECRAFT_POINTING_MODE = ACROSSTRACK
^MEX_POINTING_DESC = "MEX_POINTING_DESC.TXT"
RIGHT_ASCENSION = -1e+32
DECLINATION = -1e+32
OFFSET_ANGLE = -0.08
SPACECRAFT_SOLAR_DISTANCE = 2.1324e+08
TARGET_NAME = MARS
/* CAMERA DATA ELEMENTS */
DETECTOR_TEMPERATURE = 17.7588
FOCAL_PLANE_TEMPERATURE = 9.8067
INST_CMPRS_NAME = "DISCRETE COSINE TRANSFORMATION (DCT)"
INST_CMPRS_RATIO = 7.71182
INST_CMPRS_QUALITY = 0
INST_CMPRS_QUANTZ_TBL_ID = 0
INSTRUMENT_TEMPERATURE = 12.0496
LENS_TEMPERATURE = 9.8067
MACROPIXEL_SIZE = 4
MISSING_FRAMES = 0
PIXEL_SUBSAMPLING_FLAG = N
SIGNAL_CHAIN_ID = 2
/* RADIOMETRIC DATA ELEMENTS */
BANDWIDTH = 81.0
CENTER_FILTER_WAVELENGTH = 955.5
RADIANCE_OFFSET = 0.614828
RADIANCE_SCALING_FACTOR = 0.00197271
REFLECTANCE_SCALING_FACTOR = 0.00019352
MEX:REFLECTANCE_OFFSET = 0.0603139
/* IMAGE OBJECT DEFINITIONS */
OBJECT = IMAGE
  INTERCHANGE_FORMAT = BINARY
  LINES = 12266
  LINE_SAMPLES = 2776
  SAMPLE_TYPE = UNSIGNED_INTEGER
  SAMPLE_BITS = 8
  BANDS = 1
  BAND_STORAGE_TYPE = BAND_SEQUENTIAL
  MAXIMUM = 255
  MEAN = 126.046
  MINIMUM = 1
  STANDARD_DEVIATION = 50.2684
END_OBJECT = IMAGE
/* MAP OBJECT DEFINITIONS */
OBJECT = IMAGE_MAP_PROJECTION
  ^DATA_SET_MAP_PROJECTION_CATALOG= "DSMAP.CAT"
  A_AXIS_RADIUS = 3396.0
  B_AXIS_RADIUS = 3396.0
  C_AXIS_RADIUS = 3396.0
  CENTER_LATITUDE = 0.0
  CENTER_LONGITUDE = 90.0
  COORDINATE_SYSTEM_NAME = PLANETOGRAPHIC
  COORDINATE_SYSTEM_TYPE = "BODY-FIXED ROTATING"
  EASTERNMOST_LONGITUDE = 92.19289999999999
  FIRST_STANDARD_PARALLEL = "N/A"
  LINE_FIRST_PIXEL = 1
  LINE_LAST_PIXEL = 12266
  LINE_PROJECTION_OFFSET = 78418.125
  MAP_PROJECTION_ROTATION = 0.0
  MAP_PROJECTION_TYPE = SINUSOIDAL
  MAP_RESOLUTION = 1185.42760773333
  MAP_SCALE = 0.05
  MAXIMUM_LATITUDE = 66.2398
  MINIMUM_LATITUDE = 55.804
  POSITIVE_LONGITUDE_DIRECTION = EAST
  REFERENCE_LATITUDE = "N/A"
  REFERENCE_LONGITUDE = "N/A"
  SAMPLE_FIRST_PIXEL = 1
  SAMPLE_LAST_PIXEL = 2776
  SAMPLE_PROJECTION_OFFSET = 1294.625
  SECOND_STANDARD_PARALLEL = "N/A"
  WESTERNMOST_LONGITUDE = 87.4276
END_OBJECT = IMAGE_MAP_PROJECTION
/* The JPEG2000 image data file associated with this label. */
OBJECT = COMPRESSED_FILE
  FILE_NAME = "HF973_0000_IR3.JP2"
  RECORD_TYPE = UNDEFINED
  FILE_RECORDS = UNK
  ENCODING_TYPE = "JP2"
  INTERCHANGE_FORMAT = BINARY
  UNCOMPRESSED_FILE_NAME = "HF973_0000_IR3.IMG"
  REQUIRED_STORAGE_BYTES = "34072624"
  ^DESCRIPTION = "JP2INFO.TXT"
END_OBJECT = COMPRESSED_FILE
END
