PDS_VERSION_ID = PDS3
/* FILE DATA ELEMENTS */
RECORD_TYPE = STREAM
/* POINTERS TO DATA OBJECTS */
^COMPRESSED_FILE = "HF973_0000_P13.JP2"
/* IDENTIFICATION DATA ELEMENTS */
DATA_SET_ID = "MEX-M-HRSC-5-REFDR-MAPPROJECTED-V3.0"
DATA_SET_NAME = "MARS EXPRESS HRSC MAP PROJECTED REFDR V3.0"
DETECTOR_ID = MEX_HRSC_P1
EVENT_TYPE = "MARS-REGIONAL-MAPPING-Im-Gl-Pf"
INSTRUMENT_HOST_ID = MEX
INSTRUMENT_HOST_NAME = "MARS EXPRESS"
INSTRUMENT_ID = HRSC
INSTRUMENT_NAME = "HIGH RESOLUTION STEREO CAMERA"
MISSION_NAME = "MARS EXPRESS"
MISSION_PHASE_NAME = ME_Phase_35
PROCESSING_LEVEL_ID = 3
PRODUCT_CREATION_TIME = 2017-06-29T11:20:52.000Z
PRODUCT_ID = "HF973_0000_P13.JP2"
RELEASE_ID = 0135
REVISION_ID = 0000
/* QUALITY DATA ELEMENTS */
DATA_QUALITY_ID = 1
DATA_QUALITY_DESC = "Data calculated based on original SPICE kernels"
/* TIME DATA ELEMENTS */
SPACECRAFT_CLOCK_START_COUNT = "1/0418819257.07338"
SPACECRAFT_CLOCK_STOP_COUNT = "1/0418819502.24495"
START_TIME = 2016-08-09T10:41:16.894Z
STOP_TIME = 2016-08-09T10:43:56.559Z
/* ORBITAL DATA ELEMENTS */
ASCENDING_NODE_LONGITUDE = 273.83
MAXIMUM_RESOLUTION = 32.2
FOOTPRINT_POINT_LATITUDE = (66.2131,66.197,66.1742,66.1433,66.1178 ,66.0778,65.8937,65.693,65.4922,65.1911 ,64.9903,64.689,64.3875,64.0859,63.8849 ,63.684,63.2819,62.9804,62.6786,62.4773 ,62.2764,62.0749,61.8738,61.572,61.2704 ,61.0699,60.7682,60.5669,60.3663, 60.1648,59.9632,59.7621,59.4533,59.2468 ,59.0405,58.7311,58.5253,58.3192, 58.1128,57.9066,57.5914,57.38,57.1685, 56.9573,56.6405,56.4293,56.2179,56.003, 55.7958,55.8154,55.8364,55.8502,55.8636 ,55.8802,55.8879,56.105,56.4268,56.7449 ,56.9571,57.1693,57.3817,57.7002, 57.9127,58.1202,58.3273,58.5346,58.7419 ,59.0529,59.2602,59.4677,59.6747, 59.8812,60.1842,60.3864,60.5886,60.8919 ,61.1951,61.3974,61.5997,61.903,62.1053 ,62.3076,62.6111,62.8135,63.0159, 63.2183,63.4208,63.623,63.8254,64.1291, 64.3316,64.534,64.8373,65.1408,65.3431, 65.5455,65.7478,65.9502,66.1522, 66.2131)
FOOTPRINT_POINT_LONGITUDE = (90.2261,89.8219,89.2933,88.6415, 88.1457,87.4328,87.3826,87.4469,87.5099 ,87.6023,87.6623,87.7501,87.8352, 87.9178,87.9716,88.0245,88.1271,88.2015 ,88.2735,88.3203,88.3665,88.4115, 88.4558,88.5206,88.5838,88.6253,88.6855 ,88.7244,88.7632,88.8005,88.837,88.8732 ,88.9275,88.9629,88.9977,89.0487, 89.0822,89.1148,89.1465,89.1777,89.2241 ,89.2546,89.2845,89.3138,89.3567, 89.3846,89.4117,89.4388,89.6764,90.0999 ,90.602,90.9722,91.3691,91.9245,92.1987 ,92.1783,92.1473,92.116,92.0947,92.0731 ,92.0511,92.0174,91.9946,91.9719, 91.9488,91.9254,91.9015,91.8651,91.8403 ,91.815,91.7899,91.7641,91.7254,91.699, 91.6721,91.6311,91.5893,91.5606,91.5315 ,91.4871,91.4569,91.4261,91.379,91.3468 ,91.3141,91.2808,91.2468,91.2126, 91.1776,91.1238,91.0871,91.0498,90.9929 ,90.9343,90.8943,90.8535,90.812,90.7695 ,90.7268,90.2261)
ORBIT_NUMBER = 15973
ORBITAL_ECCENTRICITY = 0.571
ORBITAL_INCLINATION = 86.96
ORBITAL_SEMIMAJOR_AXIS = 8771.18
PERIAPSIS_ALTITUDE = 383.36
PERIAPSIS_ARGUMENT_ANGLE = 106.09
PERIAPSIS_TIME = 2016-08-09T10:39:41.000Z
SPACECRAFT_ORIENTATION = (0.0,-1.0,0.0)
^MEX_ORIENTATION_DESC = "MEX_ORIENTATION_DESC.TXT"
SPACECRAFT_POINTING_MODE = ACROSSTRACK
^MEX_POINTING_DESC = "MEX_POINTING_DESC.TXT"
RIGHT_ASCENSION = -1e+32
DECLINATION = -1e+32
OFFSET_ANGLE = -0.08
SPACECRAFT_SOLAR_DISTANCE = 2.1324e+08
TARGET_NAME = MARS
/* CAMERA DATA ELEMENTS */
DETECTOR_TEMPERATURE = 17.7588
FOCAL_PLANE_TEMPERATURE = 9.8067
INST_CMPRS_NAME = "DISCRETE COSINE TRANSFORMATION (DCT)"
INST_CMPRS_RATIO = 11.0316
INST_CMPRS_QUALITY = 0
INST_CMPRS_QUANTZ_TBL_ID = 0
INSTRUMENT_TEMPERATURE = 12.0496
LENS_TEMPERATURE = 9.8067
MACROPIXEL_SIZE = 2
MISSING_FRAMES = 0
PIXEL_SUBSAMPLING_FLAG = N
SIGNAL_CHAIN_ID = 3
/* RADIOMETRIC DATA ELEMENTS */
BANDWIDTH = 174.0
CENTER_FILTER_WAVELENGTH = 675.0
RADIANCE_OFFSET = 2.86704
RADIANCE_SCALING_FACTOR = 0.00662395
REFLECTANCE_SCALING_FACTOR = 0.000162009
MEX:REFLECTANCE_OFFSET = 0.0701221
/* IMAGE OBJECT DEFINITIONS */
OBJECT = IMAGE
  INTERCHANGE_FORMAT = BINARY
  LINES = 24532
  LINE_SAMPLES = 5551
  SAMPLE_TYPE = UNSIGNED_INTEGER
  SAMPLE_BITS = 8
  BANDS = 1
  BAND_STORAGE_TYPE = BAND_SEQUENTIAL
  MAXIMUM = 255
  MEAN = 131.173
  MINIMUM = 1
  STANDARD_DEVIATION = 57.9049
END_OBJECT = IMAGE
/* MAP OBJECT DEFINITIONS */
OBJECT = IMAGE_MAP_PROJECTION
  ^DATA_SET_MAP_PROJECTION_CATALOG= "DSMAP.CAT"
  A_AXIS_RADIUS = 3396.0
  B_AXIS_RADIUS = 3396.0
  C_AXIS_RADIUS = 3396.0
  CENTER_LATITUDE = 0.0
  CENTER_LONGITUDE = 90.0
  COORDINATE_SYSTEM_NAME = PLANETOGRAPHIC
  COORDINATE_SYSTEM_TYPE = "BODY-FIXED ROTATING"
  EASTERNMOST_LONGITUDE = 92.1987
  FIRST_STANDARD_PARALLEL = "N/A"
  LINE_FIRST_PIXEL = 1
  LINE_LAST_PIXEL = 24532
  LINE_PROJECTION_OFFSET = 156836.75
  MAP_PROJECTION_ROTATION = 0.0
  MAP_PROJECTION_TYPE = SINUSOIDAL
  MAP_RESOLUTION = 2370.85521546667
  MAP_SCALE = 0.025
  MAXIMUM_LATITUDE = 66.2131
  MINIMUM_LATITUDE = 55.7958
  POSITIVE_LONGITUDE_DIRECTION = EAST
  REFERENCE_LATITUDE = "N/A"
  REFERENCE_LONGITUDE = "N/A"
  SAMPLE_FIRST_PIXEL = 1
  SAMPLE_LAST_PIXEL = 5551
  SAMPLE_PROJECTION_OFFSET = 2589.75
  SECOND_STANDARD_PARALLEL = "N/A"
  WESTERNMOST_LONGITUDE = 87.3826
END_OBJECT = IMAGE_MAP_PROJECTION
/* The JPEG2000 image data file associated with this label. */
OBJECT = COMPRESSED_FILE
  FILE_NAME = "HF973_0000_P13.JP2"
  RECORD_TYPE = UNDEFINED
  FILE_RECORDS = UNK
  ENCODING_TYPE = "JP2"
  INTERCHANGE_FORMAT = BINARY
  UNCOMPRESSED_FILE_NAME = "HF973_0000_P13.IMG"
  REQUIRED_STORAGE_BYTES = "136204887"
  ^DESCRIPTION = "JP2INFO.TXT"
END_OBJECT = COMPRESSED_FILE
END
