PDS_VERSION_ID = PDS3
/* FILE DATA ELEMENTS */
RECORD_TYPE = STREAM
/* POINTERS TO DATA OBJECTS */
^COMPRESSED_FILE = "HF979_0000_P13.JP2"
/* IDENTIFICATION DATA ELEMENTS */
DATA_SET_ID = "MEX-M-HRSC-5-REFDR-MAPPROJECTED-V3.0"
DATA_SET_NAME = "MARS EXPRESS HRSC MAP PROJECTED REFDR V3.0"
DETECTOR_ID = MEX_HRSC_P1
EVENT_TYPE = "MARS-REGIONAL-MAPPING-Pf"
INSTRUMENT_HOST_ID = MEX
INSTRUMENT_HOST_NAME = "MARS EXPRESS"
INSTRUMENT_ID = HRSC
INSTRUMENT_NAME = "HIGH RESOLUTION STEREO CAMERA"
MISSION_NAME = "MARS EXPRESS"
MISSION_PHASE_NAME = ME_Phase_35
PROCESSING_LEVEL_ID = 3
PRODUCT_CREATION_TIME = 2017-06-29T11:20:52.000Z
PRODUCT_ID = "HF979_0000_P13.JP2"
RELEASE_ID = 0135
REVISION_ID = 0000
/* QUALITY DATA ELEMENTS */
DATA_QUALITY_ID = 1
DATA_QUALITY_DESC = "Data calculated based on original SPICE kernels"
/* TIME DATA ELEMENTS */
SPACECRAFT_CLOCK_START_COUNT = "1/0418970420.08239"
SPACECRAFT_CLOCK_STOP_COUNT = "1/0418970660.55803"
START_TIME = 2016-08-11T04:40:40.786Z
STOP_TIME = 2016-08-11T04:43:07.289Z
/* ORBITAL DATA ELEMENTS */
ASCENDING_NODE_LONGITUDE = 273.71
MAXIMUM_RESOLUTION = 33.7
FOOTPRINT_POINT_LATITUDE = (62.6563,62.6258,62.5932,62.5586, 62.5218,62.4828,62.4225,62.1539,61.7177 ,61.5407,61.3638,61.1868,60.9214, 60.7442,60.5671,60.3901,60.2133,60.0364 ,59.8594,59.6796,59.498,59.2259,59.0442 ,58.7719,58.4997,58.3181,58.1369, 57.9544,57.7683,57.4891,57.3031,57.1172 ,56.9314,56.6527,56.4669,56.1832,55.993 ,55.8027,55.5176,55.3276,55.1375, 54.9475,54.7529,54.5585,54.3642,54.1697 ,53.8785,53.6843,53.4869,53.2882, 53.0652,53.1113,53.1339,53.1663,53.21, 53.2354,53.4478,53.6474,53.9441,54.1391 ,54.3343,54.5297,54.725,54.9202,55.1157 ,55.3078,55.4984,55.6895,55.8808, 56.0722,56.2632,56.4547,56.6454,56.9254 ,57.112,57.2991,57.4859,57.673,57.86, 58.0471,58.2336,58.4162,58.69,58.9639, 59.1465,59.3292,59.512,59.7862,60.0596, 60.2378,60.5051,60.6834,60.8617,61.1291 ,61.3967,61.6639,61.8422,62.0205,62.285 ,62.6563)
FOOTPRINT_POINT_LONGITUDE = (195.332,194.878,194.419,193.956, 193.488,193.016,192.327,192.191,192.322 ,192.374,192.425,192.476,192.55,192.598 ,192.645,192.692,192.738,192.784, 192.828,192.873,192.918,192.984,193.026 ,193.089,193.15,193.19,193.23,193.268, 193.307,193.365,193.402,193.439,193.475 ,193.529,193.564,193.616,193.651, 193.684,193.734,193.766,193.798,193.83, 193.861,193.892,193.923,193.952,193.996 ,194.025,194.054,194.082,194.252, 194.831,195.13,195.589,196.256,196.677, 196.872,196.847,196.81,196.786,196.76, 196.735,196.709,196.683,196.656,196.63, 196.603,196.576,196.549,196.521,196.493 ,196.465,196.436,196.393,196.364, 196.334,196.304,196.274,196.243,196.212 ,196.18,196.149,196.101,196.052,196.019 ,195.986,195.952,195.9,195.847,195.812, 195.758,195.722,195.685,195.629,195.572 ,195.513,195.474,195.433,195.373, 195.332)
ORBIT_NUMBER = 15979
ORBITAL_ECCENTRICITY = 0.571
ORBITAL_INCLINATION = 86.96
ORBITAL_SEMIMAJOR_AXIS = 8767.16
PERIAPSIS_ALTITUDE = 384.44
PERIAPSIS_ARGUMENT_ANGLE = 105.07
PERIAPSIS_TIME = 2016-08-11T04:37:55.000Z
SPACECRAFT_ORIENTATION = (0.0,-1.0,0.0)
^MEX_ORIENTATION_DESC = "MEX_ORIENTATION_DESC.TXT"
SPACECRAFT_POINTING_MODE = ACROSSTRACK
^MEX_POINTING_DESC = "MEX_POINTING_DESC.TXT"
RIGHT_ASCENSION = -1e+32
DECLINATION = -1e+32
OFFSET_ANGLE = -1.078
SPACECRAFT_SOLAR_DISTANCE = 2.12978e+08
TARGET_NAME = MARS
/* CAMERA DATA ELEMENTS */
DETECTOR_TEMPERATURE = 17.9627
FOCAL_PLANE_TEMPERATURE = 9.6028
INST_CMPRS_NAME = "DISCRETE COSINE TRANSFORMATION (DCT)"
INST_CMPRS_RATIO = 11.2914
INST_CMPRS_QUALITY = 0
INST_CMPRS_QUANTZ_TBL_ID = 0
INSTRUMENT_TEMPERATURE = 12.2535
LENS_TEMPERATURE = 10.4184
MACROPIXEL_SIZE = 2
MISSING_FRAMES = 0
PIXEL_SUBSAMPLING_FLAG = N
SIGNAL_CHAIN_ID = 3
/* RADIOMETRIC DATA ELEMENTS */
BANDWIDTH = 174.0
CENTER_FILTER_WAVELENGTH = 675.0
RADIANCE_OFFSET = 3.76595
RADIANCE_SCALING_FACTOR = 0.0110763
REFLECTANCE_SCALING_FACTOR = 0.00027024
MEX:REFLECTANCE_OFFSET = 0.0918816
/* IMAGE OBJECT DEFINITIONS */
OBJECT = IMAGE
  INTERCHANGE_FORMAT = BINARY
  LINES = 22434
  LINE_SAMPLES = 5920
  SAMPLE_TYPE = UNSIGNED_INTEGER
  SAMPLE_BITS = 8
  BANDS = 1
  BAND_STORAGE_TYPE = BAND_SEQUENTIAL
  MAXIMUM = 255
  MEAN = 85.3495
  MINIMUM = 1
  STANDARD_DEVIATION = 50.3616
END_OBJECT = IMAGE
/* MAP OBJECT DEFINITIONS */
OBJECT = IMAGE_MAP_PROJECTION
  ^DATA_SET_MAP_PROJECTION_CATALOG= "DSMAP.CAT"
  A_AXIS_RADIUS = 3396.0
  B_AXIS_RADIUS = 3396.0
  C_AXIS_RADIUS = 3396.0
  CENTER_LATITUDE = 0.0
  CENTER_LONGITUDE = 195.0
  COORDINATE_SYSTEM_NAME = PLANETOGRAPHIC
  COORDINATE_SYSTEM_TYPE = "BODY-FIXED ROTATING"
  EASTERNMOST_LONGITUDE = 196.872
  FIRST_STANDARD_PARALLEL = "N/A"
  LINE_FIRST_PIXEL = 1
  LINE_LAST_PIXEL = 22434
  LINE_PROJECTION_OFFSET = 148330.25
  MAP_PROJECTION_ROTATION = 0.0
  MAP_PROJECTION_TYPE = SINUSOIDAL
  MAP_RESOLUTION = 2370.85521546667
  MAP_SCALE = 0.025
  MAXIMUM_LATITUDE = 62.6563
  MINIMUM_LATITUDE = 53.0652
  POSITIVE_LONGITUDE_DIRECTION = EAST
  REFERENCE_LATITUDE = "N/A"
  REFERENCE_LONGITUDE = "N/A"
  SAMPLE_FIRST_PIXEL = 1
  SAMPLE_LAST_PIXEL = 5920
  SAMPLE_PROJECTION_OFFSET = 3136.25
  SECOND_STANDARD_PARALLEL = "N/A"
  WESTERNMOST_LONGITUDE = 192.191
END_OBJECT = IMAGE_MAP_PROJECTION
/* The JPEG2000 image data file associated with this label. */
OBJECT = COMPRESSED_FILE
  FILE_NAME = "HF979_0000_P13.JP2"
  RECORD_TYPE = UNDEFINED
  FILE_RECORDS = UNK
  ENCODING_TYPE = "JP2"
  INTERCHANGE_FORMAT = BINARY
  UNCOMPRESSED_FILE_NAME = "HF979_0000_P13.IMG"
  REQUIRED_STORAGE_BYTES = "132838880"
  ^DESCRIPTION = "JP2INFO.TXT"
END_OBJECT = COMPRESSED_FILE
END
