PDS_VERSION_ID = PDS3
/* FILE DATA ELEMENTS */
RECORD_TYPE = STREAM
/* POINTERS TO DATA OBJECTS */
^COMPRESSED_FILE = "HF982_0000_ND3.JP2"
/* IDENTIFICATION DATA ELEMENTS */
DATA_SET_ID = "MEX-M-HRSC-5-REFDR-MAPPROJECTED-V3.0"
DATA_SET_NAME = "MARS EXPRESS HRSC MAP PROJECTED REFDR V3.0"
DETECTOR_ID = MEX_HRSC_NADIR
EVENT_TYPE = "MARS-REGIONAL-STEREO-Vo-Te"
INSTRUMENT_HOST_ID = MEX
INSTRUMENT_HOST_NAME = "MARS EXPRESS"
INSTRUMENT_ID = HRSC
INSTRUMENT_NAME = "HIGH RESOLUTION STEREO CAMERA"
MISSION_NAME = "MARS EXPRESS"
MISSION_PHASE_NAME = ME_Phase_35
PROCESSING_LEVEL_ID = 3
PRODUCT_CREATION_TIME = 2017-06-29T11:20:52.000Z
PRODUCT_ID = "HF982_0000_ND3.JP2"
RELEASE_ID = 0135
REVISION_ID = 0000
/* QUALITY DATA ELEMENTS */
DATA_QUALITY_ID = 1
DATA_QUALITY_DESC = "Data calculated based on original SPICE kernels"
/* TIME DATA ELEMENTS */
SPACECRAFT_CLOCK_START_COUNT = "1/0419046198.09046"
SPACECRAFT_CLOCK_STOP_COUNT = "1/0419046582.42152"
START_TIME = 2016-08-12T01:44:15.071Z
STOP_TIME = 2016-08-12T01:48:14.057Z
/* ORBITAL DATA ELEMENTS */
ASCENDING_NODE_LONGITUDE = 273.67
MAXIMUM_RESOLUTION = 21.3
FOOTPRINT_POINT_LATITUDE = (48.4023,48.3933,48.3826,48.3644, 48.3477,47.8611,47.5,47.0179,46.7731, 46.2839,46.0357,45.7874,45.5395,45.2881 ,45.0363,44.657,44.4016,44.1467,43.7591 ,43.5008,43.1086,42.8469,42.4495, 42.1845,41.782,41.5137,41.2415,40.9698, 40.695,40.42,40.0032,39.5839,39.3024, 39.0187,38.734,38.447,38.1593,37.8722, 37.5858,37.3002,37.0152,36.731,36.4474, 36.1646,35.6984,35.3786,35.0597,34.9012 ,34.908,34.9115,34.9136,34.9141,34.9135 ,34.911,35.2311,35.552,35.8739,36.1821, 36.4664,36.7513,37.037,37.3233,37.6104, 37.8981,38.1865,38.4756,38.7639,39.0499 ,39.3349,39.6177,39.8993,40.1789, 40.4576,40.7339,41.0099,41.2828,41.5562 ,41.8257,42.23,42.4961,42.8952,43.158, 43.5518,43.8113,44.2005,44.4564,44.7128 ,45.0937,45.3466,45.5991,45.8481, 46.0974,46.3467,46.5921,46.838,47.0839, 47.5679,47.9306,48.4076,48.4023)
FOOTPRINT_POINT_LONGITUDE = (251.293,250.861,250.429,249.805, 249.315,249.018,249.039,249.066,249.08, 249.104,249.117,249.13,249.143,249.154, 249.164,249.179,249.188,249.196,249.208 ,249.215,249.226,249.233,249.244,249.25 ,249.259,249.264,249.269,249.274, 249.278,249.28,249.285,249.29,249.291, 249.292,249.294,249.294,249.294,249.294 ,249.293,249.292,249.29,249.287,249.285 ,249.283,249.278,249.275,249.271, 249.668,250.224,250.653,251.112,251.51, 251.816,252.381,252.371,252.361,252.352 ,252.342,252.333,252.324,252.315, 252.306,252.296,252.286,252.276,252.265 ,252.255,252.244,252.234,252.223, 252.212,252.202,252.191,252.18,252.169, 252.158,252.147,252.136,252.119,252.107 ,252.09,252.078,252.059,252.047,252.028 ,252.015,252.002,251.983,251.971, 251.958,251.946,251.933,251.92,251.907, 251.893,251.88,251.852,251.83,251.801, 251.293)
ORBIT_NUMBER = 15982
ORBITAL_ECCENTRICITY = 0.571
ORBITAL_INCLINATION = 86.95
ORBITAL_SEMIMAJOR_AXIS = 8767.15
PERIAPSIS_ALTITUDE = 384.2
PERIAPSIS_ARGUMENT_ANGLE = 104.53
PERIAPSIS_TIME = 2016-08-12T01:37:04.000Z
SPACECRAFT_ORIENTATION = (0.0,-1.0,0.0)
^MEX_ORIENTATION_DESC = "MEX_ORIENTATION_DESC.TXT"
SPACECRAFT_POINTING_MODE = ACROSSTRACK
^MEX_POINTING_DESC = "MEX_POINTING_DESC.TXT"
RIGHT_ASCENSION = -1e+32
DECLINATION = -1e+32
OFFSET_ANGLE = -0.269
SPACECRAFT_SOLAR_DISTANCE = 2.12849e+08
TARGET_NAME = MARS
/* CAMERA DATA ELEMENTS */
DETECTOR_TEMPERATURE = 18.1666
FOCAL_PLANE_TEMPERATURE = 7.7677
INST_CMPRS_NAME = "DISCRETE COSINE TRANSFORMATION (DCT)"
INST_CMPRS_RATIO = 4.46276
INST_CMPRS_QUALITY = 0
INST_CMPRS_QUANTZ_TBL_ID = 0
INSTRUMENT_TEMPERATURE = 11.234
LENS_TEMPERATURE = 8.7872
MACROPIXEL_SIZE = 1
MISSING_FRAMES = 0
PIXEL_SUBSAMPLING_FLAG = N
SIGNAL_CHAIN_ID = 0
/* RADIOMETRIC DATA ELEMENTS */
BANDWIDTH = 177.0
CENTER_FILTER_WAVELENGTH = 677.5
RADIANCE_OFFSET = 2.2395
RADIANCE_SCALING_FACTOR = 0.0450097
REFLECTANCE_SCALING_FACTOR = 0.00108325
MEX:REFLECTANCE_OFFSET = 0.0538984
/* IMAGE OBJECT DEFINITIONS */
OBJECT = IMAGE
  INTERCHANGE_FORMAT = BINARY
  LINES = 32044
  LINE_SAMPLES = 6237
  SAMPLE_TYPE = UNSIGNED_INTEGER
  SAMPLE_BITS = 8
  BANDS = 1
  BAND_STORAGE_TYPE = BAND_SEQUENTIAL
  MAXIMUM = 255
  MEAN = 128.479
  MINIMUM = 1
  STANDARD_DEVIATION = 23.0242
END_OBJECT = IMAGE
/* MAP OBJECT DEFINITIONS */
OBJECT = IMAGE_MAP_PROJECTION
  ^DATA_SET_MAP_PROJECTION_CATALOG= "DSMAP.CAT"
  A_AXIS_RADIUS = 3396.0
  B_AXIS_RADIUS = 3396.0
  C_AXIS_RADIUS = 3396.0
  CENTER_LATITUDE = 0.0
  CENTER_LONGITUDE = 251.0
  COORDINATE_SYSTEM_NAME = PLANETOGRAPHIC
  COORDINATE_SYSTEM_TYPE = "BODY-FIXED ROTATING"
  EASTERNMOST_LONGITUDE = 252.381
  FIRST_STANDARD_PARALLEL = "N/A"
  LINE_FIRST_PIXEL = 1
  LINE_LAST_PIXEL = 32044
  LINE_PROJECTION_OFFSET = 114774.0
  MAP_PROJECTION_ROTATION = 0.0
  MAP_PROJECTION_TYPE = SINUSOIDAL
  MAP_RESOLUTION = 2370.85521546667
  MAP_SCALE = 0.025
  MAXIMUM_LATITUDE = 48.4076
  MINIMUM_LATITUDE = 34.9012
  POSITIVE_LONGITUDE_DIRECTION = EAST
  REFERENCE_LATITUDE = "N/A"
  REFERENCE_LONGITUDE = "N/A"
  SAMPLE_FIRST_PIXEL = 1
  SAMPLE_LAST_PIXEL = 6237
  SAMPLE_PROJECTION_OFFSET = 3481.0
  SECOND_STANDARD_PARALLEL = "N/A"
  WESTERNMOST_LONGITUDE = 249.018
END_OBJECT = IMAGE_MAP_PROJECTION
/* The JPEG2000 image data file associated with this label. */
OBJECT = COMPRESSED_FILE
  FILE_NAME = "HF982_0000_ND3.JP2"
  RECORD_TYPE = UNDEFINED
  FILE_RECORDS = UNK
  ENCODING_TYPE = "JP2"
  INTERCHANGE_FORMAT = BINARY
  UNCOMPRESSED_FILE_NAME = "HF982_0000_ND3.IMG"
  REQUIRED_STORAGE_BYTES = "199889613"
  ^DESCRIPTION = "JP2INFO.TXT"
END_OBJECT = COMPRESSED_FILE
END
