PDS_VERSION_ID = PDS3
/* FILE DATA ELEMENTS */
RECORD_TYPE = STREAM
/* POINTERS TO DATA OBJECTS */
^COMPRESSED_FILE = "HF984_0000_P13.JP2"
/* IDENTIFICATION DATA ELEMENTS */
DATA_SET_ID = "MEX-M-HRSC-5-REFDR-MAPPROJECTED-V3.0"
DATA_SET_NAME = "MARS EXPRESS HRSC MAP PROJECTED REFDR V3.0"
DETECTOR_ID = MEX_HRSC_P1
EVENT_TYPE = "MARS-REGIONAL-STEREO-Te-Gl-Mw"
INSTRUMENT_HOST_ID = MEX
INSTRUMENT_HOST_NAME = "MARS EXPRESS"
INSTRUMENT_ID = HRSC
INSTRUMENT_NAME = "HIGH RESOLUTION STEREO CAMERA"
MISSION_NAME = "MARS EXPRESS"
MISSION_PHASE_NAME = ME_Phase_35
PROCESSING_LEVEL_ID = 3
PRODUCT_CREATION_TIME = 2017-06-29T11:20:52.000Z
PRODUCT_ID = "HF984_0000_P13.JP2"
RELEASE_ID = 0135
REVISION_ID = 0000
/* QUALITY DATA ELEMENTS */
DATA_QUALITY_ID = 1
DATA_QUALITY_DESC = "Data calculated based on original SPICE kernels"
/* TIME DATA ELEMENTS */
SPACECRAFT_CLOCK_START_COUNT = "1/0419096474.09066"
SPACECRAFT_CLOCK_STOP_COUNT = "1/0419096707.57906"
START_TIME = 2016-08-12T15:41:36.298Z
STOP_TIME = 2016-08-12T15:43:37.323Z
/* ORBITAL DATA ELEMENTS */
ASCENDING_NODE_LONGITUDE = 273.62
MAXIMUM_RESOLUTION = 38.1
FOOTPRINT_POINT_LATITUDE = (54.5275,54.5194,54.5062,54.4884, 54.4716,54.453,54.4287,54.3507,54.0703, 53.7854,53.5011,53.0749,52.9316,52.7865 ,52.6411,52.496,52.3509,52.2059,51.9884 ,51.8434,51.6956,51.5475,51.3996, 51.1778,51.0302,50.8823,50.6578,50.507, 50.3562,50.2055,50.0549,49.9041,49.6766 ,49.5229,49.3694,49.216,49.0627,48.8285 ,48.6675,48.4332,48.2768,48.043,47.8886 ,47.727,47.5673,47.4087,47.1705,47.0116 ,46.7917,46.8098,46.8229,46.8329,46.844 ,46.8526,46.8581,46.863,46.8678,46.8734 ,47.1179,47.2772,47.5165,47.756,47.9946 ,48.1513,48.3082,48.4665,48.6221, 48.7851,48.9402,49.1756,49.3298,49.4841 ,49.6381,49.8693,50.0199,50.1708,50.322 ,50.4733,50.6247,50.776,50.9265,51.0753 ,51.2977,51.4461,51.5948,51.7441, 51.9657,52.1113,52.257,52.4023,52.5479, 52.6937,52.9123,53.1298,53.4866,53.6294 ,53.7724,53.9867,54.2724,54.5275)
FOOTPRINT_POINT_LONGITUDE = (46.7665,46.4811,46.0658,45.5717, 45.1554,44.7388,44.2425,44.0203,44.0511 ,44.0815,44.1114,44.1545,44.1682, 44.1824,44.1961,44.2097,44.2231,44.2363 ,44.2558,44.2685,44.2813,44.2939, 44.3064,44.3247,44.3368,44.3485,44.3656 ,44.3772,44.3885,44.3997,44.4107, 44.4213,44.4372,44.4477,44.4581,44.4683 ,44.4784,44.4939,44.5038,44.5183, 44.5275,44.5414,44.5514,44.558,44.5663, 44.575,44.5875,44.5955,44.6066,45.0055, 45.3509,45.6161,45.987,46.3048,46.5168, 46.7284,46.9398,47.2305,47.3329,47.3241 ,47.3107,47.2971,47.2834,47.2742, 47.2648,47.2545,47.2458,47.2354,47.2263 ,47.2118,47.202,47.192,47.1821,47.1669, 47.1572,47.1472,47.1369,47.1266,47.1162 ,47.1056,47.0949,47.0841,47.0681, 47.0573,47.0462,47.0347,47.0184,47.0072 ,46.9958,46.9846,46.9732,46.9615, 46.9439,46.926,46.8962,46.884,46.8716, 46.8529,46.8276,46.7665)
ORBIT_NUMBER = 15984
ORBITAL_ECCENTRICITY = 0.571
ORBITAL_INCLINATION = 86.95
ORBITAL_SEMIMAJOR_AXIS = 8769.67
PERIAPSIS_ALTITUDE = 384.85
PERIAPSIS_ARGUMENT_ANGLE = 104.21
PERIAPSIS_TIME = 2016-08-12T15:36:29.000Z
SPACECRAFT_ORIENTATION = (0.0,-1.0,0.0)
^MEX_ORIENTATION_DESC = "MEX_ORIENTATION_DESC.TXT"
SPACECRAFT_POINTING_MODE = ACROSSTRACK
^MEX_POINTING_DESC = "MEX_POINTING_DESC.TXT"
RIGHT_ASCENSION = -1e+32
DECLINATION = -1e+32
OFFSET_ANGLE = -0.2
SPACECRAFT_SOLAR_DISTANCE = 2.12763e+08
TARGET_NAME = MARS
/* CAMERA DATA ELEMENTS */
DETECTOR_TEMPERATURE = 17.5549
FOCAL_PLANE_TEMPERATURE = 7.9716
INST_CMPRS_NAME = "DISCRETE COSINE TRANSFORMATION (DCT)"
INST_CMPRS_RATIO = 8.12035
INST_CMPRS_QUALITY = 0
INST_CMPRS_QUANTZ_TBL_ID = 0
INSTRUMENT_TEMPERATURE = 11.6418
LENS_TEMPERATURE = 8.7872
MACROPIXEL_SIZE = 2
MISSING_FRAMES = 2
PIXEL_SUBSAMPLING_FLAG = N
SIGNAL_CHAIN_ID = 3
/* RADIOMETRIC DATA ELEMENTS */
BANDWIDTH = 174.0
CENTER_FILTER_WAVELENGTH = 675.0
RADIANCE_OFFSET = 3.84603
RADIANCE_SCALING_FACTOR = 0.0125026
REFLECTANCE_SCALING_FACTOR = 0.000304421
MEX:REFLECTANCE_OFFSET = 0.0936458
/* IMAGE OBJECT DEFINITIONS */
OBJECT = IMAGE
  INTERCHANGE_FORMAT = BINARY
  LINES = 9087
  LINE_SAMPLES = 2546
  SAMPLE_TYPE = UNSIGNED_INTEGER
  SAMPLE_BITS = 8
  BANDS = 1
  BAND_STORAGE_TYPE = BAND_SEQUENTIAL
  MAXIMUM = 255
  MEAN = 163.372
  MINIMUM = 1
  STANDARD_DEVIATION = 37.5829
END_OBJECT = IMAGE
/* MAP OBJECT DEFINITIONS */
OBJECT = IMAGE_MAP_PROJECTION
  ^DATA_SET_MAP_PROJECTION_CATALOG= "DSMAP.CAT"
  A_AXIS_RADIUS = 3396.0
  B_AXIS_RADIUS = 3396.0
  C_AXIS_RADIUS = 3396.0
  CENTER_LATITUDE = 0.0
  CENTER_LONGITUDE = 46.0
  COORDINATE_SYSTEM_NAME = PLANETOGRAPHIC
  COORDINATE_SYSTEM_TYPE = "BODY-FIXED ROTATING"
  EASTERNMOST_LONGITUDE = 47.3329
  FIRST_STANDARD_PARALLEL = "N/A"
  LINE_FIRST_PIXEL = 1
  LINE_LAST_PIXEL = 9087
  LINE_PROJECTION_OFFSET = 64563.75
  MAP_PROJECTION_ROTATION = 0.0
  MAP_PROJECTION_TYPE = SINUSOIDAL
  MAP_RESOLUTION = 1185.42760773333
  MAP_SCALE = 0.05
  MAXIMUM_LATITUDE = 54.5275
  MINIMUM_LATITUDE = 46.7917
  POSITIVE_LONGITUDE_DIRECTION = EAST
  REFERENCE_LATITUDE = "N/A"
  REFERENCE_LONGITUDE = "N/A"
  SAMPLE_FIRST_PIXEL = 1
  SAMPLE_LAST_PIXEL = 2546
  SAMPLE_PROJECTION_OFFSET = 1402.25
  SECOND_STANDARD_PARALLEL = "N/A"
  WESTERNMOST_LONGITUDE = 44.0203
END_OBJECT = IMAGE_MAP_PROJECTION
/* The JPEG2000 image data file associated with this label. */
OBJECT = COMPRESSED_FILE
  FILE_NAME = "HF984_0000_P13.JP2"
  RECORD_TYPE = UNDEFINED
  FILE_RECORDS = UNK
  ENCODING_TYPE = "JP2"
  INTERCHANGE_FORMAT = BINARY
  UNCOMPRESSED_FILE_NAME = "HF984_0000_P13.IMG"
  REQUIRED_STORAGE_BYTES = "23155870"
  ^DESCRIPTION = "JP2INFO.TXT"
END_OBJECT = COMPRESSED_FILE
END
