PDS_VERSION_ID = PDS3
/* FILE DATA ELEMENTS */
RECORD_TYPE = STREAM
/* POINTERS TO DATA OBJECTS */
^COMPRESSED_FILE = "HF986_0000_S23.JP2"
/* IDENTIFICATION DATA ELEMENTS */
DATA_SET_ID = "MEX-M-HRSC-5-REFDR-MAPPROJECTED-V3.0"
DATA_SET_NAME = "MARS EXPRESS HRSC MAP PROJECTED REFDR V3.0"
DETECTOR_ID = MEX_HRSC_S2
EVENT_TYPE = "MARS-REGIONAL-MAPPING-Im-Pf-Tc"
INSTRUMENT_HOST_ID = MEX
INSTRUMENT_HOST_NAME = "MARS EXPRESS"
INSTRUMENT_ID = HRSC
INSTRUMENT_NAME = "HIGH RESOLUTION STEREO CAMERA"
MISSION_NAME = "MARS EXPRESS"
MISSION_PHASE_NAME = ME_Phase_35
PROCESSING_LEVEL_ID = 3
PRODUCT_CREATION_TIME = 2017-06-29T11:20:52.000Z
PRODUCT_ID = "HF986_0000_S23.JP2"
RELEASE_ID = 0135
REVISION_ID = 0000
/* QUALITY DATA ELEMENTS */
DATA_QUALITY_ID = 1
DATA_QUALITY_DESC = "Data calculated based on original SPICE kernels"
/* TIME DATA ELEMENTS */
SPACECRAFT_CLOCK_START_COUNT = "1/0419146746.09032"
SPACECRAFT_CLOCK_STOP_COUNT = "1/0419146997.07080"
START_TIME = 2016-08-13T05:40:35.237Z
STOP_TIME = 2016-08-13T05:43:22.955Z
/* ORBITAL DATA ELEMENTS */
ASCENDING_NODE_LONGITUDE = 273.58
MAXIMUM_RESOLUTION = 38.6
FOOTPRINT_POINT_LATITUDE = (60.7106,60.695,60.6782,60.66,60.6406, 60.6199,60.5381,60.2726,60.0025,59.8219 ,59.4611,59.1012,58.9183,58.7346, 58.5512,58.3681,58.1853,58.0027,57.7243 ,57.5379,57.352,57.1663,56.9808,56.7928 ,56.6042,56.321,56.1329,55.9447,55.753, 55.5616,55.3705,55.0841,54.7932,54.5994 ,54.4056,54.2122,54.0163,53.8194, 53.6228,53.4269,53.2288,53.0294,52.8304 ,52.5322,52.2291,52.0276,51.8264, 51.5205,51.1958,51.2084,51.2224,51.235, 51.2486,51.2564,51.2665,51.2747,51.4796 ,51.6848,51.8896,52.0918,52.2941, 52.4969,52.6986,52.898,53.0979,53.298, 53.497,53.7931,54.0886,54.286,54.4803, 54.6748,54.8698,55.1622,55.3538,55.5456 ,55.7379,55.9302,56.1214,56.3102, 56.4995,56.689,56.8788,57.0679,57.2542, 57.534,57.7209,57.9079,58.1863,58.3699, 58.5537,58.83,59.0144,59.1984,59.5599, 59.7412,59.9228,60.195,60.5552,60.7106)
FOOTPRINT_POINT_LONGITUDE = (202.346,201.859,201.373,200.89,200.409 ,199.929,199.401,199.443,199.484, 199.511,199.564,199.614,199.639,199.664 ,199.688,199.712,199.735,199.758, 199.792,199.814,199.835,199.856,199.877 ,199.898,199.918,199.947,199.967, 199.985,200.004,200.022,200.04,200.066, 200.092,200.109,200.125,200.141,200.156 ,200.172,200.187,200.201,200.216,200.23 ,200.244,200.264,200.284,200.296, 200.308,200.327,200.464,200.825,201.276 ,201.728,202.242,202.575,203.061, 203.469,203.456,203.443,203.43,203.417, 203.404,203.39,203.377,203.363,203.349, 203.335,203.321,203.301,203.279,203.264 ,203.25,203.235,203.22,203.197,203.182, 203.167,203.151,203.135,203.119,203.103 ,203.087,203.071,203.054,203.037, 203.021,202.995,202.978,202.96,202.934, 202.916,202.898,202.87,202.852,202.833, 202.794,202.775,202.756,202.725,202.685 ,202.346)
ORBIT_NUMBER = 15986
ORBITAL_ECCENTRICITY = 0.571
ORBITAL_INCLINATION = 86.96
ORBITAL_SEMIMAJOR_AXIS = 8766.14
PERIAPSIS_ALTITUDE = 384.62
PERIAPSIS_ARGUMENT_ANGLE = 103.86
PERIAPSIS_TIME = 2016-08-13T05:35:54.000Z
SPACECRAFT_ORIENTATION = (0.0,-1.0,0.0)
^MEX_ORIENTATION_DESC = "MEX_ORIENTATION_DESC.TXT"
SPACECRAFT_POINTING_MODE = ACROSSTRACK
^MEX_POINTING_DESC = "MEX_POINTING_DESC.TXT"
RIGHT_ASCENSION = -1e+32
DECLINATION = -1e+32
OFFSET_ANGLE = 0.269
SPACECRAFT_SOLAR_DISTANCE = 2.12678e+08
TARGET_NAME = MARS
/* CAMERA DATA ELEMENTS */
DETECTOR_TEMPERATURE = 18.5744
FOCAL_PLANE_TEMPERATURE = 7.7677
INST_CMPRS_NAME = "DISCRETE COSINE TRANSFORMATION (DCT)"
INST_CMPRS_RATIO = 11.2647
INST_CMPRS_QUALITY = 0
INST_CMPRS_QUANTZ_TBL_ID = 0
INSTRUMENT_TEMPERATURE = 11.4379
LENS_TEMPERATURE = 8.5833
MACROPIXEL_SIZE = 2
MISSING_FRAMES = 0
PIXEL_SUBSAMPLING_FLAG = N
SIGNAL_CHAIN_ID = 1
/* RADIOMETRIC DATA ELEMENTS */
BANDWIDTH = 178.0
CENTER_FILTER_WAVELENGTH = 679.0
RADIANCE_OFFSET = 4.07109
RADIANCE_SCALING_FACTOR = 0.0105203
REFLECTANCE_SCALING_FACTOR = 0.000252001
MEX:REFLECTANCE_OFFSET = 0.0975177
/* IMAGE OBJECT DEFINITIONS */
OBJECT = IMAGE
  INTERCHANGE_FORMAT = BINARY
  LINES = 22854
  LINE_SAMPLES = 4939
  SAMPLE_TYPE = UNSIGNED_INTEGER
  SAMPLE_BITS = 8
  BANDS = 1
  BAND_STORAGE_TYPE = BAND_SEQUENTIAL
  MAXIMUM = 255
  MEAN = 129.325
  MINIMUM = 1
  STANDARD_DEVIATION = 66.148
END_OBJECT = IMAGE
/* MAP OBJECT DEFINITIONS */
OBJECT = IMAGE_MAP_PROJECTION
  ^DATA_SET_MAP_PROJECTION_CATALOG= "DSMAP.CAT"
  A_AXIS_RADIUS = 3396.0
  B_AXIS_RADIUS = 3396.0
  C_AXIS_RADIUS = 3396.0
  CENTER_LATITUDE = 0.0
  CENTER_LONGITUDE = 202.0
  COORDINATE_SYSTEM_NAME = PLANETOGRAPHIC
  COORDINATE_SYSTEM_TYPE = "BODY-FIXED ROTATING"
  EASTERNMOST_LONGITUDE = 203.469
  FIRST_STANDARD_PARALLEL = "N/A"
  LINE_FIRST_PIXEL = 1
  LINE_LAST_PIXEL = 22854
  LINE_PROJECTION_OFFSET = 144186.75
  MAP_PROJECTION_ROTATION = 0.0
  MAP_PROJECTION_TYPE = SINUSOIDAL
  MAP_RESOLUTION = 2370.85521546667
  MAP_SCALE = 0.025
  MAXIMUM_LATITUDE = 60.7106
  MINIMUM_LATITUDE = 51.1958
  POSITIVE_LONGITUDE_DIRECTION = EAST
  REFERENCE_LATITUDE = "N/A"
  REFERENCE_LONGITUDE = "N/A"
  SAMPLE_FIRST_PIXEL = 1
  SAMPLE_LAST_PIXEL = 4939
  SAMPLE_PROJECTION_OFFSET = 2957.25
  SECOND_STANDARD_PARALLEL = "N/A"
  WESTERNMOST_LONGITUDE = 199.401
END_OBJECT = IMAGE_MAP_PROJECTION
/* The JPEG2000 image data file associated with this label. */
OBJECT = COMPRESSED_FILE
  FILE_NAME = "HF986_0000_S23.JP2"
  RECORD_TYPE = UNDEFINED
  FILE_RECORDS = UNK
  ENCODING_TYPE = "JP2"
  INTERCHANGE_FORMAT = BINARY
  UNCOMPRESSED_FILE_NAME = "HF986_0000_S23.IMG"
  REQUIRED_STORAGE_BYTES = "112900601"
  ^DESCRIPTION = "JP2INFO.TXT"
END_OBJECT = COMPRESSED_FILE
END
