PDS_VERSION_ID = PDS3
/* FILE DATA ELEMENTS */
RECORD_TYPE = STREAM
/* POINTERS TO DATA OBJECTS */
^COMPRESSED_FILE = "HF989_0000_P23.JP2"
/* IDENTIFICATION DATA ELEMENTS */
DATA_SET_ID = "MEX-M-HRSC-5-REFDR-MAPPROJECTED-V3.0"
DATA_SET_NAME = "MARS EXPRESS HRSC MAP PROJECTED REFDR V3.0"
DETECTOR_ID = MEX_HRSC_P2
EVENT_TYPE = "MARS-REGIONAL-STEREO-Vo-Te"
INSTRUMENT_HOST_ID = MEX
INSTRUMENT_HOST_NAME = "MARS EXPRESS"
INSTRUMENT_ID = HRSC
INSTRUMENT_NAME = "HIGH RESOLUTION STEREO CAMERA"
MISSION_NAME = "MARS EXPRESS"
MISSION_PHASE_NAME = ME_Phase_35
PROCESSING_LEVEL_ID = 3
PRODUCT_CREATION_TIME = 2017-06-29T11:20:52.000Z
PRODUCT_ID = "HF989_0000_P23.JP2"
RELEASE_ID = 0135
REVISION_ID = 0000
/* QUALITY DATA ELEMENTS */
DATA_QUALITY_ID = 1
DATA_QUALITY_DESC = "Data calculated based on original SPICE kernels"
/* TIME DATA ELEMENTS */
SPACECRAFT_CLOCK_START_COUNT = "1/0419222494.09058"
SPACECRAFT_CLOCK_STOP_COUNT = "1/0419222891.18137"
START_TIME = 2016-08-14T02:43:11.590Z
STOP_TIME = 2016-08-14T02:47:38.463Z
/* ORBITAL DATA ELEMENTS */
ASCENDING_NODE_LONGITUDE = 273.54
MAXIMUM_RESOLUTION = 47.5
FOOTPRINT_POINT_LATITUDE = (48.4001,48.3977,48.3938,48.3885, 48.3817,48.3733,48.4055,47.9232,47.4344 ,47.0663,46.8181,46.4449,46.1943, 45.9437,45.5622,45.3079,45.0519,44.7975 ,44.5397,44.2824,43.8932,43.5021, 43.2396,42.975,42.7096,42.3084,42.0406, 41.7736,41.5074,41.2415,40.9768,40.713, 40.4503,40.1883,39.7471,39.4524,39.1592 ,38.867,38.576,38.2861,37.9976,37.7068, 37.4144,37.1209,36.8246,36.5261,36.227, 35.9264,35.6233,35.3191,34.8637,34.8485 ,34.8441,34.84,34.8363,34.8315,34.8232, 34.8102,35.1154,35.422,35.88,36.1906, 36.6341,36.9333,37.3785,37.8218,38.2598 ,38.5522,38.8466,39.1418,39.4381, 39.7349,40.1798,40.4433,40.7076,40.9724 ,41.2383,41.5048,41.9065,42.1747,42.444 ,42.8455,43.2459,43.5106,43.7742, 44.0358,44.2976,44.5572,44.8176,45.0742 ,45.4594,45.7141,46.0953,46.3465, 46.5987,46.8465,47.095,47.4654,47.9548, 48.4001)
FOOTPRINT_POINT_LONGITUDE = (254.254,253.793,253.328,252.857, 252.383,251.903,251.238,251.282,251.326 ,251.357,251.378,251.409,251.428, 251.448,251.477,251.496,251.513,251.528 ,251.542,251.557,251.576,251.595, 251.607,251.618,251.63,251.646,251.657, 251.667,251.677,251.687,251.696,251.704 ,251.712,251.719,251.729,251.735, 251.739,251.743,251.747,251.75,251.752, 251.753,251.755,251.756,251.757,251.758 ,251.758,251.757,251.757,251.755, 251.751,252.349,252.838,253.287,253.597 ,253.94,254.518,255.308,255.292,255.277 ,255.253,255.238,255.213,255.197, 255.173,255.148,255.123,255.107,255.089 ,255.072,255.054,255.036,255.008, 254.992,254.975,254.958,254.94,254.923, 254.896,254.877,254.858,254.83,254.801, 254.781,254.762,254.742,254.722,254.701 ,254.681,254.66,254.629,254.607,254.575 ,254.553,254.531,254.509,254.487, 254.453,254.407,254.254)
ORBIT_NUMBER = 15989
ORBITAL_ECCENTRICITY = 0.571
ORBITAL_INCLINATION = 86.95
ORBITAL_SEMIMAJOR_AXIS = 8766.38
PERIAPSIS_ALTITUDE = 384.59
PERIAPSIS_ARGUMENT_ANGLE = 103.33
PERIAPSIS_TIME = 2016-08-14T02:35:03.000Z
SPACECRAFT_ORIENTATION = (0.0,-1.0,0.0)
^MEX_ORIENTATION_DESC = "MEX_ORIENTATION_DESC.TXT"
SPACECRAFT_POINTING_MODE = ACROSSTRACK
^MEX_POINTING_DESC = "MEX_POINTING_DESC.TXT"
RIGHT_ASCENSION = -1e+32
DECLINATION = -1e+32
OFFSET_ANGLE = -1.2
SPACECRAFT_SOLAR_DISTANCE = 2.12551e+08
TARGET_NAME = MARS
/* CAMERA DATA ELEMENTS */
DETECTOR_TEMPERATURE = 19.1861
FOCAL_PLANE_TEMPERATURE = 8.5833
INST_CMPRS_NAME = "DISCRETE COSINE TRANSFORMATION (DCT)"
INST_CMPRS_RATIO = 4.35412
INST_CMPRS_QUALITY = 0
INST_CMPRS_QUANTZ_TBL_ID = 0
INSTRUMENT_TEMPERATURE = 11.8457
LENS_TEMPERATURE = 8.9911
MACROPIXEL_SIZE = 2
MISSING_FRAMES = 0
PIXEL_SUBSAMPLING_FLAG = N
SIGNAL_CHAIN_ID = 3
/* RADIOMETRIC DATA ELEMENTS */
BANDWIDTH = 177.0
CENTER_FILTER_WAVELENGTH = 676.5
RADIANCE_OFFSET = 2.10351
RADIANCE_SCALING_FACTOR = 0.040558
REFLECTANCE_SCALING_FACTOR = 0.000971534
MEX:REFLECTANCE_OFFSET = 0.050388
/* IMAGE OBJECT DEFINITIONS */
OBJECT = IMAGE
  INTERCHANGE_FORMAT = BINARY
  LINES = 16205
  LINE_SAMPLES = 3459
  SAMPLE_TYPE = UNSIGNED_INTEGER
  SAMPLE_BITS = 8
  BANDS = 1
  BAND_STORAGE_TYPE = BAND_SEQUENTIAL
  MAXIMUM = 255
  MEAN = 156.136
  MINIMUM = 1
  STANDARD_DEVIATION = 25.8634
END_OBJECT = IMAGE
/* MAP OBJECT DEFINITIONS */
OBJECT = IMAGE_MAP_PROJECTION
  ^DATA_SET_MAP_PROJECTION_CATALOG= "DSMAP.CAT"
  A_AXIS_RADIUS = 3396.0
  B_AXIS_RADIUS = 3396.0
  C_AXIS_RADIUS = 3396.0
  CENTER_LATITUDE = 0.0
  CENTER_LONGITUDE = 253.0
  COORDINATE_SYSTEM_NAME = PLANETOGRAPHIC
  COORDINATE_SYSTEM_TYPE = "BODY-FIXED ROTATING"
  EASTERNMOST_LONGITUDE = 255.308
  FIRST_STANDARD_PARALLEL = "N/A"
  LINE_FIRST_PIXEL = 1
  LINE_LAST_PIXEL = 16205
  LINE_PROJECTION_OFFSET = 57478.25
  MAP_PROJECTION_ROTATION = 0.0
  MAP_PROJECTION_TYPE = SINUSOIDAL
  MAP_RESOLUTION = 1185.42760773333
  MAP_SCALE = 0.05
  MAXIMUM_LATITUDE = 48.4055
  MINIMUM_LATITUDE = 34.8102
  POSITIVE_LONGITUDE_DIRECTION = EAST
  REFERENCE_LATITUDE = "N/A"
  REFERENCE_LONGITUDE = "N/A"
  SAMPLE_FIRST_PIXEL = 1
  SAMPLE_LAST_PIXEL = 3459
  SAMPLE_PROJECTION_OFFSET = 1362.25
  SECOND_STANDARD_PARALLEL = "N/A"
  WESTERNMOST_LONGITUDE = 251.238
END_OBJECT = IMAGE_MAP_PROJECTION
/* The JPEG2000 image data file associated with this label. */
OBJECT = COMPRESSED_FILE
  FILE_NAME = "HF989_0000_P23.JP2"
  RECORD_TYPE = UNDEFINED
  FILE_RECORDS = UNK
  ENCODING_TYPE = "JP2"
  INTERCHANGE_FORMAT = BINARY
  UNCOMPRESSED_FILE_NAME = "HF989_0000_P23.IMG"
  REQUIRED_STORAGE_BYTES = "56077308"
  ^DESCRIPTION = "JP2INFO.TXT"
END_OBJECT = COMPRESSED_FILE
END
