PDS_VERSION_ID = PDS3
/* FILE DATA ELEMENTS */
RECORD_TYPE = STREAM
/* POINTERS TO DATA OBJECTS */
^COMPRESSED_FILE = "HF993_0000_RE3.JP2"
/* IDENTIFICATION DATA ELEMENTS */
DATA_SET_ID = "MEX-M-HRSC-5-REFDR-MAPPROJECTED-V3.0"
DATA_SET_NAME = "MARS EXPRESS HRSC MAP PROJECTED REFDR V3.0"
DETECTOR_ID = MEX_HRSC_RED
EVENT_TYPE = "MARS-REGIONAL-MAPPING-Te-Im-Pf"
INSTRUMENT_HOST_ID = MEX
INSTRUMENT_HOST_NAME = "MARS EXPRESS"
INSTRUMENT_ID = HRSC
INSTRUMENT_NAME = "HIGH RESOLUTION STEREO CAMERA"
MISSION_NAME = "MARS EXPRESS"
MISSION_PHASE_NAME = ME_Phase_35
PROCESSING_LEVEL_ID = 3
PRODUCT_CREATION_TIME = 2017-06-29T11:20:52.000Z
PRODUCT_ID = "HF993_0000_RE3.JP2"
RELEASE_ID = 0135
REVISION_ID = 0000
/* QUALITY DATA ELEMENTS */
DATA_QUALITY_ID = 1
DATA_QUALITY_DESC = "Data calculated based on original SPICE kernels"
/* TIME DATA ELEMENTS */
SPACECRAFT_CLOCK_START_COUNT = "1/0419323069.07322"
SPACECRAFT_CLOCK_STOP_COUNT = "1/0419323350.02253"
START_TIME = 2016-08-15T06:39:14.649Z
STOP_TIME = 2016-08-15T06:42:24.550Z
/* ORBITAL DATA ELEMENTS */
ASCENDING_NODE_LONGITUDE = 273.45
MAXIMUM_RESOLUTION = 79.3
FOOTPRINT_POINT_LATITUDE = (58.9896,58.9783,58.9615,58.9376,58.906 ,58.9825,58.5929,58.2956,58.0972, 57.8989,57.5033,57.3017,56.9996,56.7987 ,56.5979,56.3948,56.1904,55.8841, 55.6804,55.3708,55.1634,54.9565,54.7498 ,54.54,54.3296,54.1195,53.9095,53.5907, 53.3781,53.0598,52.7355,52.5199,52.1952 ,51.9763,51.7579,51.5398,51.318,51.0967 ,50.8757,50.6517,50.4274,50.2039,49.978 ,49.7514,49.525,49.2958,49.0665,48.7213 ,48.3645,48.3832,48.3932,48.4022, 48.4117,48.418,48.6535,48.8868,49.1167, 49.3471,49.5777,49.8049,50.0329,50.2603 ,50.4849,50.71,50.935,51.1567,51.379, 51.7117,51.9308,52.1504,52.3705,52.5866 ,52.8032,53.0202,53.2357,53.4491, 53.7699,53.9838,54.1942,54.4051,54.6161 ,54.8271,55.0345,55.2427,55.5549, 55.7624,55.9671,56.1722,56.3773,56.6845 ,56.8861,57.0883,57.2905,57.4926, 57.7927,57.992,58.1911,58.3906,58.6891, 58.9896)
FOOTPRINT_POINT_LONGITUDE = (206.0,205.567,204.991,204.272,203.439, 202.945,203.003,203.046,203.074,203.102 ,203.155,203.181,203.219,203.244, 203.268,203.292,203.316,203.351,203.373 ,203.406,203.428,203.449,203.47,203.49, 203.51,203.53,203.549,203.577,203.595, 203.621,203.647,203.664,203.688,203.704 ,203.72,203.735,203.75,203.764,203.778, 203.792,203.806,203.818,203.831,203.843 ,203.855,203.867,203.878,203.894, 204.057,204.798,205.272,205.776,206.399 ,206.963,207.077,207.062,207.048, 207.033,207.018,207.004,206.988,206.973 ,206.958,206.942,206.927,206.911, 206.895,206.871,206.855,206.838,206.821 ,206.805,206.788,206.77,206.753,206.736 ,206.709,206.691,206.673,206.655, 206.636,206.618,206.599,206.58,206.551, 206.531,206.512,206.492,206.472,206.441 ,206.42,206.399,206.378,206.356,206.324 ,206.302,206.28,206.257,206.223,206.0)
ORBIT_NUMBER = 15993
ORBITAL_ECCENTRICITY = 0.571
ORBITAL_INCLINATION = 86.96
ORBITAL_SEMIMAJOR_AXIS = 8765.21
PERIAPSIS_ALTITUDE = 384.78
PERIAPSIS_ARGUMENT_ANGLE = 102.65
PERIAPSIS_TIME = 2016-08-15T06:33:51.000Z
SPACECRAFT_ORIENTATION = (0.0,-1.0,0.0)
^MEX_ORIENTATION_DESC = "MEX_ORIENTATION_DESC.TXT"
SPACECRAFT_POINTING_MODE = NADIR
^MEX_POINTING_DESC = "MEX_POINTING_DESC.TXT"
RIGHT_ASCENSION = -1e+32
DECLINATION = -1e+32
OFFSET_ANGLE = -1e+32
SPACECRAFT_SOLAR_DISTANCE = 2.12383e+08
TARGET_NAME = MARS
/* CAMERA DATA ELEMENTS */
DETECTOR_TEMPERATURE = 18.5744
FOCAL_PLANE_TEMPERATURE = 8.5833
INST_CMPRS_NAME = "DISCRETE COSINE TRANSFORMATION (DCT)"
INST_CMPRS_RATIO = 23.6334
INST_CMPRS_QUALITY = 0
INST_CMPRS_QUANTZ_TBL_ID = 0
INSTRUMENT_TEMPERATURE = 11.4379
LENS_TEMPERATURE = 8.7872
MACROPIXEL_SIZE = 4
MISSING_FRAMES = 0
PIXEL_SUBSAMPLING_FLAG = N
SIGNAL_CHAIN_ID = 2
/* RADIOMETRIC DATA ELEMENTS */
BANDWIDTH = 48.0
CENTER_FILTER_WAVELENGTH = 748.0
RADIANCE_OFFSET = 0.769922
RADIANCE_SCALING_FACTOR = 0.00533644
REFLECTANCE_SCALING_FACTOR = 0.00054931
MEX:REFLECTANCE_OFFSET = 0.0792524
/* IMAGE OBJECT DEFINITIONS */
OBJECT = IMAGE
  INTERCHANGE_FORMAT = BINARY
  LINES = 12731
  LINE_SAMPLES = 2760
  SAMPLE_TYPE = UNSIGNED_INTEGER
  SAMPLE_BITS = 8
  BANDS = 1
  BAND_STORAGE_TYPE = BAND_SEQUENTIAL
  MAXIMUM = 255
  MEAN = 126.065
  MINIMUM = 1
  STANDARD_DEVIATION = 62.2693
END_OBJECT = IMAGE
/* MAP OBJECT DEFINITIONS */
OBJECT = IMAGE_MAP_PROJECTION
  ^DATA_SET_MAP_PROJECTION_CATALOG= "DSMAP.CAT"
  A_AXIS_RADIUS = 3396.0
  B_AXIS_RADIUS = 3396.0
  C_AXIS_RADIUS = 3396.0
  CENTER_LATITUDE = 0.0
  CENTER_LONGITUDE = 205.0
  COORDINATE_SYSTEM_NAME = PLANETOGRAPHIC
  COORDINATE_SYSTEM_TYPE = "BODY-FIXED ROTATING"
  EASTERNMOST_LONGITUDE = 207.077
  FIRST_STANDARD_PARALLEL = "N/A"
  LINE_FIRST_PIXEL = 1
  LINE_LAST_PIXEL = 12731
  LINE_PROJECTION_OFFSET = 70017.875
  MAP_PROJECTION_ROTATION = 0.0
  MAP_PROJECTION_TYPE = SINUSOIDAL
  MAP_RESOLUTION = 1185.42760773333
  MAP_SCALE = 0.05
  MAXIMUM_LATITUDE = 58.9896
  MINIMUM_LATITUDE = 48.3645
  POSITIVE_LONGITUDE_DIRECTION = EAST
  REFERENCE_LATITUDE = "N/A"
  REFERENCE_LONGITUDE = "N/A"
  SAMPLE_FIRST_PIXEL = 1
  SAMPLE_LAST_PIXEL = 2760
  SAMPLE_PROJECTION_OFFSET = 1200.375
  SECOND_STANDARD_PARALLEL = "N/A"
  WESTERNMOST_LONGITUDE = 202.945
END_OBJECT = IMAGE_MAP_PROJECTION
/* The JPEG2000 image data file associated with this label. */
OBJECT = COMPRESSED_FILE
  FILE_NAME = "HF993_0000_RE3.JP2"
  RECORD_TYPE = UNDEFINED
  FILE_RECORDS = UNK
  ENCODING_TYPE = "JP2"
  INTERCHANGE_FORMAT = BINARY
  UNCOMPRESSED_FILE_NAME = "HF993_0000_RE3.IMG"
  REQUIRED_STORAGE_BYTES = "35159640"
  ^DESCRIPTION = "JP2INFO.TXT"
END_OBJECT = COMPRESSED_FILE
END
