PDS_VERSION_ID = PDS3
/* FILE DATA ELEMENTS */
RECORD_TYPE = STREAM
/* POINTERS TO DATA OBJECTS */
^COMPRESSED_FILE = "HF995_0000_GR3.JP2"
/* IDENTIFICATION DATA ELEMENTS */
DATA_SET_ID = "MEX-M-HRSC-5-REFDR-MAPPROJECTED-V3.0"
DATA_SET_NAME = "MARS EXPRESS HRSC MAP PROJECTED REFDR V3.0"
DETECTOR_ID = MEX_HRSC_GREEN
EVENT_TYPE = "MARS-REGIONAL-MAPPING-Im-Pf"
INSTRUMENT_HOST_ID = MEX
INSTRUMENT_HOST_NAME = "MARS EXPRESS"
INSTRUMENT_ID = HRSC
INSTRUMENT_NAME = "HIGH RESOLUTION STEREO CAMERA"
MISSION_NAME = "MARS EXPRESS"
MISSION_PHASE_NAME = ME_Phase_35
PROCESSING_LEVEL_ID = 3
PRODUCT_CREATION_TIME = 2017-06-29T11:20:52.000Z
PRODUCT_ID = "HF995_0000_GR3.JP2"
RELEASE_ID = 0135
REVISION_ID = 0000
/* QUALITY DATA ELEMENTS */
DATA_QUALITY_ID = 1
DATA_QUALITY_DESC = "Data calculated based on original SPICE kernels"
/* TIME DATA ELEMENTS */
SPACECRAFT_CLOCK_START_COUNT = "1/0419373278.09095"
SPACECRAFT_CLOCK_STOP_COUNT = "1/0419373678.04330"
START_TIME = 2016-08-15T20:35:15.797Z
STOP_TIME = 2016-08-15T20:40:17.225Z
/* ORBITAL DATA ELEMENTS */
ASCENDING_NODE_LONGITUDE = 273.42
MAXIMUM_RESOLUTION = 64
FOOTPRINT_POINT_LATITUDE = (69.4978,69.4418,69.3778,69.2621, 68.9236,68.585,68.2465,67.9079,67.5693, 67.2306,66.892,66.5534,66.2149,65.538, 65.1943,64.8471,64.4998,64.1528,63.8059 ,63.4592,62.9265,62.5713,62.2162, 61.8614,61.3197,60.9565,60.5937,60.2312 ,59.8605,59.3044,58.9342,58.3684, 57.9903,57.6127,57.2276,56.842,56.4569, 56.0649,55.6719,55.0794,54.6791,54.2796 ,53.6695,53.2628,52.8488,52.4349, 51.8055,51.3848,50.9565,50.6811,50.7159 ,50.7357,50.7583,51.1879,51.6159, 52.0385,52.4608,52.8763,53.4981,53.9067 ,54.5174,54.919,55.52,55.9143,56.3093, 56.7008,57.088,57.4757,57.8603,58.2401, 58.6204,59.0008,59.373,59.7456,60.1186, 60.6712,61.0755,61.5843,61.9486,62.3055 ,62.6629,63.0205,63.3785,63.7334, 64.0826,64.4322,64.782,65.132,65.6555, 65.9967,66.3382,66.6797,67.0215,67.3633 ,67.7053,68.0474,68.3896,68.7319, 69.0742,69.4978)
FOOTPRINT_POINT_LONGITUDE = (357.568,356.463,355.35,353.923,354.098 ,354.267,354.43,354.587,354.738,354.884 ,355.026,355.162,355.293,355.543, 355.663,355.781,355.894,356.004,356.11, 356.212,356.363,356.46,356.553,356.643, 356.775,356.86,356.942,357.021,357.099, 357.211,357.283,357.388,357.455,357.52, 357.584,357.646,357.705,357.764,357.82, 357.901,357.953,358.004,358.077,358.124 ,358.17,358.213,358.276,358.316,358.355 ,359.045,359.924,360.525,361.321, 361.284,361.246,361.208,361.168,361.128 ,361.066,361.024,360.959,360.915, 360.846,360.8,360.751,360.702,360.653, 360.601,360.549,360.496,360.441,360.385 ,360.328,360.27,360.21,360.117,360.006, 359.956,359.888,359.82,359.749,359.677, 359.602,359.525,359.448,359.368,359.285 ,359.2,359.068,358.978,358.886,358.79, 358.692,358.59,358.484,358.375,358.262, 358.146,358.025,357.568)
ORBIT_NUMBER = 15995
ORBITAL_ECCENTRICITY = 0.571
ORBITAL_INCLINATION = 86.95
ORBITAL_SEMIMAJOR_AXIS = 8766.73
PERIAPSIS_ALTITUDE = 385.59
PERIAPSIS_ARGUMENT_ANGLE = 102.29
PERIAPSIS_TIME = 2016-08-15T20:33:17.000Z
SPACECRAFT_ORIENTATION = (0.0,-1.0,0.0)
^MEX_ORIENTATION_DESC = "MEX_ORIENTATION_DESC.TXT"
SPACECRAFT_POINTING_MODE = ACROSSTRACK
^MEX_POINTING_DESC = "MEX_POINTING_DESC.TXT"
RIGHT_ASCENSION = -1e+32
DECLINATION = -1e+32
OFFSET_ANGLE = -0.539
SPACECRAFT_SOLAR_DISTANCE = 2.123e+08
TARGET_NAME = MARS
/* CAMERA DATA ELEMENTS */
DETECTOR_TEMPERATURE = 20.0017
FOCAL_PLANE_TEMPERATURE = 8.9911
INST_CMPRS_NAME = "DISCRETE COSINE TRANSFORMATION (DCT)"
INST_CMPRS_RATIO = 18.634
INST_CMPRS_QUALITY = 0
INST_CMPRS_QUANTZ_TBL_ID = 0
INSTRUMENT_TEMPERATURE = 11.6418
LENS_TEMPERATURE = 9.6028
MACROPIXEL_SIZE = 4
MISSING_FRAMES = 0
PIXEL_SUBSAMPLING_FLAG = N
SIGNAL_CHAIN_ID = 2
/* RADIOMETRIC DATA ELEMENTS */
BANDWIDTH = 88.0
CENTER_FILTER_WAVELENGTH = 538.0
RADIANCE_OFFSET = 1.01105
RADIANCE_SCALING_FACTOR = 0.00577742
REFLECTANCE_SCALING_FACTOR = 0.000224194
MEX:REFLECTANCE_OFFSET = 0.039234
/* IMAGE OBJECT DEFINITIONS */
OBJECT = IMAGE
  INTERCHANGE_FORMAT = BINARY
  LINES = 22318
  LINE_SAMPLES = 3848
  SAMPLE_TYPE = UNSIGNED_INTEGER
  SAMPLE_BITS = 8
  BANDS = 1
  BAND_STORAGE_TYPE = BAND_SEQUENTIAL
  MAXIMUM = 255
  MEAN = 182.832
  MINIMUM = 1
  STANDARD_DEVIATION = 74.1969
END_OBJECT = IMAGE
/* MAP OBJECT DEFINITIONS */
OBJECT = IMAGE_MAP_PROJECTION
  ^DATA_SET_MAP_PROJECTION_CATALOG= "DSMAP.CAT"
  A_AXIS_RADIUS = 3396.0
  B_AXIS_RADIUS = 3396.0
  C_AXIS_RADIUS = 3396.0
  CENTER_LATITUDE = 0.0
  CENTER_LONGITUDE = 359.0
  COORDINATE_SYSTEM_NAME = PLANETOGRAPHIC
  COORDINATE_SYSTEM_TYPE = "BODY-FIXED ROTATING"
  EASTERNMOST_LONGITUDE = 1.321
  FIRST_STANDARD_PARALLEL = "N/A"
  LINE_FIRST_PIXEL = 1
  LINE_LAST_PIXEL = 22318
  LINE_PROJECTION_OFFSET = 82378.375
  MAP_PROJECTION_ROTATION = 0.0
  MAP_PROJECTION_TYPE = SINUSOIDAL
  MAP_RESOLUTION = 1185.42760773333
  MAP_SCALE = 0.05
  MAXIMUM_LATITUDE = 69.4978
  MINIMUM_LATITUDE = 50.6811
  POSITIVE_LONGITUDE_DIRECTION = EAST
  REFERENCE_LATITUDE = "N/A"
  REFERENCE_LONGITUDE = "N/A"
  SAMPLE_FIRST_PIXEL = 1
  SAMPLE_LAST_PIXEL = 3848
  SAMPLE_PROJECTION_OFFSET = 2109.625
  SECOND_STANDARD_PARALLEL = "N/A"
  WESTERNMOST_LONGITUDE = -6.077
END_OBJECT = IMAGE_MAP_PROJECTION
/* The JPEG2000 image data file associated with this label. */
OBJECT = COMPRESSED_FILE
  FILE_NAME = "HF995_0000_GR3.JP2"
  RECORD_TYPE = UNDEFINED
  FILE_RECORDS = UNK
  ENCODING_TYPE = "JP2"
  INTERCHANGE_FORMAT = BINARY
  UNCOMPRESSED_FILE_NAME = "HF995_0000_GR3.IMG"
  REQUIRED_STORAGE_BYTES = "85902752"
  ^DESCRIPTION = "JP2INFO.TXT"
END_OBJECT = COMPRESSED_FILE
END
