PDS_VERSION_ID = PDS3
/* FILE DATA ELEMENTS */
RECORD_TYPE = STREAM
/* POINTERS TO DATA OBJECTS */
^COMPRESSED_FILE = "HF995_0000_IR3.JP2"
/* IDENTIFICATION DATA ELEMENTS */
DATA_SET_ID = "MEX-M-HRSC-5-REFDR-MAPPROJECTED-V3.0"
DATA_SET_NAME = "MARS EXPRESS HRSC MAP PROJECTED REFDR V3.0"
DETECTOR_ID = MEX_HRSC_IR
EVENT_TYPE = "MARS-REGIONAL-MAPPING-Im-Pf"
INSTRUMENT_HOST_ID = MEX
INSTRUMENT_HOST_NAME = "MARS EXPRESS"
INSTRUMENT_ID = HRSC
INSTRUMENT_NAME = "HIGH RESOLUTION STEREO CAMERA"
MISSION_NAME = "MARS EXPRESS"
MISSION_PHASE_NAME = ME_Phase_35
PROCESSING_LEVEL_ID = 3
PRODUCT_CREATION_TIME = 2017-06-29T11:20:52.000Z
PRODUCT_ID = "HF995_0000_IR3.JP2"
RELEASE_ID = 0135
REVISION_ID = 0000
/* QUALITY DATA ELEMENTS */
DATA_QUALITY_ID = 1
DATA_QUALITY_DESC = "Data calculated based on original SPICE kernels"
/* TIME DATA ELEMENTS */
SPACECRAFT_CLOCK_START_COUNT = "1/0419373278.09095"
SPACECRAFT_CLOCK_STOP_COUNT = "1/0419373678.04330"
START_TIME = 2016-08-15T20:34:52.180Z
STOP_TIME = 2016-08-15T20:39:44.649Z
/* ORBITAL DATA ELEMENTS */
ASCENDING_NODE_LONGITUDE = 273.42
MAXIMUM_RESOLUTION = 64.8
FOOTPRINT_POINT_LATITUDE = (69.5899,69.5266,69.455,69.3745,69.049, 68.7086,68.3681,68.0272,67.6861,67.1739 ,66.6612,66.3193,65.8058,65.4634, 65.1207,64.7782,64.4352,64.0925,63.5721 ,63.0437,62.5152,62.1626,61.8106, 61.2685,60.9068,60.5452,60.1839,59.8172 ,59.4464,59.0761,58.7059,58.3321, 57.9531,57.5741,57.1953,56.6165,56.2288 ,55.8416,55.4471,55.0511,54.6555, 54.2537,53.8497,53.4457,53.0345,52.6226 ,51.9984,51.5781,51.1557,50.6189, 50.6785,50.7323,50.7299,50.7473,50.7637 ,51.194,51.62,52.0417,52.4637,52.8771, 53.2912,53.702,54.3105,54.7165,55.114, 55.5115,56.1043,56.4934,56.8828,57.2718 ,57.6525,58.0334,58.4145,58.7927,59.351 ,59.7236,60.281,60.8317,61.1958,61.5828 ,62.0967,62.451,62.8058,63.1606,63.5154 ,64.0463,64.3918,64.7374,65.083,65.4284 ,65.7739,66.1192,66.637,67.1547,67.4998 ,67.8447,68.3619,68.7066,69.051, 69.5899)
FOOTPRINT_POINT_LONGITUDE = (357.804,356.706,355.602,354.493, 354.044,354.217,354.384,354.545,354.7, 354.923,355.135,355.27,355.464,355.588, 355.708,355.824,355.936,356.045,356.202 ,356.355,356.5,356.593,356.683,356.815, 356.9,356.981,357.061,357.139,357.215, 357.288,357.359,357.428,357.497,357.562 ,357.626,357.718,357.778,357.835, 357.891,357.946,357.998,358.05,358.1, 358.147,358.194,358.24,358.305,358.347, 358.387,358.435,359.421,360.008,360.451 ,360.871,361.271,361.235,361.199, 361.161,361.122,361.084,361.043,361.003 ,360.94,360.896,360.852,360.807,360.738 ,360.691,360.642,360.592,360.542,360.49 ,360.436,360.382,360.299,360.241, 360.152,360.059,359.995,359.89,359.832, 359.764,359.694,359.622,359.547,359.432 ,359.354,359.273,359.19,359.105,359.017 ,358.926,358.784,358.635,358.531, 358.424,358.257,358.141,358.02,357.804)
ORBIT_NUMBER = 15995
ORBITAL_ECCENTRICITY = 0.571
ORBITAL_INCLINATION = 86.95
ORBITAL_SEMIMAJOR_AXIS = 8766.73
PERIAPSIS_ALTITUDE = 385.59
PERIAPSIS_ARGUMENT_ANGLE = 102.29
PERIAPSIS_TIME = 2016-08-15T20:33:17.000Z
SPACECRAFT_ORIENTATION = (0.0,-1.0,0.0)
^MEX_ORIENTATION_DESC = "MEX_ORIENTATION_DESC.TXT"
SPACECRAFT_POINTING_MODE = ACROSSTRACK
^MEX_POINTING_DESC = "MEX_POINTING_DESC.TXT"
RIGHT_ASCENSION = -1e+32
DECLINATION = -1e+32
OFFSET_ANGLE = -0.539
SPACECRAFT_SOLAR_DISTANCE = 2.123e+08
TARGET_NAME = MARS
/* CAMERA DATA ELEMENTS */
DETECTOR_TEMPERATURE = 17.9627
FOCAL_PLANE_TEMPERATURE = 8.9911
INST_CMPRS_NAME = "DISCRETE COSINE TRANSFORMATION (DCT)"
INST_CMPRS_RATIO = 9.022
INST_CMPRS_QUALITY = 0
INST_CMPRS_QUANTZ_TBL_ID = 0
INSTRUMENT_TEMPERATURE = 11.6418
LENS_TEMPERATURE = 9.6028
MACROPIXEL_SIZE = 4
MISSING_FRAMES = 0
PIXEL_SUBSAMPLING_FLAG = N
SIGNAL_CHAIN_ID = 2
/* RADIOMETRIC DATA ELEMENTS */
BANDWIDTH = 81.0
CENTER_FILTER_WAVELENGTH = 955.5
RADIANCE_OFFSET = 0.569739
RADIANCE_SCALING_FACTOR = 0.00451711
REFLECTANCE_SCALING_FACTOR = 0.000439227
MEX:REFLECTANCE_OFFSET = 0.0553993
/* IMAGE OBJECT DEFINITIONS */
OBJECT = IMAGE
  INTERCHANGE_FORMAT = BINARY
  LINES = 22318
  LINE_SAMPLES = 3848
  SAMPLE_TYPE = UNSIGNED_INTEGER
  SAMPLE_BITS = 8
  BANDS = 1
  BAND_STORAGE_TYPE = BAND_SEQUENTIAL
  MAXIMUM = 255
  MEAN = 149.791
  MINIMUM = 1
  STANDARD_DEVIATION = 67.6715
END_OBJECT = IMAGE
/* MAP OBJECT DEFINITIONS */
OBJECT = IMAGE_MAP_PROJECTION
  ^DATA_SET_MAP_PROJECTION_CATALOG= "DSMAP.CAT"
  A_AXIS_RADIUS = 3396.0
  B_AXIS_RADIUS = 3396.0
  C_AXIS_RADIUS = 3396.0
  CENTER_LATITUDE = 0.0
  CENTER_LONGITUDE = 359.0
  COORDINATE_SYSTEM_NAME = PLANETOGRAPHIC
  COORDINATE_SYSTEM_TYPE = "BODY-FIXED ROTATING"
  EASTERNMOST_LONGITUDE = 1.271
  FIRST_STANDARD_PARALLEL = "N/A"
  LINE_FIRST_PIXEL = 1
  LINE_LAST_PIXEL = 22318
  LINE_PROJECTION_OFFSET = 82378.375
  MAP_PROJECTION_ROTATION = 0.0
  MAP_PROJECTION_TYPE = SINUSOIDAL
  MAP_RESOLUTION = 1185.42760773333
  MAP_SCALE = 0.05
  MAXIMUM_LATITUDE = 69.5899
  MINIMUM_LATITUDE = 50.6189
  POSITIVE_LONGITUDE_DIRECTION = EAST
  REFERENCE_LATITUDE = "N/A"
  REFERENCE_LONGITUDE = "N/A"
  SAMPLE_FIRST_PIXEL = 1
  SAMPLE_LAST_PIXEL = 3848
  SAMPLE_PROJECTION_OFFSET = 2109.625
  SECOND_STANDARD_PARALLEL = "N/A"
  WESTERNMOST_LONGITUDE = -5.956
END_OBJECT = IMAGE_MAP_PROJECTION
/* The JPEG2000 image data file associated with this label. */
OBJECT = COMPRESSED_FILE
  FILE_NAME = "HF995_0000_IR3.JP2"
  RECORD_TYPE = UNDEFINED
  FILE_RECORDS = UNK
  ENCODING_TYPE = "JP2"
  INTERCHANGE_FORMAT = BINARY
  UNCOMPRESSED_FILE_NAME = "HF995_0000_IR3.IMG"
  REQUIRED_STORAGE_BYTES = "85902752"
  ^DESCRIPTION = "JP2INFO.TXT"
END_OBJECT = COMPRESSED_FILE
END
