PDS_VERSION_ID = PDS3
/* FILE DATA ELEMENTS */
RECORD_TYPE = STREAM
/* POINTERS TO DATA OBJECTS */
^COMPRESSED_FILE = "HF995_0000_ND3.JP2"
/* IDENTIFICATION DATA ELEMENTS */
DATA_SET_ID = "MEX-M-HRSC-5-REFDR-MAPPROJECTED-V3.0"
DATA_SET_NAME = "MARS EXPRESS HRSC MAP PROJECTED REFDR V3.0"
DETECTOR_ID = MEX_HRSC_NADIR
EVENT_TYPE = "MARS-REGIONAL-MAPPING-Im-Pf"
INSTRUMENT_HOST_ID = MEX
INSTRUMENT_HOST_NAME = "MARS EXPRESS"
INSTRUMENT_ID = HRSC
INSTRUMENT_NAME = "HIGH RESOLUTION STEREO CAMERA"
MISSION_NAME = "MARS EXPRESS"
MISSION_PHASE_NAME = ME_Phase_35
PROCESSING_LEVEL_ID = 3
PRODUCT_CREATION_TIME = 2017-06-29T11:20:52.000Z
PRODUCT_ID = "HF995_0000_ND3.JP2"
RELEASE_ID = 0135
REVISION_ID = 0000
/* QUALITY DATA ELEMENTS */
DATA_QUALITY_ID = 1
DATA_QUALITY_DESC = "Data calculated based on original SPICE kernels"
/* TIME DATA ELEMENTS */
SPACECRAFT_CLOCK_START_COUNT = "1/0419373278.09095"
SPACECRAFT_CLOCK_STOP_COUNT = "1/0419373678.04330"
START_TIME = 2016-08-15T20:35:21.960Z
STOP_TIME = 2016-08-15T20:40:25.951Z
/* ORBITAL DATA ELEMENTS */
ASCENDING_NODE_LONGITUDE = 273.42
MAXIMUM_RESOLUTION = 16
FOOTPRINT_POINT_LATITUDE = (69.4384,69.3744,69.2704,68.9317, 68.5931,68.2544,67.9158,67.2387,66.5618 ,65.8854,65.3669,65.02,64.6733,64.3268, 63.9806,63.6287,63.2739,62.9193,62.565, 62.211,61.8497,61.4874,61.1253,60.7637, 60.3962,60.0264,59.657,59.288,58.9106, 58.5337,58.1573,57.7756,57.3914,57.0078 ,56.6192,56.2279,55.8373,55.2413, 54.8437,54.2382,53.8337,53.2174,52.8062 ,52.3874,51.9693,51.545,51.1202,50.6893 ,50.6885,50.724,50.7413,50.7643,51.1976 ,51.6242,52.0509,52.4707,52.8916, 53.3048,53.9244,54.3307,54.9395,55.339, 55.9383,56.3308,56.7239,57.115,57.5005, 57.8867,58.2709,58.6493,59.0282,59.5937 ,59.965,60.3367,60.7089,61.2566,61.621, 61.9857,62.3498,62.7061,63.0629,63.4199 ,63.7773,64.1323,64.4812,64.8303, 65.1798,65.5295,66.053,66.3942,66.7355, 67.077,67.4188,67.7607,68.1028,68.445, 68.7874,69.1299,69.4725,69.4384)
FOOTPRINT_POINT_LONGITUDE = (356.754,355.569,353.89,354.066,354.235 ,354.398,354.555,354.853,355.13,355.389 ,355.575,355.695,355.811,355.922, 356.029,356.135,356.238,356.337,356.434 ,356.526,356.618,356.707,356.792, 356.875,356.957,357.036,357.112,357.186 ,357.259,357.329,357.397,357.464, 357.528,357.59,357.651,357.71,357.766, 357.849,357.902,357.978,358.027,358.098 ,358.143,358.186,358.228,358.269, 358.308,358.345,358.914,359.86,360.418, 361.337,361.299,361.262,361.223,361.183 ,361.142,361.101,361.038,360.994, 360.927,360.881,360.811,360.762,360.713 ,360.662,360.611,360.558,360.504, 360.449,360.393,360.306,360.246,360.185 ,360.122,360.025,359.96,359.892,359.822 ,359.751,359.678,359.603,359.525, 359.446,359.366,359.283,359.197,359.109 ,358.972,358.879,358.783,358.683, 358.581,358.474,358.365,358.251,358.134 ,358.012,357.886,356.754)
ORBIT_NUMBER = 15995
ORBITAL_ECCENTRICITY = 0.571
ORBITAL_INCLINATION = 86.95
ORBITAL_SEMIMAJOR_AXIS = 8766.73
PERIAPSIS_ALTITUDE = 385.59
PERIAPSIS_ARGUMENT_ANGLE = 102.29
PERIAPSIS_TIME = 2016-08-15T20:33:17.000Z
SPACECRAFT_ORIENTATION = (0.0,-1.0,0.0)
^MEX_ORIENTATION_DESC = "MEX_ORIENTATION_DESC.TXT"
SPACECRAFT_POINTING_MODE = ACROSSTRACK
^MEX_POINTING_DESC = "MEX_POINTING_DESC.TXT"
RIGHT_ASCENSION = -1e+32
DECLINATION = -1e+32
OFFSET_ANGLE = -0.539
SPACECRAFT_SOLAR_DISTANCE = 2.123e+08
TARGET_NAME = MARS
/* CAMERA DATA ELEMENTS */
DETECTOR_TEMPERATURE = 20.0017
FOCAL_PLANE_TEMPERATURE = 8.9911
INST_CMPRS_NAME = "DISCRETE COSINE TRANSFORMATION (DCT)"
INST_CMPRS_RATIO = 6.67658
INST_CMPRS_QUALITY = 0
INST_CMPRS_QUANTZ_TBL_ID = 0
INSTRUMENT_TEMPERATURE = 11.6418
LENS_TEMPERATURE = 9.6028
MACROPIXEL_SIZE = 1
MISSING_FRAMES = 0
PIXEL_SUBSAMPLING_FLAG = N
SIGNAL_CHAIN_ID = 0
/* RADIOMETRIC DATA ELEMENTS */
BANDWIDTH = 177.0
CENTER_FILTER_WAVELENGTH = 677.5
RADIANCE_OFFSET = 1.91789
RADIANCE_SCALING_FACTOR = 0.0166015
REFLECTANCE_SCALING_FACTOR = 0.000397497
MEX:REFLECTANCE_OFFSET = 0.0459207
/* IMAGE OBJECT DEFINITIONS */
OBJECT = IMAGE
  INTERCHANGE_FORMAT = BINARY
  LINES = 89272
  LINE_SAMPLES = 15391
  SAMPLE_TYPE = UNSIGNED_INTEGER
  SAMPLE_BITS = 8
  BANDS = 1
  BAND_STORAGE_TYPE = BAND_SEQUENTIAL
  MAXIMUM = 254
  MEAN = 143.54
  MINIMUM = 1
  STANDARD_DEVIATION = 61.8097
END_OBJECT = IMAGE
/* MAP OBJECT DEFINITIONS */
OBJECT = IMAGE_MAP_PROJECTION
  ^DATA_SET_MAP_PROJECTION_CATALOG= "DSMAP.CAT"
  A_AXIS_RADIUS = 3396.0
  B_AXIS_RADIUS = 3396.0
  C_AXIS_RADIUS = 3396.0
  CENTER_LATITUDE = 0.0
  CENTER_LONGITUDE = 359.0
  COORDINATE_SYSTEM_NAME = PLANETOGRAPHIC
  COORDINATE_SYSTEM_TYPE = "BODY-FIXED ROTATING"
  EASTERNMOST_LONGITUDE = 1.337
  FIRST_STANDARD_PARALLEL = "N/A"
  LINE_FIRST_PIXEL = 1
  LINE_LAST_PIXEL = 89272
  LINE_PROJECTION_OFFSET = 329515.0
  MAP_PROJECTION_ROTATION = 0.0
  MAP_PROJECTION_TYPE = SINUSOIDAL
  MAP_RESOLUTION = 4741.71043093333
  MAP_SCALE = 0.0125
  MAXIMUM_LATITUDE = 69.4725
  MINIMUM_LATITUDE = 50.6885
  POSITIVE_LONGITUDE_DIRECTION = EAST
  REFERENCE_LATITUDE = "N/A"
  REFERENCE_LONGITUDE = "N/A"
  SAMPLE_FIRST_PIXEL = 1
  SAMPLE_LAST_PIXEL = 15391
  SAMPLE_PROJECTION_OFFSET = 8440.0
  SECOND_STANDARD_PARALLEL = "N/A"
  WESTERNMOST_LONGITUDE = -6.11
END_OBJECT = IMAGE_MAP_PROJECTION
/* The JPEG2000 image data file associated with this label. */
OBJECT = COMPRESSED_FILE
  FILE_NAME = "HF995_0000_ND3.JP2"
  RECORD_TYPE = UNDEFINED
  FILE_RECORDS = UNK
  ENCODING_TYPE = "JP2"
  INTERCHANGE_FORMAT = BINARY
  UNCOMPRESSED_FILE_NAME = "HF995_0000_ND3.IMG"
  REQUIRED_STORAGE_BYTES = "1374031525"
  ^DESCRIPTION = "JP2INFO.TXT"
END_OBJECT = COMPRESSED_FILE
END
