PDS_VERSION_ID = PDS3
/* FILE DATA ELEMENTS */
RECORD_TYPE = STREAM
/* POINTERS TO DATA OBJECTS */
^COMPRESSED_FILE = "HF996_0000_S23.JP2"
/* IDENTIFICATION DATA ELEMENTS */
DATA_SET_ID = "MEX-M-HRSC-5-REFDR-MAPPROJECTED-V3.0"
DATA_SET_NAME = "MARS EXPRESS HRSC MAP PROJECTED REFDR V3.0"
DETECTOR_ID = MEX_HRSC_S2
EVENT_TYPE = "MARS-REGIONAL-MAPPING-Vo-Te-Pf"
INSTRUMENT_HOST_ID = MEX
INSTRUMENT_HOST_NAME = "MARS EXPRESS"
INSTRUMENT_ID = HRSC
INSTRUMENT_NAME = "HIGH RESOLUTION STEREO CAMERA"
MISSION_NAME = "MARS EXPRESS"
MISSION_PHASE_NAME = ME_Phase_35
PROCESSING_LEVEL_ID = 3
PRODUCT_CREATION_TIME = 2017-06-29T11:20:52.000Z
PRODUCT_ID = "HF996_0000_S23.JP2"
RELEASE_ID = 0135
REVISION_ID = 0000
/* QUALITY DATA ELEMENTS */
DATA_QUALITY_ID = 1
DATA_QUALITY_DESC = "Data calculated based on original SPICE kernels"
/* TIME DATA ELEMENTS */
SPACECRAFT_CLOCK_START_COUNT = "1/0419398516.08240"
SPACECRAFT_CLOCK_STOP_COUNT = "1/0419398744.31857"
START_TIME = 2016-08-16T03:36:40.200Z
STOP_TIME = 2016-08-16T03:39:10.347Z
/* ORBITAL DATA ELEMENTS */
ASCENDING_NODE_LONGITUDE = 273.41
MAXIMUM_RESOLUTION = 36.4
FOOTPRINT_POINT_LATITUDE = (66.2219,66.1952,66.1747,66.1352, 66.1104,66.0771,65.7774,65.6087,65.4401 ,65.1034,64.7673,64.5157,64.2594, 64.0878,63.9163,63.7451,63.574,63.4031, 63.2324,63.0618,62.8875,62.7131,62.5389 ,62.3649,62.1909,62.0173,61.8439, 61.6683,61.491,61.3139,61.1369,60.9601, 60.7837,60.6071,60.4276,60.2476,60.0678 ,59.8882,59.709,59.5299,59.257,59.0743, 58.892,58.7097,58.5277,58.251,58.0656, 57.8808,57.6962,57.5117,57.4261,57.445, 57.4638,57.4755,57.4849,57.4979,57.7836 ,57.9696,58.1553,58.3417,58.6201, 58.8028,59.0778,59.2614,59.4451,59.7181 ,59.8978,60.0781,60.2594,60.5312, 60.7118,60.8891,61.0668,61.2447,61.4226 ,61.6008,61.7792,62.0433,62.2178, 62.3925,62.5674,62.7426,62.9181,63.0937 ,63.3532,63.525,63.697,63.8692,64.0416, 64.2141,64.3867,64.6449,64.9827,65.1519 ,65.3214,65.4909,65.6606,65.8305, 66.0004,66.2219)
FOOTPRINT_POINT_LONGITUDE = (258.022,257.234,256.686,255.731, 255.186,254.505,254.491,254.542,254.592 ,254.688,254.782,254.85,254.917,254.961 ,255.004,255.047,255.088,255.129, 255.169,255.209,255.249,255.288,255.326 ,255.363,255.4,255.436,255.472,255.507, 255.542,255.577,255.611,255.644,255.677 ,255.709,255.741,255.772,255.803, 255.834,255.863,255.892,255.936,255.964 ,255.992,256.02,256.047,256.086,256.113 ,256.138,256.163,256.188,256.769, 257.305,257.904,258.315,258.663,259.2, 259.434,259.414,259.392,259.371,259.339 ,259.317,259.284,259.262,259.239, 259.205,259.182,259.158,259.135,259.099 ,259.074,259.05,259.025,259.0,258.974, 258.948,258.922,258.882,258.855,258.828 ,258.8,258.772,258.744,258.715,258.671, 258.642,258.612,258.582,258.551,258.52, 258.488,258.44,258.375,258.342,258.308, 258.274,258.239,258.204,258.168, 258.022)
ORBIT_NUMBER = 15996
ORBITAL_ECCENTRICITY = 0.571
ORBITAL_INCLINATION = 86.95
ORBITAL_SEMIMAJOR_AXIS = 8765.7
PERIAPSIS_ALTITUDE = 384.97
PERIAPSIS_ARGUMENT_ANGLE = 102.12
PERIAPSIS_TIME = 2016-08-16T03:33:02.000Z
SPACECRAFT_ORIENTATION = (0.0,-1.0,0.0)
^MEX_ORIENTATION_DESC = "MEX_ORIENTATION_DESC.TXT"
SPACECRAFT_POINTING_MODE = NADIR
^MEX_POINTING_DESC = "MEX_POINTING_DESC.TXT"
RIGHT_ASCENSION = -1e+32
DECLINATION = -1e+32
OFFSET_ANGLE = -1e+32
SPACECRAFT_SOLAR_DISTANCE = 2.12259e+08
TARGET_NAME = MARS
/* CAMERA DATA ELEMENTS */
DETECTOR_TEMPERATURE = 18.7783
FOCAL_PLANE_TEMPERATURE = 8.1755
INST_CMPRS_NAME = "DISCRETE COSINE TRANSFORMATION (DCT)"
INST_CMPRS_RATIO = 12.9064
INST_CMPRS_QUALITY = 0
INST_CMPRS_QUANTZ_TBL_ID = 0
INSTRUMENT_TEMPERATURE = 11.6418
LENS_TEMPERATURE = 8.7872
MACROPIXEL_SIZE = 2
MISSING_FRAMES = 0
PIXEL_SUBSAMPLING_FLAG = N
SIGNAL_CHAIN_ID = 1
/* RADIOMETRIC DATA ELEMENTS */
BANDWIDTH = 178.0
CENTER_FILTER_WAVELENGTH = 679.0
RADIANCE_OFFSET = 2.7677
RADIANCE_SCALING_FACTOR = 0.0101931
REFLECTANCE_SCALING_FACTOR = 0.000243202
MEX:REFLECTANCE_OFFSET = 0.0660361
/* IMAGE OBJECT DEFINITIONS */
OBJECT = IMAGE
  INTERCHANGE_FORMAT = BINARY
  LINES = 21212
  LINE_SAMPLES = 5449
  SAMPLE_TYPE = UNSIGNED_INTEGER
  SAMPLE_BITS = 8
  BANDS = 1
  BAND_STORAGE_TYPE = BAND_SEQUENTIAL
  MAXIMUM = 255
  MEAN = 93.1036
  MINIMUM = 1
  STANDARD_DEVIATION = 51.9939
END_OBJECT = IMAGE
/* MAP OBJECT DEFINITIONS */
OBJECT = IMAGE_MAP_PROJECTION
  ^DATA_SET_MAP_PROJECTION_CATALOG= "DSMAP.CAT"
  A_AXIS_RADIUS = 3396.0
  B_AXIS_RADIUS = 3396.0
  C_AXIS_RADIUS = 3396.0
  CENTER_LATITUDE = 0.0
  CENTER_LONGITUDE = 257.0
  COORDINATE_SYSTEM_NAME = PLANETOGRAPHIC
  COORDINATE_SYSTEM_TYPE = "BODY-FIXED ROTATING"
  EASTERNMOST_LONGITUDE = 259.434
  FIRST_STANDARD_PARALLEL = "N/A"
  LINE_FIRST_PIXEL = 1
  LINE_LAST_PIXEL = 21212
  LINE_PROJECTION_OFFSET = 157249.25
  MAP_PROJECTION_ROTATION = 0.0
  MAP_PROJECTION_TYPE = SINUSOIDAL
  MAP_RESOLUTION = 2370.85521546667
  MAP_SCALE = 0.025
  MAXIMUM_LATITUDE = 66.22190000000001
  MINIMUM_LATITUDE = 57.4261
  POSITIVE_LONGITUDE_DIRECTION = EAST
  REFERENCE_LATITUDE = "N/A"
  REFERENCE_LONGITUDE = "N/A"
  SAMPLE_FIRST_PIXEL = 1
  SAMPLE_LAST_PIXEL = 5449
  SAMPLE_PROJECTION_OFFSET = 2430.75
  SECOND_STANDARD_PARALLEL = "N/A"
  WESTERNMOST_LONGITUDE = 254.491
END_OBJECT = IMAGE_MAP_PROJECTION
/* The JPEG2000 image data file associated with this label. */
OBJECT = COMPRESSED_FILE
  FILE_NAME = "HF996_0000_S23.JP2"
  RECORD_TYPE = UNDEFINED
  FILE_RECORDS = UNK
  ENCODING_TYPE = "JP2"
  INTERCHANGE_FORMAT = BINARY
  UNCOMPRESSED_FILE_NAME = "HF996_0000_S23.IMG"
  REQUIRED_STORAGE_BYTES = "115611433"
  ^DESCRIPTION = "JP2INFO.TXT"
END_OBJECT = COMPRESSED_FILE
END
