PDS_VERSION_ID = PDS3
/* FILE DATA ELEMENTS */
RECORD_TYPE = STREAM
/* POINTERS TO DATA OBJECTS */
^COMPRESSED_FILE = "HG000_0000_ND3.JP2"
/* IDENTIFICATION DATA ELEMENTS */
DATA_SET_ID = "MEX-M-HRSC-5-REFDR-MAPPROJECTED-V3.0"
DATA_SET_NAME = "MARS EXPRESS HRSC MAP PROJECTED REFDR V3.0"
DETECTOR_ID = MEX_HRSC_NADIR
EVENT_TYPE = "MARS-REGIONAL-MAPPING-Te-Im-Pf"
INSTRUMENT_HOST_ID = MEX
INSTRUMENT_HOST_NAME = "MARS EXPRESS"
INSTRUMENT_ID = HRSC
INSTRUMENT_NAME = "HIGH RESOLUTION STEREO CAMERA"
MISSION_NAME = "MARS EXPRESS"
MISSION_PHASE_NAME = ME_Phase_35
PROCESSING_LEVEL_ID = 3
PRODUCT_CREATION_TIME = 2017-06-29T11:20:52.000Z
PRODUCT_ID = "HG000_0000_ND3.JP2"
RELEASE_ID = 0135
REVISION_ID = 0000
/* QUALITY DATA ELEMENTS */
DATA_QUALITY_ID = 1
DATA_QUALITY_DESC = "Data calculated based on original SPICE kernels"
/* TIME DATA ELEMENTS */
SPACECRAFT_CLOCK_START_COUNT = "1/0419499320.08250"
SPACECRAFT_CLOCK_STOP_COUNT = "1/0419499621.04231"
START_TIME = 2016-08-17T07:36:07.342Z
STOP_TIME = 2016-08-17T07:39:26.338Z
/* ORBITAL DATA ELEMENTS */
ASCENDING_NODE_LONGITUDE = 273.32
MAXIMUM_RESOLUTION = 17.7
FOOTPRINT_POINT_LATITUDE = (61.9875,61.9473,61.9084,61.8806, 61.6522,61.2155,60.7704,60.5472,60.3241 ,60.1013,59.8786,59.5391,59.3115,59.084 ,58.8568,58.6298,58.3995,58.1674, 57.9357,57.7041,57.4728,57.1202,56.8841 ,56.6483,56.4127,56.0541,55.8138, 55.5738,55.3341,55.0908,54.8463,54.6022 ,54.3583,54.111,53.8625,53.6143,53.24, 52.9874,52.7351,52.4831,52.2263,51.9699 ,51.7139,51.3247,51.0644,50.8044, 50.5398,50.2756,49.8717,49.8871,49.9088 ,49.9196,49.9323,49.9404,50.2079,50.473 ,50.7384,51.0021,51.2632,51.5247, 51.7849,52.0419,52.2993,52.6839,52.937, 53.1905,53.5689,53.818,54.0673,54.4407, 54.6856,54.9307,55.1762,55.4208,55.6615 ,55.9025,56.1438,56.5042,56.7408, 56.9777,57.2148,57.5692,57.8016,58.0342 ,58.267,58.5001,58.7317,58.9598,59.1881 ,59.4167,59.6455,59.9868,60.2106, 60.4346,60.6588,60.8832,61.1077,61.3308 ,61.7699,61.9875)
FOOTPRINT_POINT_LONGITUDE = (209.243,208.067,207.142,206.557, 206.388,206.473,206.557,206.598,206.638 ,206.676,206.714,206.771,206.807, 206.843,206.878,206.912,206.946,206.98, 207.013,207.044,207.076,207.122,207.152 ,207.181,207.209,207.251,207.279, 207.305,207.331,207.357,207.382,207.407 ,207.431,207.454,207.477,207.5,207.532, 207.554,207.575,207.595,207.614,207.634 ,207.652,207.68,207.697,207.715,207.731 ,207.747,207.95,208.398,209.143,209.59, 210.247,210.799,210.782,210.766,210.748 ,210.731,210.714,210.696,210.678,210.66 ,210.641,210.613,210.594,210.575, 210.546,210.526,210.506,210.475,210.454 ,210.433,210.412,210.39,210.368,210.346 ,210.324,210.289,210.266,210.242, 210.218,210.182,210.157,210.132,210.107 ,210.081,210.054,210.028,210.001, 209.974,209.946,209.904,209.875,209.846 ,209.817,209.787,209.756,209.725, 209.662,209.243)
ORBIT_NUMBER = 16000
ORBITAL_ECCENTRICITY = 0.571
ORBITAL_INCLINATION = 86.96
ORBITAL_SEMIMAJOR_AXIS = 8764.38
PERIAPSIS_ALTITUDE = 384.92
PERIAPSIS_ARGUMENT_ANGLE = 101.45
PERIAPSIS_TIME = 2016-08-17T07:31:49.000Z
SPACECRAFT_ORIENTATION = (0.0,-1.0,0.0)
^MEX_ORIENTATION_DESC = "MEX_ORIENTATION_DESC.TXT"
SPACECRAFT_POINTING_MODE = NADIR
^MEX_POINTING_DESC = "MEX_POINTING_DESC.TXT"
RIGHT_ASCENSION = -1e+32
DECLINATION = -1e+32
OFFSET_ANGLE = -1e+32
SPACECRAFT_SOLAR_DISTANCE = 2.12095e+08
TARGET_NAME = MARS
/* CAMERA DATA ELEMENTS */
DETECTOR_TEMPERATURE = 18.5744
FOCAL_PLANE_TEMPERATURE = 8.5833
INST_CMPRS_NAME = "DISCRETE COSINE TRANSFORMATION (DCT)"
INST_CMPRS_RATIO = 7.12315
INST_CMPRS_QUALITY = 0
INST_CMPRS_QUANTZ_TBL_ID = 0
INSTRUMENT_TEMPERATURE = 11.4379
LENS_TEMPERATURE = 8.5833
MACROPIXEL_SIZE = 1
MISSING_FRAMES = 0
PIXEL_SUBSAMPLING_FLAG = N
SIGNAL_CHAIN_ID = 0
/* RADIOMETRIC DATA ELEMENTS */
BANDWIDTH = 177.0
CENTER_FILTER_WAVELENGTH = 677.5
RADIANCE_OFFSET = 3.06452
RADIANCE_SCALING_FACTOR = 0.0146303
REFLECTANCE_SCALING_FACTOR = 0.000349619
MEX:REFLECTANCE_OFFSET = 0.0732326
/* IMAGE OBJECT DEFINITIONS */
OBJECT = IMAGE
  INTERCHANGE_FORMAT = BINARY
  LINES = 57538
  LINE_SAMPLES = 11401
  SAMPLE_TYPE = UNSIGNED_INTEGER
  SAMPLE_BITS = 8
  BANDS = 1
  BAND_STORAGE_TYPE = BAND_SEQUENTIAL
  MAXIMUM = 255
  MEAN = 118.827
  MINIMUM = 1
  STANDARD_DEVIATION = 74.2447
END_OBJECT = IMAGE
/* MAP OBJECT DEFINITIONS */
OBJECT = IMAGE_MAP_PROJECTION
  ^DATA_SET_MAP_PROJECTION_CATALOG= "DSMAP.CAT"
  A_AXIS_RADIUS = 3396.0
  B_AXIS_RADIUS = 3396.0
  C_AXIS_RADIUS = 3396.0
  CENTER_LATITUDE = 0.0
  CENTER_LONGITUDE = 209.0
  COORDINATE_SYSTEM_NAME = PLANETOGRAPHIC
  COORDINATE_SYSTEM_TYPE = "BODY-FIXED ROTATING"
  EASTERNMOST_LONGITUDE = 210.799
  FIRST_STANDARD_PARALLEL = "N/A"
  LINE_FIRST_PIXEL = 1
  LINE_LAST_PIXEL = 57538
  LINE_PROJECTION_OFFSET = 293987.0
  MAP_PROJECTION_ROTATION = 0.0
  MAP_PROJECTION_TYPE = SINUSOIDAL
  MAP_RESOLUTION = 4741.71043093333
  MAP_SCALE = 0.0125
  MAXIMUM_LATITUDE = 61.9875
  MINIMUM_LATITUDE = 49.8717
  POSITIVE_LONGITUDE_DIRECTION = EAST
  REFERENCE_LATITUDE = "N/A"
  REFERENCE_LONGITUDE = "N/A"
  SAMPLE_FIRST_PIXEL = 1
  SAMPLE_LAST_PIXEL = 11401
  SAMPLE_PROJECTION_OFFSET = 5862.0
  SECOND_STANDARD_PARALLEL = "N/A"
  WESTERNMOST_LONGITUDE = 206.388
END_OBJECT = IMAGE_MAP_PROJECTION
/* The JPEG2000 image data file associated with this label. */
OBJECT = COMPRESSED_FILE
  FILE_NAME = "HG000_0000_ND3.JP2"
  RECORD_TYPE = UNDEFINED
  FILE_RECORDS = UNK
  ENCODING_TYPE = "JP2"
  INTERCHANGE_FORMAT = BINARY
  UNCOMPRESSED_FILE_NAME = "HG000_0000_ND3.IMG"
  REQUIRED_STORAGE_BYTES = "656024941"
  ^DESCRIPTION = "JP2INFO.TXT"
END_OBJECT = COMPRESSED_FILE
END
