PDS_VERSION_ID = PDS3
/* FILE DATA ELEMENTS */
RECORD_TYPE = STREAM
/* POINTERS TO DATA OBJECTS */
^COMPRESSED_FILE = "HG003_0000_S23.JP2"
/* IDENTIFICATION DATA ELEMENTS */
DATA_SET_ID = "MEX-M-HRSC-5-REFDR-MAPPROJECTED-V3.0"
DATA_SET_NAME = "MARS EXPRESS HRSC MAP PROJECTED REFDR V3.0"
DETECTOR_ID = MEX_HRSC_S2
EVENT_TYPE = "MARS-REGIONAL-MAPPING-Vo-Te-Pf"
INSTRUMENT_HOST_ID = MEX
INSTRUMENT_HOST_NAME = "MARS EXPRESS"
INSTRUMENT_ID = HRSC
INSTRUMENT_NAME = "HIGH RESOLUTION STEREO CAMERA"
MISSION_NAME = "MARS EXPRESS"
MISSION_PHASE_NAME = ME_Phase_35
PROCESSING_LEVEL_ID = 3
PRODUCT_CREATION_TIME = 2017-06-30T05:49:47.000Z
PRODUCT_ID = "HG003_0000_S23.JP2"
RELEASE_ID = 0136
REVISION_ID = 0000
/* QUALITY DATA ELEMENTS */
DATA_QUALITY_ID = 1
DATA_QUALITY_DESC = "Data calculated based on original SPICE kernels"
/* TIME DATA ELEMENTS */
SPACECRAFT_CLOCK_START_COUNT = "1/0419574742.09053"
SPACECRAFT_CLOCK_STOP_COUNT = "1/0419575130.64184"
START_TIME = 2016-08-18T04:33:43.837Z
STOP_TIME = 2016-08-18T04:38:56.860Z
/* ORBITAL DATA ELEMENTS */
ASCENDING_NODE_LONGITUDE = 273.28
MAXIMUM_RESOLUTION = 35
FOOTPRINT_POINT_LATITUDE = (70.6898,70.6433,70.5886,70.5104, 70.1443,69.8214,69.4983,69.1685,68.8378 ,68.5077,68.0131,67.684,67.3497,67.0126 ,66.6764,66.3406,66.0053,65.6633, 65.3208,64.9788,64.6373,64.291,63.9426, 63.5948,63.2479,62.8938,62.3632,62.0105 ,61.6501,61.2904,60.9314,60.3831, 60.0187,59.6502,59.2793,58.7211,58.3449 ,57.9697,57.5878,57.2069,56.6289, 56.2434,55.8512,55.4605,55.0628,54.4647 ,54.063,53.6574,53.2513,52.6336,52.6497 ,52.6627,52.6716,52.6801,53.0985, 53.7134,54.1215,54.5256,55.1262,55.5257 ,55.9191,56.3134,56.7017,57.2832, 57.6663,58.0508,58.6174,58.9961,59.3683 ,59.742,60.2965,60.6642,61.0326,61.3933 ,61.7559,62.1178,62.4732,63.0076, 63.3646,63.7142,64.0646,64.4157,64.7649 ,65.109,65.4538,65.7993,66.1447,66.4829 ,66.8219,67.1614,67.5016,67.8396, 68.1723,68.5052,68.8389,69.3403,69.6743 ,70.001,70.3281,70.6898)
FOOTPRINT_POINT_LONGITUDE = (259.017,257.75,256.473,254.903,254.882 ,255.066,255.244,255.419,255.587, 255.749,255.982,256.13,256.274,256.416, 256.551,256.682,256.809,256.933,257.053 ,257.169,257.281,257.391,257.497,257.6, 257.699,257.797,257.937,258.027,258.115 ,258.201,258.283,258.404,258.48,258.555 ,258.628,258.733,258.8,258.865,258.929, 258.991,259.079,259.135,259.19,259.243, 259.296,259.37,259.418,259.464,259.508, 259.767,260.484,261.164,261.711,262.415 ,262.862,262.796,262.75,262.705,262.634 ,262.586,262.537,262.486,262.436, 262.357,262.303,262.248,262.164,262.106 ,262.047,261.987,261.894,261.831, 261.765,261.699,261.631,261.56,261.489, 261.379,261.302,261.225,261.146,261.063 ,260.979,260.894,260.806,260.715, 260.621,260.526,260.428,260.327,260.222 ,260.114,260.005,259.892,259.775, 259.592,259.464,259.335,259.201, 259.017)
ORBIT_NUMBER = 16003
ORBITAL_ECCENTRICITY = 0.571
ORBITAL_INCLINATION = 86.95
ORBITAL_SEMIMAJOR_AXIS = 8765.11
PERIAPSIS_ALTITUDE = 385.35
PERIAPSIS_ARGUMENT_ANGLE = 100.92
PERIAPSIS_TIME = 2016-08-18T04:31:01.000Z
SPACECRAFT_ORIENTATION = (0.0,-1.0,0.0)
^MEX_ORIENTATION_DESC = "MEX_ORIENTATION_DESC.TXT"
SPACECRAFT_POINTING_MODE = ACROSSTRACK
^MEX_POINTING_DESC = "MEX_POINTING_DESC.TXT"
RIGHT_ASCENSION = -1e+32
DECLINATION = -1e+32
OFFSET_ANGLE = -0.539
SPACECRAFT_SOLAR_DISTANCE = 2.11973e+08
TARGET_NAME = MARS
/* CAMERA DATA ELEMENTS */
DETECTOR_TEMPERATURE = 18.7783
FOCAL_PLANE_TEMPERATURE = 8.1755
INST_CMPRS_NAME = "DISCRETE COSINE TRANSFORMATION (DCT)"
INST_CMPRS_RATIO = 13.4136
INST_CMPRS_QUALITY = 0
INST_CMPRS_QUANTZ_TBL_ID = 0
INSTRUMENT_TEMPERATURE = 11.4379
LENS_TEMPERATURE = 8.5833
MACROPIXEL_SIZE = 2
MISSING_FRAMES = 0
PIXEL_SUBSAMPLING_FLAG = N
SIGNAL_CHAIN_ID = 1
/* RADIOMETRIC DATA ELEMENTS */
BANDWIDTH = 178.0
CENTER_FILTER_WAVELENGTH = 679.0
RADIANCE_OFFSET = 1.39589
RADIANCE_SCALING_FACTOR = 0.0210468
REFLECTANCE_SCALING_FACTOR = 0.000500814
MEX:REFLECTANCE_OFFSET = 0.0332154
/* IMAGE OBJECT DEFINITIONS */
OBJECT = IMAGE
  INTERCHANGE_FORMAT = BINARY
  LINES = 43231
  LINE_SAMPLES = 8109
  SAMPLE_TYPE = UNSIGNED_INTEGER
  SAMPLE_BITS = 8
  BANDS = 1
  BAND_STORAGE_TYPE = BAND_SEQUENTIAL
  MAXIMUM = 255
  MEAN = 126.176
  MINIMUM = 1
  STANDARD_DEVIATION = 59.136
END_OBJECT = IMAGE
/* MAP OBJECT DEFINITIONS */
OBJECT = IMAGE_MAP_PROJECTION
  ^DATA_SET_MAP_PROJECTION_CATALOG= "DSMAP.CAT"
  A_AXIS_RADIUS = 3396.0
  B_AXIS_RADIUS = 3396.0
  C_AXIS_RADIUS = 3396.0
  CENTER_LATITUDE = 0.0
  CENTER_LONGITUDE = 260.0
  COORDINATE_SYSTEM_NAME = PLANETOGRAPHIC
  COORDINATE_SYSTEM_TYPE = "BODY-FIXED ROTATING"
  EASTERNMOST_LONGITUDE = 262.862
  FIRST_STANDARD_PARALLEL = "N/A"
  LINE_FIRST_PIXEL = 1
  LINE_LAST_PIXEL = 43231
  LINE_PROJECTION_OFFSET = 167932.25
  MAP_PROJECTION_ROTATION = 0.0
  MAP_PROJECTION_TYPE = SINUSOIDAL
  MAP_RESOLUTION = 2370.85521546667
  MAP_SCALE = 0.025
  MAXIMUM_LATITUDE = 70.68980000000001
  MINIMUM_LATITUDE = 52.6336
  POSITIVE_LONGITUDE_DIRECTION = EAST
  REFERENCE_LATITUDE = "N/A"
  REFERENCE_LONGITUDE = "N/A"
  SAMPLE_FIRST_PIXEL = 1
  SAMPLE_LAST_PIXEL = 8109
  SAMPLE_PROJECTION_OFFSET = 4168.75
  SECOND_STANDARD_PARALLEL = "N/A"
  WESTERNMOST_LONGITUDE = 254.882
END_OBJECT = IMAGE_MAP_PROJECTION
/* The JPEG2000 image data file associated with this label. */
OBJECT = COMPRESSED_FILE
  FILE_NAME = "HG003_0000_S23.JP2"
  RECORD_TYPE = UNDEFINED
  FILE_RECORDS = UNK
  ENCODING_TYPE = "JP2"
  INTERCHANGE_FORMAT = BINARY
  UNCOMPRESSED_FILE_NAME = "HG003_0000_S23.IMG"
  REQUIRED_STORAGE_BYTES = "350592615"
  ^DESCRIPTION = "JP2INFO.TXT"
END_OBJECT = COMPRESSED_FILE
END
