PDS_VERSION_ID = PDS3
/* FILE DATA ELEMENTS */
RECORD_TYPE = STREAM
/* POINTERS TO DATA OBJECTS */
^COMPRESSED_FILE = "HG006_0000_S23.JP2"
/* IDENTIFICATION DATA ELEMENTS */
DATA_SET_ID = "MEX-M-HRSC-5-REFDR-MAPPROJECTED-V3.0"
DATA_SET_NAME = "MARS EXPRESS HRSC MAP PROJECTED REFDR V3.0"
DETECTOR_ID = MEX_HRSC_S2
EVENT_TYPE = "MARS-REGIONAL-MAPPING-Im-Gl-Pf"
INSTRUMENT_HOST_ID = MEX
INSTRUMENT_HOST_NAME = "MARS EXPRESS"
INSTRUMENT_ID = HRSC
INSTRUMENT_NAME = "HIGH RESOLUTION STEREO CAMERA"
MISSION_NAME = "MARS EXPRESS"
MISSION_PHASE_NAME = ME_Phase_35
PROCESSING_LEVEL_ID = 3
PRODUCT_CREATION_TIME = 2017-06-30T05:49:47.000Z
PRODUCT_ID = "HG006_0000_S23.JP2"
RELEASE_ID = 0136
REVISION_ID = 0000
/* QUALITY DATA ELEMENTS */
DATA_QUALITY_ID = 1
DATA_QUALITY_DESC = "Data calculated based on original SPICE kernels"
/* TIME DATA ELEMENTS */
SPACECRAFT_CLOCK_START_COUNT = "1/0419650394.09039"
SPACECRAFT_CLOCK_STOP_COUNT = "1/0419650715.63251"
START_TIME = 2016-08-19T01:34:42.602Z
STOP_TIME = 2016-08-19T01:38:41.855Z
/* ORBITAL DATA ELEMENTS */
ASCENDING_NODE_LONGITUDE = 273.22
MAXIMUM_RESOLUTION = 38.5
FOOTPRINT_POINT_LATITUDE = (64.5796,64.5406,64.5031,64.4522, 64.2083,63.7218,63.4757,63.2273,62.9796 ,62.7321,62.4852,62.1075,61.8556, 61.6039,61.3533,61.0969,60.8416,60.5861 ,60.2019,59.9425,59.6835,59.4248, 59.0315,58.7687,58.5063,58.1075,57.841, 57.575,57.3051,57.0349,56.7654,56.4921, 56.218,55.9449,55.6677,55.252,54.9724, 54.6916,54.2689,53.9845,53.7011,53.4127 ,53.1256,52.6902,52.3995,52.1054, 51.8116,51.5149,51.2203,51.2366,51.2474 ,51.2592,51.2697,51.2805,51.2863, 51.5852,51.8828,52.1783,52.4737,52.7657 ,53.2036,53.4923,53.7818,54.0666, 54.3524,54.7773,55.0596,55.3407,55.7584 ,56.0372,56.3118,56.587,56.8616,57.1324 ,57.4042,57.6756,57.9429,58.2107, 58.6117,58.8755,59.1397,59.5355,59.7955 ,60.1865,60.4475,60.7036,60.9603, 61.2174,61.475,61.727,61.9797,62.233, 62.6129,62.8614,63.1103,63.3597,63.6094 ,63.8572,64.3466,64.5796)
FOOTPRINT_POINT_LONGITUDE = (315.241,314.082,313.13,311.801,311.864 ,311.985,312.044,312.102,312.158, 312.213,312.266,312.345,312.397,312.447 ,312.495,312.543,312.59,312.636,312.702 ,312.745,312.787,312.828,312.889, 312.928,312.966,313.021,313.057,313.092 ,313.127,313.16,313.193,313.224,313.256 ,313.286,313.316,313.358,313.386, 313.413,313.452,313.478,313.502,313.526 ,313.549,313.582,313.604,313.624, 313.644,313.664,313.979,314.539,314.967 ,315.494,316.021,316.682,317.09,317.068 ,317.045,317.022,316.999,316.975,316.94 ,316.915,316.891,316.866,316.841, 316.803,316.777,316.75,316.71,316.683, 316.655,316.627,316.599,316.57,316.541, 316.511,316.481,316.451,316.404,316.372 ,316.34,316.291,316.258,316.207,316.172 ,316.137,316.101,316.065,316.027,315.99 ,315.952,315.913,315.853,315.813, 315.772,315.73,315.687,315.644,315.555, 315.241)
ORBIT_NUMBER = 16006
ORBITAL_ECCENTRICITY = 0.571
ORBITAL_INCLINATION = 86.96
ORBITAL_SEMIMAJOR_AXIS = 8764.5
PERIAPSIS_ALTITUDE = 385.83
PERIAPSIS_ARGUMENT_ANGLE = 100.43
PERIAPSIS_TIME = 2016-08-19T01:30:09.000Z
SPACECRAFT_ORIENTATION = (0.0,-1.0,0.0)
^MEX_ORIENTATION_DESC = "MEX_ORIENTATION_DESC.TXT"
SPACECRAFT_POINTING_MODE = NADIR
^MEX_POINTING_DESC = "MEX_POINTING_DESC.TXT"
RIGHT_ASCENSION = -1e+32
DECLINATION = -1e+32
OFFSET_ANGLE = -1e+32
SPACECRAFT_SOLAR_DISTANCE = 2.11852e+08
TARGET_NAME = MARS
/* CAMERA DATA ELEMENTS */
DETECTOR_TEMPERATURE = 20.0017
FOCAL_PLANE_TEMPERATURE = 9.195
INST_CMPRS_NAME = "DISCRETE COSINE TRANSFORMATION (DCT)"
INST_CMPRS_RATIO = 12.3333
INST_CMPRS_QUALITY = 0
INST_CMPRS_QUANTZ_TBL_ID = 0
INSTRUMENT_TEMPERATURE = 11.8457
LENS_TEMPERATURE = 9.195
MACROPIXEL_SIZE = 2
MISSING_FRAMES = 0
PIXEL_SUBSAMPLING_FLAG = N
SIGNAL_CHAIN_ID = 1
/* RADIOMETRIC DATA ELEMENTS */
BANDWIDTH = 178.0
CENTER_FILTER_WAVELENGTH = 679.0
RADIANCE_OFFSET = 3.01213
RADIANCE_SCALING_FACTOR = 0.00812095
REFLECTANCE_SCALING_FACTOR = 0.000193019
MEX:REFLECTANCE_OFFSET = 0.0715925
/* IMAGE OBJECT DEFINITIONS */
OBJECT = IMAGE
  INTERCHANGE_FORMAT = BINARY
  LINES = 32059
  LINE_SAMPLES = 6046
  SAMPLE_TYPE = UNSIGNED_INTEGER
  SAMPLE_BITS = 8
  BANDS = 1
  BAND_STORAGE_TYPE = BAND_SEQUENTIAL
  MAXIMUM = 255
  MEAN = 137.268
  MINIMUM = 1
  STANDARD_DEVIATION = 47.3462
END_OBJECT = IMAGE
/* MAP OBJECT DEFINITIONS */
OBJECT = IMAGE_MAP_PROJECTION
  ^DATA_SET_MAP_PROJECTION_CATALOG= "DSMAP.CAT"
  A_AXIS_RADIUS = 3396.0
  B_AXIS_RADIUS = 3396.0
  C_AXIS_RADIUS = 3396.0
  CENTER_LATITUDE = 0.0
  CENTER_LONGITUDE = 315.0
  COORDINATE_SYSTEM_NAME = PLANETOGRAPHIC
  COORDINATE_SYSTEM_TYPE = "BODY-FIXED ROTATING"
  EASTERNMOST_LONGITUDE = 317.09
  FIRST_STANDARD_PARALLEL = "N/A"
  LINE_FIRST_PIXEL = 1
  LINE_LAST_PIXEL = 32059
  LINE_PROJECTION_OFFSET = 153376.25
  MAP_PROJECTION_ROTATION = 0.0
  MAP_PROJECTION_TYPE = SINUSOIDAL
  MAP_RESOLUTION = 2370.85521546667
  MAP_SCALE = 0.025
  MAXIMUM_LATITUDE = 64.5796
  MINIMUM_LATITUDE = 51.2203
  POSITIVE_LONGITUDE_DIRECTION = EAST
  REFERENCE_LATITUDE = "N/A"
  REFERENCE_LONGITUDE = "N/A"
  SAMPLE_FIRST_PIXEL = 1
  SAMPLE_LAST_PIXEL = 6046
  SAMPLE_PROJECTION_OFFSET = 3202.25
  SECOND_STANDARD_PARALLEL = "N/A"
  WESTERNMOST_LONGITUDE = 311.801
END_OBJECT = IMAGE_MAP_PROJECTION
/* The JPEG2000 image data file associated with this label. */
OBJECT = COMPRESSED_FILE
  FILE_NAME = "HG006_0000_S23.JP2"
  RECORD_TYPE = UNDEFINED
  FILE_RECORDS = UNK
  ENCODING_TYPE = "JP2"
  INTERCHANGE_FORMAT = BINARY
  UNCOMPRESSED_FILE_NAME = "HG006_0000_S23.IMG"
  REQUIRED_STORAGE_BYTES = "193858944"
  ^DESCRIPTION = "JP2INFO.TXT"
END_OBJECT = COMPRESSED_FILE
END
