PDS_VERSION_ID = PDS3
/* FILE DATA ELEMENTS */
RECORD_TYPE = STREAM
/* POINTERS TO DATA OBJECTS */
^COMPRESSED_FILE = "HG007_0000_ND3.JP2"
/* IDENTIFICATION DATA ELEMENTS */
DATA_SET_ID = "MEX-M-HRSC-5-REFDR-MAPPROJECTED-V3.0"
DATA_SET_NAME = "MARS EXPRESS HRSC MAP PROJECTED REFDR V3.0"
DETECTOR_ID = MEX_HRSC_NADIR
EVENT_TYPE = "MARS-LOCAL-STEREO-Im-Pf"
INSTRUMENT_HOST_ID = MEX
INSTRUMENT_HOST_NAME = "MARS EXPRESS"
INSTRUMENT_ID = HRSC
INSTRUMENT_NAME = "HIGH RESOLUTION STEREO CAMERA"
MISSION_NAME = "MARS EXPRESS"
MISSION_PHASE_NAME = ME_Phase_35
PROCESSING_LEVEL_ID = 3
PRODUCT_CREATION_TIME = 2017-06-30T05:49:47.000Z
PRODUCT_ID = "HG007_0000_ND3.JP2"
RELEASE_ID = 0136
REVISION_ID = 0000
/* QUALITY DATA ELEMENTS */
DATA_QUALITY_ID = 1
DATA_QUALITY_DESC = "Data calculated based on original SPICE kernels"
/* TIME DATA ELEMENTS */
SPACECRAFT_CLOCK_START_COUNT = "1/0419675677.07311"
SPACECRAFT_CLOCK_STOP_COUNT = "1/0419675911.39755"
START_TIME = 2016-08-19T08:35:28.336Z
STOP_TIME = 2016-08-19T08:37:35.330Z
/* ORBITAL DATA ELEMENTS */
ASCENDING_NODE_LONGITUDE = 273.2
MAXIMUM_RESOLUTION = 19.3
FOOTPRINT_POINT_LATITUDE = (58.1008,58.0898,58.0718,58.0565, 58.0439,58.0303,58.0182,57.8675,57.4409 ,57.1526,56.8647,56.5772,56.3575, 56.2109,55.918,55.6255,55.4028,55.2537, 55.1047,54.9559,54.8071,54.6585,54.507, 54.3555,54.2041,54.0528,53.9017,53.7507 ,53.52,53.3662,53.2125,53.0589,52.9055, 52.7496,52.5933,52.4372,52.2812,52.1254 ,51.968,51.8093,51.6509,51.4925,51.3343 ,51.1743,51.0134,50.8526,50.6919, 50.4518,50.4616,50.4706,50.4795,50.4855 ,50.4909,50.4958,50.5013,50.5059, 50.5113,50.756,50.9173,51.0787,51.2403, 51.4011,51.5599,51.7188,51.878,52.0372, 52.1953,52.3518,52.5084,52.6651,52.822, 52.9786,53.1327,53.2868,53.4411,53.5955 ,53.8272,53.9788,54.1306,54.2825, 54.4345,54.5867,54.7388,54.888,55.0373, 55.1868,55.3364,55.4861,55.7098,55.8566 ,56.0036,56.1506,56.2977,56.4449, 56.6656,56.9543,57.2435,57.533,57.9615, 58.1008)
FOOTPRINT_POINT_LONGITUDE = (214.289,213.801,213.132,212.648, 212.286,211.925,211.624,211.406,211.456 ,211.489,211.521,211.552,211.575,211.59 ,211.62,211.648,211.669,211.683,211.697 ,211.71,211.724,211.736,211.749,211.762 ,211.774,211.787,211.799,211.811, 211.828,211.839,211.85,211.861,211.872, 211.883,211.893,211.903,211.914,211.924 ,211.933,211.943,211.953,211.962, 211.971,211.98,211.989,211.998,212.006, 212.201,212.506,212.811,213.147,213.392 ,213.637,213.882,214.19,214.498,214.96, 215.117,215.108,215.099,215.09,215.081, 215.072,215.062,215.053,215.044,215.034 ,215.024,215.015,215.005,214.995, 214.985,214.975,214.965,214.954,214.943 ,214.926,214.915,214.906,214.898, 214.888,214.876,214.864,214.852,214.841 ,214.831,214.819,214.808,214.791,214.78 ,214.769,214.757,214.745,214.733, 214.715,214.69,214.665,214.639,214.601, 214.289)
ORBIT_NUMBER = 16007
ORBITAL_ECCENTRICITY = 0.571
ORBITAL_INCLINATION = 86.96
ORBITAL_SEMIMAJOR_AXIS = 8763.7
PERIAPSIS_ALTITUDE = 385.1
PERIAPSIS_ARGUMENT_ANGLE = 100.24
PERIAPSIS_TIME = 2016-08-19T08:29:47.000Z
SPACECRAFT_ORIENTATION = (0.0,-1.0,0.0)
^MEX_ORIENTATION_DESC = "MEX_ORIENTATION_DESC.TXT"
SPACECRAFT_POINTING_MODE = ACROSSTRACK
^MEX_POINTING_DESC = "MEX_POINTING_DESC.TXT"
RIGHT_ASCENSION = -1e+32
DECLINATION = -1e+32
OFFSET_ANGLE = 0.269
SPACECRAFT_SOLAR_DISTANCE = 2.11812e+08
TARGET_NAME = MARS
/* CAMERA DATA ELEMENTS */
DETECTOR_TEMPERATURE = 18.5744
FOCAL_PLANE_TEMPERATURE = 8.5833
INST_CMPRS_NAME = "DISCRETE COSINE TRANSFORMATION (DCT)"
INST_CMPRS_RATIO = 6.84073
INST_CMPRS_QUALITY = 0
INST_CMPRS_QUANTZ_TBL_ID = 0
INSTRUMENT_TEMPERATURE = 11.0301
LENS_TEMPERATURE = 8.5833
MACROPIXEL_SIZE = 1
MISSING_FRAMES = 0
PIXEL_SUBSAMPLING_FLAG = N
SIGNAL_CHAIN_ID = 0
/* RADIOMETRIC DATA ELEMENTS */
BANDWIDTH = 177.0
CENTER_FILTER_WAVELENGTH = 677.5
RADIANCE_OFFSET = 2.81804
RADIANCE_SCALING_FACTOR = 0.0166943
REFLECTANCE_SCALING_FACTOR = 0.00039788
MEX:REFLECTANCE_OFFSET = 0.0671633
/* IMAGE OBJECT DEFINITIONS */
OBJECT = IMAGE
  INTERCHANGE_FORMAT = BINARY
  LINES = 18159
  LINE_SAMPLES = 5262
  SAMPLE_TYPE = UNSIGNED_INTEGER
  SAMPLE_BITS = 8
  BANDS = 1
  BAND_STORAGE_TYPE = BAND_SEQUENTIAL
  MAXIMUM = 255
  MEAN = 118.204
  MINIMUM = 1
  STANDARD_DEVIATION = 40.1356
END_OBJECT = IMAGE
/* MAP OBJECT DEFINITIONS */
OBJECT = IMAGE_MAP_PROJECTION
  ^DATA_SET_MAP_PROJECTION_CATALOG= "DSMAP.CAT"
  A_AXIS_RADIUS = 3396.0
  B_AXIS_RADIUS = 3396.0
  C_AXIS_RADIUS = 3396.0
  CENTER_LATITUDE = 0.0
  CENTER_LONGITUDE = 213.0
  COORDINATE_SYSTEM_NAME = PLANETOGRAPHIC
  COORDINATE_SYSTEM_TYPE = "BODY-FIXED ROTATING"
  EASTERNMOST_LONGITUDE = 215.117
  FIRST_STANDARD_PARALLEL = "N/A"
  LINE_FIRST_PIXEL = 1
  LINE_LAST_PIXEL = 18159
  LINE_PROJECTION_OFFSET = 137758.0
  MAP_PROJECTION_ROTATION = 0.0
  MAP_PROJECTION_TYPE = SINUSOIDAL
  MAP_RESOLUTION = 2370.85521546667
  MAP_SCALE = 0.025
  MAXIMUM_LATITUDE = 58.1008
  MINIMUM_LATITUDE = 50.4518
  POSITIVE_LONGITUDE_DIRECTION = EAST
  REFERENCE_LATITUDE = "N/A"
  REFERENCE_LONGITUDE = "N/A"
  SAMPLE_FIRST_PIXEL = 1
  SAMPLE_LAST_PIXEL = 5262
  SAMPLE_PROJECTION_OFFSET = 2038.0
  SECOND_STANDARD_PARALLEL = "N/A"
  WESTERNMOST_LONGITUDE = 211.406
END_OBJECT = IMAGE_MAP_PROJECTION
/* The JPEG2000 image data file associated with this label. */
OBJECT = COMPRESSED_FILE
  FILE_NAME = "HG007_0000_ND3.JP2"
  RECORD_TYPE = UNDEFINED
  FILE_RECORDS = UNK
  ENCODING_TYPE = "JP2"
  INTERCHANGE_FORMAT = BINARY
  UNCOMPRESSED_FILE_NAME = "HG007_0000_ND3.IMG"
  REQUIRED_STORAGE_BYTES = "95578968"
  ^DESCRIPTION = "JP2INFO.TXT"
END_OBJECT = COMPRESSED_FILE
END
