PDS_VERSION_ID = PDS3
/* FILE DATA ELEMENTS */
RECORD_TYPE = STREAM
/* POINTERS TO DATA OBJECTS */
^COMPRESSED_FILE = "HG008_0000_GR3.JP2"
/* IDENTIFICATION DATA ELEMENTS */
DATA_SET_ID = "MEX-M-HRSC-5-REFDR-MAPPROJECTED-V3.0"
DATA_SET_NAME = "MARS EXPRESS HRSC MAP PROJECTED REFDR V3.0"
DETECTOR_ID = MEX_HRSC_GREEN
EVENT_TYPE = "MARS-REGIONAL-MAPPING-Im-Gl-Pf"
INSTRUMENT_HOST_ID = MEX
INSTRUMENT_HOST_NAME = "MARS EXPRESS"
INSTRUMENT_ID = HRSC
INSTRUMENT_NAME = "HIGH RESOLUTION STEREO CAMERA"
MISSION_NAME = "MARS EXPRESS"
MISSION_PHASE_NAME = ME_Phase_35
PROCESSING_LEVEL_ID = 3
PRODUCT_CREATION_TIME = 2017-06-30T05:49:47.000Z
PRODUCT_ID = "HG008_0000_GR3.JP2"
RELEASE_ID = 0136
REVISION_ID = 0000
/* QUALITY DATA ELEMENTS */
DATA_QUALITY_ID = 1
DATA_QUALITY_DESC = "Data calculated based on original SPICE kernels"
/* TIME DATA ELEMENTS */
SPACECRAFT_CLOCK_START_COUNT = "1/0419700768.08265"
SPACECRAFT_CLOCK_STOP_COUNT = "1/0419700901.21908"
START_TIME = 2016-08-19T15:33:28.090Z
STOP_TIME = 2016-08-19T15:34:14.577Z
/* ORBITAL DATA ELEMENTS */
ASCENDING_NODE_LONGITUDE = 273.18
MAXIMUM_RESOLUTION = 69.2
FOOTPRINT_POINT_LATITUDE = (64.4134,64.4055,64.3973,64.3898,64.376 ,64.3663,64.3563,64.3471,64.3362, 64.3205,64.3025,64.29,64.2803,64.199, 64.0867,64.0026,63.9184,63.8062,63.694, 63.5795,63.4645,63.3208,63.2059,63.1197 ,63.0336,62.9474,62.8613,62.7753, 62.6318,62.5458,62.4024,62.2878,62.2018 ,62.1143,62.0556,61.9969,61.9089, 61.8502,61.7915,61.7035,61.6156,61.5276 ,61.4397,61.3811,61.3677,61.3738, 61.3798,61.3857,61.3914,61.3971,61.4026 ,61.4106,61.4159,61.421,61.4272,61.4333 ,61.4427,61.4472,61.4527,61.46,61.4661, 61.47,61.4737,61.4782,61.4835,61.4898, 61.5487,61.6371,61.7255,61.7844,61.8729 ,61.9614,62.0204,62.1089,62.1974, 62.2564,62.3153,62.4306,62.517,62.6035, 62.69,62.7766,62.8631,62.9497,63.0363, 63.123,63.2096,63.2963,63.3829,63.4697, 63.5564,63.6432,63.7589,63.8731,63.9578 ,64.0424,64.1554,64.2401,64.3813, 64.4134)
FOOTPRINT_POINT_LONGITUDE = (110.608,110.36,110.112,109.896,109.525 ,109.278,109.031,108.815,108.569, 108.231,107.862,107.616,107.431,107.362 ,107.39,107.412,107.433,107.461,107.488 ,107.516,107.544,107.578,107.605, 107.625,107.645,107.664,107.684,107.703 ,107.735,107.754,107.785,107.809, 107.828,107.846,107.858,107.87,107.888, 107.9,107.912,107.93,107.948,107.965, 107.982,107.994,108.117,108.24,108.362, 108.485,108.608,108.73,108.853,109.036, 109.159,109.281,109.435,109.588,109.833 ,109.956,110.11,110.325,110.51,110.633, 110.756,110.909,111.094,111.29,111.281, 111.269,111.256,111.247,111.234,111.221 ,111.212,111.199,111.186,111.177, 111.168,111.15,111.137,111.123,111.11, 111.096,111.082,111.068,111.054,111.04, 111.026,111.012,110.997,110.983,110.968 ,110.953,110.933,110.913,110.898, 110.884,110.863,110.848,110.823, 110.608)
ORBIT_NUMBER = 16008
ORBITAL_ECCENTRICITY = 0.571
ORBITAL_INCLINATION = 86.95
ORBITAL_SEMIMAJOR_AXIS = 8766.27
PERIAPSIS_ALTITUDE = 385.27
PERIAPSIS_ARGUMENT_ANGLE = 100.06
PERIAPSIS_TIME = 2016-08-19T15:29:33.000Z
SPACECRAFT_ORIENTATION = (0.0,-1.0,0.0)
^MEX_ORIENTATION_DESC = "MEX_ORIENTATION_DESC.TXT"
SPACECRAFT_POINTING_MODE = NADIR
^MEX_POINTING_DESC = "MEX_POINTING_DESC.TXT"
RIGHT_ASCENSION = -1e+32
DECLINATION = -1e+32
OFFSET_ANGLE = -1e+32
SPACECRAFT_SOLAR_DISTANCE = 2.11772e+08
TARGET_NAME = MARS
/* CAMERA DATA ELEMENTS */
DETECTOR_TEMPERATURE = 18.5744
FOCAL_PLANE_TEMPERATURE = 7.9716
INST_CMPRS_NAME = "DISCRETE COSINE TRANSFORMATION (DCT)"
INST_CMPRS_RATIO = 13.493
INST_CMPRS_QUALITY = 0
INST_CMPRS_QUANTZ_TBL_ID = 0
INSTRUMENT_TEMPERATURE = 11.234
LENS_TEMPERATURE = 8.1755
MACROPIXEL_SIZE = 4
MISSING_FRAMES = 0
PIXEL_SUBSAMPLING_FLAG = N
SIGNAL_CHAIN_ID = 2
/* RADIOMETRIC DATA ELEMENTS */
BANDWIDTH = 88.0
CENTER_FILTER_WAVELENGTH = 538.0
RADIANCE_OFFSET = 1.19352
RADIANCE_SCALING_FACTOR = 0.00261378
REFLECTANCE_SCALING_FACTOR = 0.000100924
MEX:REFLECTANCE_OFFSET = 0.0460847
/* IMAGE OBJECT DEFINITIONS */
OBJECT = IMAGE
  INTERCHANGE_FORMAT = BINARY
  LINES = 3605
  LINE_SAMPLES = 2153
  SAMPLE_TYPE = UNSIGNED_INTEGER
  SAMPLE_BITS = 8
  BANDS = 1
  BAND_STORAGE_TYPE = BAND_SEQUENTIAL
  MAXIMUM = 255
  MEAN = 110.939
  MINIMUM = 1
  STANDARD_DEVIATION = 44.1728
END_OBJECT = IMAGE
/* MAP OBJECT DEFINITIONS */
OBJECT = IMAGE_MAP_PROJECTION
  ^DATA_SET_MAP_PROJECTION_CATALOG= "DSMAP.CAT"
  A_AXIS_RADIUS = 3396.0
  B_AXIS_RADIUS = 3396.0
  C_AXIS_RADIUS = 3396.0
  CENTER_LATITUDE = 0.0
  CENTER_LONGITUDE = 109.0
  COORDINATE_SYSTEM_NAME = PLANETOGRAPHIC
  COORDINATE_SYSTEM_TYPE = "BODY-FIXED ROTATING"
  EASTERNMOST_LONGITUDE = 111.29
  FIRST_STANDARD_PARALLEL = "N/A"
  LINE_FIRST_PIXEL = 1
  LINE_LAST_PIXEL = 3605
  LINE_PROJECTION_OFFSET = 76344.125
  MAP_PROJECTION_ROTATION = 0.0
  MAP_PROJECTION_TYPE = SINUSOIDAL
  MAP_RESOLUTION = 1185.42760773333
  MAP_SCALE = 0.05
  MAXIMUM_LATITUDE = 64.4134
  MINIMUM_LATITUDE = 61.3677
  POSITIVE_LONGITUDE_DIRECTION = EAST
  REFERENCE_LATITUDE = "N/A"
  REFERENCE_LONGITUDE = "N/A"
  SAMPLE_FIRST_PIXEL = 1
  SAMPLE_LAST_PIXEL = 2153
  SAMPLE_PROJECTION_OFFSET = 844.875
  SECOND_STANDARD_PARALLEL = "N/A"
  WESTERNMOST_LONGITUDE = 107.362
END_OBJECT = IMAGE_MAP_PROJECTION
/* The JPEG2000 image data file associated with this label. */
OBJECT = COMPRESSED_FILE
  FILE_NAME = "HG008_0000_GR3.JP2"
  RECORD_TYPE = UNDEFINED
  FILE_RECORDS = UNK
  ENCODING_TYPE = "JP2"
  INTERCHANGE_FORMAT = BINARY
  UNCOMPRESSED_FILE_NAME = "HG008_0000_GR3.IMG"
  REQUIRED_STORAGE_BYTES = "7783095"
  ^DESCRIPTION = "JP2INFO.TXT"
END_OBJECT = COMPRESSED_FILE
END
