PDS_VERSION_ID = PDS3
/* FILE DATA ELEMENTS */
RECORD_TYPE = STREAM
/* POINTERS TO DATA OBJECTS */
^COMPRESSED_FILE = "HG009_0000_P13.JP2"
/* IDENTIFICATION DATA ELEMENTS */
DATA_SET_ID = "MEX-M-HRSC-5-REFDR-MAPPROJECTED-V3.0"
DATA_SET_NAME = "MARS EXPRESS HRSC MAP PROJECTED REFDR V3.0"
DETECTOR_ID = MEX_HRSC_P1
EVENT_TYPE = "MARS-REGIONAL-MAPPING-Im-Pf"
INSTRUMENT_HOST_ID = MEX
INSTRUMENT_HOST_NAME = "MARS EXPRESS"
INSTRUMENT_ID = HRSC
INSTRUMENT_NAME = "HIGH RESOLUTION STEREO CAMERA"
MISSION_NAME = "MARS EXPRESS"
MISSION_PHASE_NAME = ME_Phase_35
PROCESSING_LEVEL_ID = 3
PRODUCT_CREATION_TIME = 2017-06-30T05:49:47.000Z
PRODUCT_ID = "HG009_0000_P13.JP2"
RELEASE_ID = 0136
REVISION_ID = 0000
/* QUALITY DATA ELEMENTS */
DATA_QUALITY_ID = 1
DATA_QUALITY_DESC = "Data calculated based on original SPICE kernels"
/* TIME DATA ELEMENTS */
SPACECRAFT_CLOCK_START_COUNT = "1/0419725953.07319"
SPACECRAFT_CLOCK_STOP_COUNT = "1/0419726295.19119"
START_TIME = 2016-08-19T22:32:53.862Z
STOP_TIME = 2016-08-19T22:36:41.194Z
/* ORBITAL DATA ELEMENTS */
ASCENDING_NODE_LONGITUDE = 273.16
MAXIMUM_RESOLUTION = 35.3
FOOTPRINT_POINT_LATITUDE = (64.3482,64.3215,64.3007,64.257,63.9923 ,63.6082,63.3518,63.0959,62.8397, 62.4486,62.0552,61.7927,61.5306,61.2684 ,61.0017,60.7334,60.4651,60.197,59.9289 ,59.5202,59.246,58.9721,58.5613,58.2823 ,58.0024,57.5782,57.1557,56.8701, 56.5848,56.2996,56.0112,55.7203,55.4289 ,55.1382,54.6938,54.3972,54.1011, 53.7992,53.3464,52.8899,52.5823,52.2753 ,51.9639,51.6513,51.3387,50.862,50.5443 ,50.2231,49.8993,49.8805,49.8939, 49.9074,49.9256,49.9375,50.2659,50.5896 ,51.0682,51.3875,51.7009,52.0149, 52.3283,52.6366,52.9455,53.2535,53.5562 ,53.8592,54.1632,54.4606,54.7581, 55.0561,55.4967,55.7889,56.0813,56.3718 ,56.658,56.9447,57.2314,57.6566,58.0831 ,58.3649,58.6457,58.92,59.1953,59.4705, 59.7458,60.0195,60.2894,60.5593,60.8279 ,61.0978,61.4987,61.7619,62.0257, 62.2893,62.5531,62.9477,63.334,63.5918, 63.9782,64.3482)
FOOTPRINT_POINT_LONGITUDE = (8.43033,7.63222,7.09048,6.10594, 5.11525,5.21134,5.27311,5.33361,5.39234 ,5.47937,5.56383,5.61803,5.67109, 5.72261,5.77377,5.82402,5.87292,5.92054 ,5.96689,6.03526,6.07968,6.12294, 6.18559,6.22659,6.26676,6.32562,6.38179 ,6.41853,6.45425,6.48889,6.52299, 6.55657,6.58864,6.62008,6.6662,6.69588, 6.72471,6.75304,6.7941,6.83342,6.85878, 6.88344,6.90734,6.9308,6.95319,6.98588, 7.00681,7.02722,7.04653,7.60072,7.9786, 8.41452,9.14207,9.81204,10.0364,10.0163 ,9.98598,9.96533,9.94453,9.92315, 9.90114,9.87914,9.85638,9.83317,9.81027 ,9.78677,9.76219,9.73811,9.71346, 9.68809,9.64965,9.62341,9.59658,9.56935 ,9.54205,9.51398,9.48538,9.44163, 9.39589,9.36461,9.33337,9.30277,9.27059 ,9.23803,9.20478,9.17069,9.13597, 9.10049,9.06581,9.02918,8.97302,8.93562 ,8.89689,8.85767,8.81735,8.75497, 8.69216,8.64907,8.58295,8.43033)
ORBIT_NUMBER = 16009
ORBITAL_ECCENTRICITY = 0.571
ORBITAL_INCLINATION = 86.95
ORBITAL_SEMIMAJOR_AXIS = 8765.61
PERIAPSIS_ALTITUDE = 386.21
PERIAPSIS_ARGUMENT_ANGLE = 99.88
PERIAPSIS_TIME = 2016-08-19T22:29:13.000Z
SPACECRAFT_ORIENTATION = (0.0,-1.0,0.0)
^MEX_ORIENTATION_DESC = "MEX_ORIENTATION_DESC.TXT"
SPACECRAFT_POINTING_MODE = NADIR
^MEX_POINTING_DESC = "MEX_POINTING_DESC.TXT"
RIGHT_ASCENSION = -1e+32
DECLINATION = -1e+32
OFFSET_ANGLE = -1e+32
SPACECRAFT_SOLAR_DISTANCE = 2.11732e+08
TARGET_NAME = MARS
/* CAMERA DATA ELEMENTS */
DETECTOR_TEMPERATURE = 17.351
FOCAL_PLANE_TEMPERATURE = 7.9716
INST_CMPRS_NAME = "DISCRETE COSINE TRANSFORMATION (DCT)"
INST_CMPRS_RATIO = 12.7704
INST_CMPRS_QUALITY = 0
INST_CMPRS_QUANTZ_TBL_ID = 0
INSTRUMENT_TEMPERATURE = 10.8262
LENS_TEMPERATURE = 7.156
MACROPIXEL_SIZE = 2
MISSING_FRAMES = 1
PIXEL_SUBSAMPLING_FLAG = N
SIGNAL_CHAIN_ID = 3
/* RADIOMETRIC DATA ELEMENTS */
BANDWIDTH = 174.0
CENTER_FILTER_WAVELENGTH = 675.0
RADIANCE_OFFSET = 3.37826
RADIANCE_SCALING_FACTOR = 0.0138679
REFLECTANCE_SCALING_FACTOR = 0.000334401
MEX:REFLECTANCE_OFFSET = 0.0814613
/* IMAGE OBJECT DEFINITIONS */
OBJECT = IMAGE
  INTERCHANGE_FORMAT = BINARY
  LINES = 34112
  LINE_SAMPLES = 6302
  SAMPLE_TYPE = UNSIGNED_INTEGER
  SAMPLE_BITS = 8
  BANDS = 1
  BAND_STORAGE_TYPE = BAND_SEQUENTIAL
  MAXIMUM = 255
  MEAN = 152.228
  MINIMUM = 1
  STANDARD_DEVIATION = 80.3637
END_OBJECT = IMAGE
/* MAP OBJECT DEFINITIONS */
OBJECT = IMAGE_MAP_PROJECTION
  ^DATA_SET_MAP_PROJECTION_CATALOG= "DSMAP.CAT"
  A_AXIS_RADIUS = 3396.0
  B_AXIS_RADIUS = 3396.0
  C_AXIS_RADIUS = 3396.0
  CENTER_LATITUDE = 0.0
  CENTER_LONGITUDE = 8.0
  COORDINATE_SYSTEM_NAME = PLANETOGRAPHIC
  COORDINATE_SYSTEM_TYPE = "BODY-FIXED ROTATING"
  EASTERNMOST_LONGITUDE = 10.0364
  FIRST_STANDARD_PARALLEL = "N/A"
  LINE_FIRST_PIXEL = 1
  LINE_LAST_PIXEL = 34112
  LINE_PROJECTION_OFFSET = 152383.75
  MAP_PROJECTION_ROTATION = 0.0
  MAP_PROJECTION_TYPE = SINUSOIDAL
  MAP_RESOLUTION = 2370.85521546667
  MAP_SCALE = 0.025
  MAXIMUM_LATITUDE = 64.34820000000001
  MINIMUM_LATITUDE = 49.8805
  POSITIVE_LONGITUDE_DIRECTION = EAST
  REFERENCE_LATITUDE = "N/A"
  REFERENCE_LONGITUDE = "N/A"
  SAMPLE_FIRST_PIXEL = 1
  SAMPLE_LAST_PIXEL = 6302
  SAMPLE_PROJECTION_OFFSET = 3056.25
  SECOND_STANDARD_PARALLEL = "N/A"
  WESTERNMOST_LONGITUDE = 5.11525
END_OBJECT = IMAGE_MAP_PROJECTION
/* The JPEG2000 image data file associated with this label. */
OBJECT = COMPRESSED_FILE
  FILE_NAME = "HG009_0000_P13.JP2"
  RECORD_TYPE = UNDEFINED
  FILE_RECORDS = UNK
  ENCODING_TYPE = "JP2"
  INTERCHANGE_FORMAT = BINARY
  UNCOMPRESSED_FILE_NAME = "HG009_0000_P13.IMG"
  REQUIRED_STORAGE_BYTES = "215005334"
  ^DESCRIPTION = "JP2INFO.TXT"
END_OBJECT = COMPRESSED_FILE
END
