PDS_VERSION_ID = PDS3
/* FILE DATA ELEMENTS */
RECORD_TYPE = STREAM
/* POINTERS TO DATA OBJECTS */
^COMPRESSED_FILE = "HG011_0000_RE3.JP2"
/* IDENTIFICATION DATA ELEMENTS */
DATA_SET_ID = "MEX-M-HRSC-5-REFDR-MAPPROJECTED-V3.0"
DATA_SET_NAME = "MARS EXPRESS HRSC MAP PROJECTED REFDR V3.0"
DETECTOR_ID = MEX_HRSC_RED
EVENT_TYPE = "MARS-REGIONAL-MAPPING-Vo-Im-Pf"
INSTRUMENT_HOST_ID = MEX
INSTRUMENT_HOST_NAME = "MARS EXPRESS"
INSTRUMENT_ID = HRSC
INSTRUMENT_NAME = "HIGH RESOLUTION STEREO CAMERA"
MISSION_NAME = "MARS EXPRESS"
MISSION_PHASE_NAME = ME_Phase_35
PROCESSING_LEVEL_ID = 3
PRODUCT_CREATION_TIME = 2017-06-30T05:49:47.000Z
PRODUCT_ID = "HG011_0000_RE3.JP2"
RELEASE_ID = 0136
REVISION_ID = 0000
/* QUALITY DATA ELEMENTS */
DATA_QUALITY_ID = 1
DATA_QUALITY_DESC = "Data calculated based on original SPICE kernels"
/* TIME DATA ELEMENTS */
SPACECRAFT_CLOCK_START_COUNT = "1/0419776285.07325"
SPACECRAFT_CLOCK_STOP_COUNT = "1/0419776546.12806"
START_TIME = 2016-08-20T12:32:44.968Z
STOP_TIME = 2016-08-20T12:35:42.228Z
/* ORBITAL DATA ELEMENTS */
ASCENDING_NODE_LONGITUDE = 273.12
MAXIMUM_RESOLUTION = 73.3
FOOTPRINT_POINT_LATITUDE = (66.8147,66.7968,66.7772,66.7557, 66.7325,66.7074,66.6802,66.4766,66.1906 ,65.81,65.4248,65.2302,64.9388,64.7449, 64.3578,64.0622,63.8645,63.667,63.4697, 63.2727,63.0757,62.8744,62.6734,62.4728 ,62.1721,61.972,61.7682,61.5638,61.3597 ,61.1563,60.9528,60.7466,60.5392,60.332 ,60.1251,59.9186,59.6031,59.3927, 59.1828,58.9731,58.7598,58.5463,58.333, 58.1202,57.9046,57.688,57.4718,57.2559, 56.9276,56.5265,56.5455,56.5608,56.5768 ,56.5964,56.6064,56.6154,56.836,57.0568 ,57.2781,57.4951,57.7126,57.9304, 58.2556,58.4698,58.6844,58.8993,59.1132 ,59.43,59.6415,59.8535,60.0642,60.2723, 60.4806,60.6889,60.8976,61.1046,61.3095 ,61.5146,61.7201,61.9257,62.1302, 62.3317,62.5336,62.7358,62.9383,63.2417 ,63.5393,63.8377,64.0369,64.2361, 64.5336,64.7287,64.9242,65.1198,65.3157 ,65.6097,65.8059,66.1897,66.5741, 66.8147)
FOOTPRINT_POINT_LONGITUDE = (161.481,160.932,160.38,159.825,159.267 ,158.707,158.141,157.763,157.877, 158.024,158.167,158.237,158.34,158.406, 158.535,158.629,158.692,158.752,158.812 ,158.87,158.928,158.985,159.041,159.096 ,159.177,159.229,159.281,159.333, 159.383,159.432,159.481,159.529,159.576 ,159.622,159.668,159.712,159.778, 159.821,159.863,159.905,159.946,159.986 ,160.026,160.064,160.103,160.14,160.177 ,160.213,160.267,160.329,160.881, 161.366,161.944,162.774,163.28,163.764, 163.733,163.701,163.669,163.637,163.605 ,163.572,163.522,163.488,163.454, 163.419,163.384,163.33,163.294,163.257, 163.22,163.183,163.145,163.106,163.067, 163.028,162.988,162.948,162.906,162.865 ,162.822,162.78,162.737,162.693,162.648 ,162.58,162.512,162.441,162.393,162.344 ,162.27,162.22,162.169,162.117,162.064, 161.984,161.928,161.818,161.703, 161.481)
ORBIT_NUMBER = 16011
ORBITAL_ECCENTRICITY = 0.571
ORBITAL_INCLINATION = 86.95
ORBITAL_SEMIMAJOR_AXIS = 8765.36
PERIAPSIS_ALTITUDE = 386.72
PERIAPSIS_ARGUMENT_ANGLE = 99.55
PERIAPSIS_TIME = 2016-08-20T12:28:43.000Z
SPACECRAFT_ORIENTATION = (0.0,-1.0,0.0)
^MEX_ORIENTATION_DESC = "MEX_ORIENTATION_DESC.TXT"
SPACECRAFT_POINTING_MODE = ACROSSTRACK
^MEX_POINTING_DESC = "MEX_POINTING_DESC.TXT"
RIGHT_ASCENSION = -1e+32
DECLINATION = -1e+32
OFFSET_ANGLE = -0.687
SPACECRAFT_SOLAR_DISTANCE = 2.11653e+08
TARGET_NAME = MARS
/* CAMERA DATA ELEMENTS */
DETECTOR_TEMPERATURE = 18.7783
FOCAL_PLANE_TEMPERATURE = 8.1755
INST_CMPRS_NAME = "DISCRETE COSINE TRANSFORMATION (DCT)"
INST_CMPRS_RATIO = 17.2096
INST_CMPRS_QUALITY = 0
INST_CMPRS_QUANTZ_TBL_ID = 0
INSTRUMENT_TEMPERATURE = 11.4379
LENS_TEMPERATURE = 8.7872
MACROPIXEL_SIZE = 4
MISSING_FRAMES = 0
PIXEL_SUBSAMPLING_FLAG = N
SIGNAL_CHAIN_ID = 2
/* RADIOMETRIC DATA ELEMENTS */
BANDWIDTH = 48.0
CENTER_FILTER_WAVELENGTH = 748.0
RADIANCE_OFFSET = 0.557335
RADIANCE_SCALING_FACTOR = 0.00429226
REFLECTANCE_SCALING_FACTOR = 0.000438794
MEX:REFLECTANCE_OFFSET = 0.0569759
/* IMAGE OBJECT DEFINITIONS */
OBJECT = IMAGE
  INTERCHANGE_FORMAT = BINARY
  LINES = 12394
  LINE_SAMPLES = 3244
  SAMPLE_TYPE = UNSIGNED_INTEGER
  SAMPLE_BITS = 8
  BANDS = 1
  BAND_STORAGE_TYPE = BAND_SEQUENTIAL
  MAXIMUM = 255
  MEAN = 121.801
  MINIMUM = 1
  STANDARD_DEVIATION = 52.6878
END_OBJECT = IMAGE
/* MAP OBJECT DEFINITIONS */
OBJECT = IMAGE_MAP_PROJECTION
  ^DATA_SET_MAP_PROJECTION_CATALOG= "DSMAP.CAT"
  A_AXIS_RADIUS = 3396.0
  B_AXIS_RADIUS = 3396.0
  C_AXIS_RADIUS = 3396.0
  CENTER_LATITUDE = 0.0
  CENTER_LONGITUDE = 161.0
  COORDINATE_SYSTEM_NAME = PLANETOGRAPHIC
  COORDINATE_SYSTEM_TYPE = "BODY-FIXED ROTATING"
  EASTERNMOST_LONGITUDE = 163.764
  FIRST_STANDARD_PARALLEL = "N/A"
  LINE_FIRST_PIXEL = 1
  LINE_LAST_PIXEL = 12394
  LINE_PROJECTION_OFFSET = 79330.625
  MAP_PROJECTION_ROTATION = 0.0
  MAP_PROJECTION_TYPE = SINUSOIDAL
  MAP_RESOLUTION = 1185.42760773333
  MAP_SCALE = 0.05
  MAXIMUM_LATITUDE = 66.8147
  MINIMUM_LATITUDE = 56.5265
  POSITIVE_LONGITUDE_DIRECTION = EAST
  REFERENCE_LATITUDE = "N/A"
  REFERENCE_LONGITUDE = "N/A"
  SAMPLE_FIRST_PIXEL = 1
  SAMPLE_LAST_PIXEL = 3244
  SAMPLE_PROJECTION_OFFSET = 1513.375
  SECOND_STANDARD_PARALLEL = "N/A"
  WESTERNMOST_LONGITUDE = 157.763
END_OBJECT = IMAGE_MAP_PROJECTION
/* The JPEG2000 image data file associated with this label. */
OBJECT = COMPRESSED_FILE
  FILE_NAME = "HG011_0000_RE3.JP2"
  RECORD_TYPE = UNDEFINED
  FILE_RECORDS = UNK
  ENCODING_TYPE = "JP2"
  INTERCHANGE_FORMAT = BINARY
  UNCOMPRESSED_FILE_NAME = "HG011_0000_RE3.IMG"
  REQUIRED_STORAGE_BYTES = "40228844"
  ^DESCRIPTION = "JP2INFO.TXT"
END_OBJECT = COMPRESSED_FILE
END
