PDS_VERSION_ID = PDS3
/* FILE DATA ELEMENTS */
RECORD_TYPE = STREAM
/* POINTERS TO DATA OBJECTS */
^COMPRESSED_FILE = "HG012_0000_P13.JP2"
/* IDENTIFICATION DATA ELEMENTS */
DATA_SET_ID = "MEX-M-HRSC-5-REFDR-MAPPROJECTED-V3.0"
DATA_SET_NAME = "MARS EXPRESS HRSC MAP PROJECTED REFDR V3.0"
DETECTOR_ID = MEX_HRSC_P1
EVENT_TYPE = "MARS-REGIONAL-MAPPING-Im-Gl-Pf"
INSTRUMENT_HOST_ID = MEX
INSTRUMENT_HOST_NAME = "MARS EXPRESS"
INSTRUMENT_ID = HRSC
INSTRUMENT_NAME = "HIGH RESOLUTION STEREO CAMERA"
MISSION_NAME = "MARS EXPRESS"
MISSION_PHASE_NAME = ME_Phase_35
PROCESSING_LEVEL_ID = 3
PRODUCT_CREATION_TIME = 2017-06-30T05:49:47.000Z
PRODUCT_ID = "HG012_0000_P13.JP2"
RELEASE_ID = 0136
REVISION_ID = 0000
/* QUALITY DATA ELEMENTS */
DATA_QUALITY_ID = 1
DATA_QUALITY_DESC = "Data calculated based on original SPICE kernels"
/* TIME DATA ELEMENTS */
SPACECRAFT_CLOCK_START_COUNT = "1/0419801648.08266"
SPACECRAFT_CLOCK_STOP_COUNT = "1/0419801964.60787"
START_TIME = 2016-08-20T19:34:31.497Z
STOP_TIME = 2016-08-20T19:37:29.644Z
/* ORBITAL DATA ELEMENTS */
ASCENDING_NODE_LONGITUDE = 273.1
MAXIMUM_RESOLUTION = 40.9
FOOTPRINT_POINT_LATITUDE = (55.5424,55.542,55.5395,55.535,55.5285, 55.52,55.5096,55.2432,55.0455,54.8481, 54.548,54.3465,54.0444,53.8431,53.5371, 53.2295,53.0243,52.8196,52.507,52.2981, 52.0897,51.7751,51.5628,51.3508,51.0332 ,50.8176,50.4944,50.2788,49.9516, 49.7326,49.4048,49.1823,48.8484,48.6261 ,48.4012,48.175,47.9494,47.6073,47.3782 ,47.1494,46.9176,46.6847,46.4524, 46.0997,45.8639,45.5079,45.2687,44.9091 ,44.5222,44.5272,44.5293,44.5288,44.526 ,44.5215,44.5129,44.7562,44.9993, 45.3594,45.5994,45.8371,46.0735,46.3104 ,46.5445,46.7778,47.1277,47.3573, 47.5873,47.8178,48.0443,48.2709,48.6108 ,48.8338,49.0571,49.2805,49.6119, 49.8318,50.0519,50.2703,50.4865,50.7029 ,50.9195,51.2409,51.4538,51.6665, 51.9844,52.1936,52.5078,52.7172,53.0274 ,53.233,53.4388,53.7479,53.9499,54.152, 54.3543,54.6578,54.9569,55.1554,55.4532 ,55.5424)
FOOTPRINT_POINT_LONGITUDE = (63.7567,63.2838,62.8143,62.3484, 61.8859,61.4264,60.9698,60.9742,60.9883 ,61.0021,61.0224,61.0356,61.0548, 61.0672,61.0854,61.103,61.1143,61.1253, 61.1416,61.152,61.1621,61.1768,61.1863, 61.1956,61.2088,61.2175,61.2299,61.2378 ,61.2492,61.2565,61.267,61.2736,61.2831 ,61.2891,61.2949,61.3004,61.3057, 61.3131,61.3177,61.3221,61.3263,61.3301 ,61.3337,61.3387,61.3417,61.3457,61.348 ,61.3511,61.5296,62.0032,62.6279, 63.0169,63.4985,63.8918,64.4513,64.4461 ,64.4413,64.433,64.4277,64.422,64.4166, 64.4108,64.4051,64.3992,64.3899,64.384, 64.3778,64.3712,64.3647,64.3582,64.3482 ,64.3413,64.3344,64.3274,64.3166, 64.3092,64.3016,64.2944,64.2869,64.2791 ,64.2713,64.2589,64.2507,64.2429, 64.2305,64.2222,64.2091,64.2005,64.1872 ,64.1784,64.1692,64.1553,64.146,64.1365 ,64.1266,64.112,64.0971,64.0869,64.0716 ,63.7567)
ORBIT_NUMBER = 16012
ORBITAL_ECCENTRICITY = 0.571
ORBITAL_INCLINATION = 86.96
ORBITAL_SEMIMAJOR_AXIS = 8765.68
PERIAPSIS_ALTITUDE = 385.42
PERIAPSIS_ARGUMENT_ANGLE = 99.38
PERIAPSIS_TIME = 2016-08-20T19:28:25.000Z
SPACECRAFT_ORIENTATION = (0.0,-1.0,0.0)
^MEX_ORIENTATION_DESC = "MEX_ORIENTATION_DESC.TXT"
SPACECRAFT_POINTING_MODE = ACROSSTRACK
^MEX_POINTING_DESC = "MEX_POINTING_DESC.TXT"
RIGHT_ASCENSION = -1e+32
DECLINATION = -1e+32
OFFSET_ANGLE = 0.7
SPACECRAFT_SOLAR_DISTANCE = 2.11614e+08
TARGET_NAME = MARS
/* CAMERA DATA ELEMENTS */
DETECTOR_TEMPERATURE = 16.3315
FOCAL_PLANE_TEMPERATURE = 8.5833
INST_CMPRS_NAME = "DISCRETE COSINE TRANSFORMATION (DCT)"
INST_CMPRS_RATIO = 11.3412
INST_CMPRS_QUALITY = 0
INST_CMPRS_QUANTZ_TBL_ID = 0
INSTRUMENT_TEMPERATURE = 11.8457
LENS_TEMPERATURE = 9.3989
MACROPIXEL_SIZE = 2
MISSING_FRAMES = 0
PIXEL_SUBSAMPLING_FLAG = N
SIGNAL_CHAIN_ID = 3
/* RADIOMETRIC DATA ELEMENTS */
BANDWIDTH = 174.0
CENTER_FILTER_WAVELENGTH = 675.0
RADIANCE_OFFSET = 3.68891
RADIANCE_SCALING_FACTOR = 0.0123811
REFLECTANCE_SCALING_FACTOR = 0.000298215
MEX:REFLECTANCE_OFFSET = 0.0888525
/* IMAGE OBJECT DEFINITIONS */
OBJECT = IMAGE
  INTERCHANGE_FORMAT = BINARY
  LINES = 13017
  LINE_SAMPLES = 2780
  SAMPLE_TYPE = UNSIGNED_INTEGER
  SAMPLE_BITS = 8
  BANDS = 1
  BAND_STORAGE_TYPE = BAND_SEQUENTIAL
  MAXIMUM = 255
  MEAN = 122.862
  MINIMUM = 1
  STANDARD_DEVIATION = 56.3727
END_OBJECT = IMAGE
/* MAP OBJECT DEFINITIONS */
OBJECT = IMAGE_MAP_PROJECTION
  ^DATA_SET_MAP_PROJECTION_CATALOG= "DSMAP.CAT"
  A_AXIS_RADIUS = 3396.0
  B_AXIS_RADIUS = 3396.0
  C_AXIS_RADIUS = 3396.0
  CENTER_LATITUDE = 0.0
  CENTER_LONGITUDE = 63.0
  COORDINATE_SYSTEM_NAME = PLANETOGRAPHIC
  COORDINATE_SYSTEM_TYPE = "BODY-FIXED ROTATING"
  EASTERNMOST_LONGITUDE = 64.4513
  FIRST_STANDARD_PARALLEL = "N/A"
  LINE_FIRST_PIXEL = 1
  LINE_LAST_PIXEL = 13017
  LINE_PROJECTION_OFFSET = 65816.25
  MAP_PROJECTION_ROTATION = 0.0
  MAP_PROJECTION_TYPE = SINUSOIDAL
  MAP_RESOLUTION = 1185.42760773333
  MAP_SCALE = 0.05
  MAXIMUM_LATITUDE = 55.5424
  MINIMUM_LATITUDE = 44.5129
  POSITIVE_LONGITUDE_DIRECTION = EAST
  REFERENCE_LATITUDE = "N/A"
  REFERENCE_LONGITUDE = "N/A"
  SAMPLE_FIRST_PIXEL = 1
  SAMPLE_LAST_PIXEL = 2780
  SAMPLE_PROJECTION_OFFSET = 1477.75
  SECOND_STANDARD_PARALLEL = "N/A"
  WESTERNMOST_LONGITUDE = 60.9698
END_OBJECT = IMAGE_MAP_PROJECTION
/* The JPEG2000 image data file associated with this label. */
OBJECT = COMPRESSED_FILE
  FILE_NAME = "HG012_0000_P13.JP2"
  RECORD_TYPE = UNDEFINED
  FILE_RECORDS = UNK
  ENCODING_TYPE = "JP2"
  INTERCHANGE_FORMAT = BINARY
  UNCOMPRESSED_FILE_NAME = "HG012_0000_P13.IMG"
  REQUIRED_STORAGE_BYTES = "36209500"
  ^DESCRIPTION = "JP2INFO.TXT"
END_OBJECT = COMPRESSED_FILE
END
