PDS_VERSION_ID = PDS3
/* FILE DATA ELEMENTS */
RECORD_TYPE = STREAM
/* POINTERS TO DATA OBJECTS */
^COMPRESSED_FILE = "HG012_0000_P23.JP2"
/* IDENTIFICATION DATA ELEMENTS */
DATA_SET_ID = "MEX-M-HRSC-5-REFDR-MAPPROJECTED-V3.0"
DATA_SET_NAME = "MARS EXPRESS HRSC MAP PROJECTED REFDR V3.0"
DETECTOR_ID = MEX_HRSC_P2
EVENT_TYPE = "MARS-REGIONAL-MAPPING-Im-Gl-Pf"
INSTRUMENT_HOST_ID = MEX
INSTRUMENT_HOST_NAME = "MARS EXPRESS"
INSTRUMENT_ID = HRSC
INSTRUMENT_NAME = "HIGH RESOLUTION STEREO CAMERA"
MISSION_NAME = "MARS EXPRESS"
MISSION_PHASE_NAME = ME_Phase_35
PROCESSING_LEVEL_ID = 3
PRODUCT_CREATION_TIME = 2017-06-30T05:49:47.000Z
PRODUCT_ID = "HG012_0000_P23.JP2"
RELEASE_ID = 0136
REVISION_ID = 0000
/* QUALITY DATA ELEMENTS */
DATA_QUALITY_ID = 1
DATA_QUALITY_DESC = "Data calculated based on original SPICE kernels"
/* TIME DATA ELEMENTS */
SPACECRAFT_CLOCK_START_COUNT = "1/0419801648.08266"
SPACECRAFT_CLOCK_STOP_COUNT = "1/0419801964.60787"
START_TIME = 2016-08-20T19:35:37.754Z
STOP_TIME = 2016-08-20T19:39:01.145Z
/* ORBITAL DATA ELEMENTS */
ASCENDING_NODE_LONGITUDE = 273.1
MAXIMUM_RESOLUTION = 44.5
FOOTPRINT_POINT_LATITUDE = (55.4668,55.4537,55.439,55.4227,55.4049 ,55.3855,55.2466,54.7466,54.4464, 54.1424,53.737,53.4293,53.2238,53.0188, 52.7071,52.4993,52.2919,52.0812,51.8707 ,51.6603,51.4479,51.2344,51.0216, 50.8067,50.5908,50.3757,50.1582,49.9401 ,49.6114,49.3911,49.171,48.8373,48.6146 ,48.3896,48.0522,47.7113,47.4841, 47.2542,46.9096,46.6772,46.4451,46.211, 45.9768,45.7429,45.5096,45.2772,45.0454 ,44.814,44.5838,44.5579,44.5655,44.5755 ,44.5838,44.5914,44.598,44.6011,44.835, 45.0676,45.3004,45.5343,45.7683,46.0028 ,46.2381,46.4744,46.7072,47.0567, 47.2873,47.6331,47.8613,48.0899,48.3159 ,48.5422,48.8788,49.1027,49.3253, 49.5463,49.8779,50.2062,50.4253,50.6413 ,50.8578,51.0742,51.2874,51.5013, 51.7156,51.9268,52.1383,52.3501,52.5585 ,52.8717,53.0805,53.2865,53.4922, 53.6994,54.0057,54.4134,54.7161,55.1183 ,55.5168,55.4668)
FOOTPRINT_POINT_LONGITUDE = (63.6143,63.1025,62.5942,62.0898,61.589 ,61.091,60.8268,60.8594,60.8779,60.8959 ,60.9186,60.935,60.9456,60.9557,60.9706 ,60.9801,60.9892,60.9983,61.0069, 61.0153,61.0234,61.0313,61.0389,61.0461 ,61.0532,61.0598,61.0663,61.0724, 61.0813,61.0867,61.0918,61.0991,61.1036 ,61.1079,61.1136,61.1189,61.122,61.1248 ,61.1286,61.1307,61.1327,61.1343, 61.1356,61.1367,61.1375,61.138,61.1382, 61.1382,61.1378,61.6068,61.9438,62.4166 ,62.8918,63.4379,64.0216,64.4016, 64.6503,64.6436,64.6363,64.6294,64.6219 ,64.6142,64.6064,64.5992,64.5913, 64.5795,64.5714,64.5596,64.5512,64.543, 64.5348,64.5264,64.5137,64.5052,64.4966 ,64.4876,64.4744,64.4612,64.452,64.4428 ,64.4337,64.4242,64.4145,64.4048, 64.3955,64.386,64.3763,64.3662,64.3563, 64.3409,64.3308,64.3206,64.3094,64.2994 ,64.2837,64.2619,64.2454,64.2227, 64.1994,63.6143)
ORBIT_NUMBER = 16012
ORBITAL_ECCENTRICITY = 0.571
ORBITAL_INCLINATION = 86.96
ORBITAL_SEMIMAJOR_AXIS = 8765.68
PERIAPSIS_ALTITUDE = 385.42
PERIAPSIS_ARGUMENT_ANGLE = 99.38
PERIAPSIS_TIME = 2016-08-20T19:28:25.000Z
SPACECRAFT_ORIENTATION = (0.0,-1.0,0.0)
^MEX_ORIENTATION_DESC = "MEX_ORIENTATION_DESC.TXT"
SPACECRAFT_POINTING_MODE = ACROSSTRACK
^MEX_POINTING_DESC = "MEX_POINTING_DESC.TXT"
RIGHT_ASCENSION = -1e+32
DECLINATION = -1e+32
OFFSET_ANGLE = 0.7
SPACECRAFT_SOLAR_DISTANCE = 2.11614e+08
TARGET_NAME = MARS
/* CAMERA DATA ELEMENTS */
DETECTOR_TEMPERATURE = 18.9822
FOCAL_PLANE_TEMPERATURE = 8.5833
INST_CMPRS_NAME = "DISCRETE COSINE TRANSFORMATION (DCT)"
INST_CMPRS_RATIO = 8.02835
INST_CMPRS_QUALITY = 0
INST_CMPRS_QUANTZ_TBL_ID = 0
INSTRUMENT_TEMPERATURE = 11.8457
LENS_TEMPERATURE = 9.3989
MACROPIXEL_SIZE = 2
MISSING_FRAMES = 0
PIXEL_SUBSAMPLING_FLAG = N
SIGNAL_CHAIN_ID = 3
/* RADIOMETRIC DATA ELEMENTS */
BANDWIDTH = 177.0
CENTER_FILTER_WAVELENGTH = 676.5
RADIANCE_OFFSET = 3.45601
RADIANCE_SCALING_FACTOR = 0.0130416
REFLECTANCE_SCALING_FACTOR = 0.00030965
MEX:REFLECTANCE_OFFSET = 0.0820574
/* IMAGE OBJECT DEFINITIONS */
OBJECT = IMAGE
  INTERCHANGE_FORMAT = BINARY
  LINES = 13017
  LINE_SAMPLES = 2780
  SAMPLE_TYPE = UNSIGNED_INTEGER
  SAMPLE_BITS = 8
  BANDS = 1
  BAND_STORAGE_TYPE = BAND_SEQUENTIAL
  MAXIMUM = 255
  MEAN = 125.629
  MINIMUM = 1
  STANDARD_DEVIATION = 53.228
END_OBJECT = IMAGE
/* MAP OBJECT DEFINITIONS */
OBJECT = IMAGE_MAP_PROJECTION
  ^DATA_SET_MAP_PROJECTION_CATALOG= "DSMAP.CAT"
  A_AXIS_RADIUS = 3396.0
  B_AXIS_RADIUS = 3396.0
  C_AXIS_RADIUS = 3396.0
  CENTER_LATITUDE = 0.0
  CENTER_LONGITUDE = 63.0
  COORDINATE_SYSTEM_NAME = PLANETOGRAPHIC
  COORDINATE_SYSTEM_TYPE = "BODY-FIXED ROTATING"
  EASTERNMOST_LONGITUDE = 64.6503
  FIRST_STANDARD_PARALLEL = "N/A"
  LINE_FIRST_PIXEL = 1
  LINE_LAST_PIXEL = 13017
  LINE_PROJECTION_OFFSET = 65816.25
  MAP_PROJECTION_ROTATION = 0.0
  MAP_PROJECTION_TYPE = SINUSOIDAL
  MAP_RESOLUTION = 1185.42760773333
  MAP_SCALE = 0.05
  MAXIMUM_LATITUDE = 55.5168
  MINIMUM_LATITUDE = 44.5579
  POSITIVE_LONGITUDE_DIRECTION = EAST
  REFERENCE_LATITUDE = "N/A"
  REFERENCE_LONGITUDE = "N/A"
  SAMPLE_FIRST_PIXEL = 1
  SAMPLE_LAST_PIXEL = 2780
  SAMPLE_PROJECTION_OFFSET = 1477.75
  SECOND_STANDARD_PARALLEL = "N/A"
  WESTERNMOST_LONGITUDE = 60.8268
END_OBJECT = IMAGE_MAP_PROJECTION
/* The JPEG2000 image data file associated with this label. */
OBJECT = COMPRESSED_FILE
  FILE_NAME = "HG012_0000_P23.JP2"
  RECORD_TYPE = UNDEFINED
  FILE_RECORDS = UNK
  ENCODING_TYPE = "JP2"
  INTERCHANGE_FORMAT = BINARY
  UNCOMPRESSED_FILE_NAME = "HG012_0000_P23.IMG"
  REQUIRED_STORAGE_BYTES = "36209500"
  ^DESCRIPTION = "JP2INFO.TXT"
END_OBJECT = COMPRESSED_FILE
END
