PDS_VERSION_ID = PDS3
/* FILE DATA ELEMENTS */
RECORD_TYPE = STREAM
/* POINTERS TO DATA OBJECTS */
^COMPRESSED_FILE = "HG022_0000_BL3.JP2"
/* IDENTIFICATION DATA ELEMENTS */
DATA_SET_ID = "MEX-M-HRSC-5-REFDR-MAPPROJECTED-V3.0"
DATA_SET_NAME = "MARS EXPRESS HRSC MAP PROJECTED REFDR V3.0"
DETECTOR_ID = MEX_HRSC_BLUE
EVENT_TYPE = "MARS-REGIONAL-MAPPING-Vo-Gl-Pf"
INSTRUMENT_HOST_ID = MEX
INSTRUMENT_HOST_NAME = "MARS EXPRESS"
INSTRUMENT_ID = HRSC
INSTRUMENT_NAME = "HIGH RESOLUTION STEREO CAMERA"
MISSION_NAME = "MARS EXPRESS"
MISSION_PHASE_NAME = ME_Phase_35
PROCESSING_LEVEL_ID = 3
PRODUCT_CREATION_TIME = 2017-06-30T05:49:47.000Z
PRODUCT_ID = "HG022_0000_BL3.JP2"
RELEASE_ID = 0136
REVISION_ID = 0000
/* QUALITY DATA ELEMENTS */
DATA_QUALITY_ID = 1
DATA_QUALITY_DESC = "Data calculated based on original SPICE kernels"
/* TIME DATA ELEMENTS */
SPACECRAFT_CLOCK_START_COUNT = "1/0420053379.08401"
SPACECRAFT_CLOCK_STOP_COUNT = "1/0420053672.57382"
START_TIME = 2016-08-23T17:30:35.969Z
STOP_TIME = 2016-08-23T17:33:44.287Z
/* ORBITAL DATA ELEMENTS */
ASCENDING_NODE_LONGITUDE = 272.93
MAXIMUM_RESOLUTION = 74.3
FOOTPRINT_POINT_LATITUDE = (63.4466,63.4316,63.4148,63.3963, 63.3761,63.0542,62.6448,62.2361,61.9252 ,61.5085,61.0926,60.8811,60.669,60.4571 ,60.2454,60.034,59.8184,59.4951,59.2798 ,59.0648,58.8457,58.6266,58.4079, 58.1891,57.9678,57.7451,57.5227,57.3007 ,57.0758,56.8497,56.624,56.3985,56.1691 ,55.8251,55.5963,55.2476,55.0151, 54.7828,54.5466,54.3106,54.075,53.8363, 53.597,53.358,53.1166,52.874,52.6318, 52.387,52.2745,52.2855,52.2985,52.3096, 52.3197,52.3262,52.4549,52.7009,52.9442 ,53.1879,53.4304,53.6704,53.9108, 54.1506,54.3872,54.6242,54.8616,55.0949 ,55.3284,55.6786,55.9084,56.1386, 56.3691,56.7108,56.9375,57.1645,57.3905 ,57.6136,57.8369,58.0605,58.2831, 58.5026,58.7225,58.9426,59.1628,59.3787 ,59.595,59.8115,60.0283,60.3491,60.5617 ,60.7747,60.9878,61.2005,61.4094, 61.6184,61.8277,62.0372,62.3499,62.7607 ,63.1722,63.4466)
FOOTPRINT_POINT_LONGITUDE = (119.151,118.629,118.11,117.595,117.083 ,116.298,116.374,116.446,116.5,116.568, 116.634,116.666,116.698,116.729,116.759 ,116.789,116.818,116.861,116.889, 116.916,116.943,116.969,116.994,117.02, 117.044,117.069,117.092,117.115,117.138 ,117.16,117.182,117.203,117.224,117.255 ,117.274,117.303,117.321,117.34,117.357 ,117.375,117.391,117.407,117.423, 117.439,117.454,117.469,117.483,117.497 ,118.057,118.428,118.924,119.422, 119.986,120.457,120.839,120.825,120.811 ,120.797,120.782,120.767,120.752, 120.737,120.722,120.706,120.69,120.674, 120.658,120.634,120.617,120.6,120.583, 120.557,120.539,120.521,120.503,120.485 ,120.466,120.447,120.428,120.408, 120.389,120.369,120.348,120.328,120.308 ,120.287,120.265,120.233,120.211, 120.189,120.166,120.143,120.12,120.096, 120.072,120.048,120.011,119.96,119.908, 119.151)
ORBIT_NUMBER = 16022
ORBITAL_ECCENTRICITY = 0.571
ORBITAL_INCLINATION = 86.95
ORBITAL_SEMIMAJOR_AXIS = 8764.99
PERIAPSIS_ALTITUDE = 386.05
PERIAPSIS_ARGUMENT_ANGLE = 97.65
PERIAPSIS_TIME = 2016-08-23T17:25:32.000Z
SPACECRAFT_ORIENTATION = (0.0,-1.0,0.0)
^MEX_ORIENTATION_DESC = "MEX_ORIENTATION_DESC.TXT"
SPACECRAFT_POINTING_MODE = ACROSSTRACK
^MEX_POINTING_DESC = "MEX_POINTING_DESC.TXT"
RIGHT_ASCENSION = -1e+32
DECLINATION = -1e+32
OFFSET_ANGLE = 0.43
SPACECRAFT_SOLAR_DISTANCE = 2.11227e+08
TARGET_NAME = MARS
/* CAMERA DATA ELEMENTS */
DETECTOR_TEMPERATURE = 18.1666
FOCAL_PLANE_TEMPERATURE = 8.1755
INST_CMPRS_NAME = "DISCRETE COSINE TRANSFORMATION (DCT)"
INST_CMPRS_RATIO = 7.39077
INST_CMPRS_QUALITY = 0
INST_CMPRS_QUANTZ_TBL_ID = 0
INSTRUMENT_TEMPERATURE = 11.4379
LENS_TEMPERATURE = 8.5833
MACROPIXEL_SIZE = 4
MISSING_FRAMES = 0
PIXEL_SUBSAMPLING_FLAG = N
SIGNAL_CHAIN_ID = 2
/* RADIOMETRIC DATA ELEMENTS */
BANDWIDTH = 76.0
CENTER_FILTER_WAVELENGTH = 444.0
RADIANCE_OFFSET = 0.762937
RADIANCE_SCALING_FACTOR = 0.00174808
REFLECTANCE_SCALING_FACTOR = 8.01334e-05
MEX:REFLECTANCE_OFFSET = 0.0349736
/* IMAGE OBJECT DEFINITIONS */
OBJECT = IMAGE
  INTERCHANGE_FORMAT = BINARY
  LINES = 13324
  LINE_SAMPLES = 2785
  SAMPLE_TYPE = UNSIGNED_INTEGER
  SAMPLE_BITS = 8
  BANDS = 1
  BAND_STORAGE_TYPE = BAND_SEQUENTIAL
  MAXIMUM = 255
  MEAN = 152.274
  MINIMUM = 1
  STANDARD_DEVIATION = 68.8181
END_OBJECT = IMAGE
/* MAP OBJECT DEFINITIONS */
OBJECT = IMAGE_MAP_PROJECTION
  ^DATA_SET_MAP_PROJECTION_CATALOG= "DSMAP.CAT"
  A_AXIS_RADIUS = 3396.0
  B_AXIS_RADIUS = 3396.0
  C_AXIS_RADIUS = 3396.0
  CENTER_LATITUDE = 0.0
  CENTER_LONGITUDE = 119.0
  COORDINATE_SYSTEM_NAME = PLANETOGRAPHIC
  COORDINATE_SYSTEM_TYPE = "BODY-FIXED ROTATING"
  EASTERNMOST_LONGITUDE = 120.839
  FIRST_STANDARD_PARALLEL = "N/A"
  LINE_FIRST_PIXEL = 1
  LINE_LAST_PIXEL = 13324
  LINE_PROJECTION_OFFSET = 75264.875
  MAP_PROJECTION_ROTATION = 0.0
  MAP_PROJECTION_TYPE = SINUSOIDAL
  MAP_RESOLUTION = 1185.42760773333
  MAP_SCALE = 0.05
  MAXIMUM_LATITUDE = 63.4466
  MINIMUM_LATITUDE = 52.2745
  POSITIVE_LONGITUDE_DIRECTION = EAST
  REFERENCE_LATITUDE = "N/A"
  REFERENCE_LONGITUDE = "N/A"
  SAMPLE_FIRST_PIXEL = 1
  SAMPLE_LAST_PIXEL = 2785
  SAMPLE_PROJECTION_OFFSET = 1454.375
  SECOND_STANDARD_PARALLEL = "N/A"
  WESTERNMOST_LONGITUDE = 116.298
END_OBJECT = IMAGE_MAP_PROJECTION
/* The JPEG2000 image data file associated with this label. */
OBJECT = COMPRESSED_FILE
  FILE_NAME = "HG022_0000_BL3.JP2"
  RECORD_TYPE = UNDEFINED
  FILE_RECORDS = UNK
  ENCODING_TYPE = "JP2"
  INTERCHANGE_FORMAT = BINARY
  UNCOMPRESSED_FILE_NAME = "HG022_0000_BL3.IMG"
  REQUIRED_STORAGE_BYTES = "37129620"
  ^DESCRIPTION = "JP2INFO.TXT"
END_OBJECT = COMPRESSED_FILE
END
