PDS_VERSION_ID = PDS3
/* FILE DATA ELEMENTS */
RECORD_TYPE = STREAM
/* POINTERS TO DATA OBJECTS */
^COMPRESSED_FILE = "HG025_0000_BL3.JP2"
/* IDENTIFICATION DATA ELEMENTS */
DATA_SET_ID = "MEX-M-HRSC-5-REFDR-MAPPROJECTED-V3.0"
DATA_SET_NAME = "MARS EXPRESS HRSC MAP PROJECTED REFDR V3.0"
DETECTOR_ID = MEX_HRSC_BLUE
EVENT_TYPE = "MARS-REGIONAL-MAPPING-Vo-Im-Pf"
INSTRUMENT_HOST_ID = MEX
INSTRUMENT_HOST_NAME = "MARS EXPRESS"
INSTRUMENT_ID = HRSC
INSTRUMENT_NAME = "HIGH RESOLUTION STEREO CAMERA"
MISSION_NAME = "MARS EXPRESS"
MISSION_PHASE_NAME = ME_Phase_35
PROCESSING_LEVEL_ID = 3
PRODUCT_CREATION_TIME = 2017-06-30T05:49:47.000Z
PRODUCT_ID = "HG025_0000_BL3.JP2"
RELEASE_ID = 0136
REVISION_ID = 0000
/* QUALITY DATA ELEMENTS */
DATA_QUALITY_ID = 1
DATA_QUALITY_DESC = "Data calculated based on original SPICE kernels"
/* TIME DATA ELEMENTS */
SPACECRAFT_CLOCK_START_COUNT = "1/0420128899.08423"
SPACECRAFT_CLOCK_STOP_COUNT = "1/0420129121.32052"
START_TIME = 2016-08-24T14:29:14.330Z
STOP_TIME = 2016-08-24T14:31:21.608Z
/* ORBITAL DATA ELEMENTS */
ASCENDING_NODE_LONGITUDE = 272.86
MAXIMUM_RESOLUTION = 72.1
FOOTPRINT_POINT_LATITUDE = (65.9195,65.899,65.8788,65.8568,65.8331 ,65.8156,65.8151,65.5287,65.2425, 64.9512,64.6587,64.3665,64.0748,63.8544 ,63.7054,63.5563,63.4074,63.2586, 63.1099,62.9613,62.8127,62.5864,62.4347 ,62.2831,62.1316,61.9802,61.8289, 61.6778,61.5235,61.292,61.1378,60.9838, 60.8299,60.676,60.4416,60.2847,60.1279, 59.9713,59.8148,59.6584,59.4192,59.2597 ,59.1004,58.9413,58.7823,58.6214, 58.4593,58.2974,58.1807,58.1948,58.2136 ,58.2305,58.2489,58.264,58.3552,58.5179 ,58.6807,58.8433,59.003,59.1629,59.3229 ,59.4831,59.6433,59.8029,59.9601, 60.1174,60.2749,60.4325,60.5902,60.7479 ,60.9024,61.0571,61.2119,61.3669,61.522 ,61.6772,61.8317,61.9836,62.1358,62.288 ,62.4403,62.5928,62.7453,62.8977,63.047 ,63.1964,63.346,63.4956,63.6453,63.7952 ,63.9452,64.0945,64.3879,64.6817, 64.8287,64.9758,65.123,65.4156,65.8478, 65.9195)
FOOTPRINT_POINT_LONGITUDE = (171.413,170.795,170.249,169.705, 169.164,168.793,168.316,168.393,168.467 ,168.54,168.612,168.681,168.748,168.797 ,168.83,168.862,168.893,168.925,168.955 ,168.985,169.015,169.059,169.088, 169.117,169.145,169.173,169.201,169.227 ,169.254,169.294,169.32,169.345,169.37, 169.395,169.432,169.456,169.48,169.503, 169.526,169.549,169.582,169.604,169.626 ,169.647,169.668,169.689,169.71,169.73, 170.093,170.445,170.956,171.468,172.112 ,172.758,173.183,173.167,173.151, 173.135,173.119,173.102,173.085,173.068 ,173.051,173.034,173.017,172.999, 172.981,172.964,172.945,172.927,172.908 ,172.89,172.871,172.852,172.833,172.814 ,172.794,172.774,172.755,172.735, 172.714,172.693,172.672,172.651,172.63, 172.609,172.587,172.565,172.543,172.52, 172.498,172.475,172.428,172.381,172.357 ,172.332,172.307,172.256,172.179, 171.413)
ORBIT_NUMBER = 16025
ORBITAL_ECCENTRICITY = 0.571
ORBITAL_INCLINATION = 86.95
ORBITAL_SEMIMAJOR_AXIS = 8764.2
PERIAPSIS_ALTITUDE = 387.04
PERIAPSIS_ARGUMENT_ANGLE = 97.14
PERIAPSIS_TIME = 2016-08-24T14:24:43.000Z
SPACECRAFT_ORIENTATION = (0.0,-1.0,0.0)
^MEX_ORIENTATION_DESC = "MEX_ORIENTATION_DESC.TXT"
SPACECRAFT_POINTING_MODE = ACROSSTRACK
^MEX_POINTING_DESC = "MEX_POINTING_DESC.TXT"
RIGHT_ASCENSION = -1e+32
DECLINATION = -1e+32
OFFSET_ANGLE = 0.269
SPACECRAFT_SOLAR_DISTANCE = 2.11114e+08
TARGET_NAME = MARS
/* CAMERA DATA ELEMENTS */
DETECTOR_TEMPERATURE = 18.5744
FOCAL_PLANE_TEMPERATURE = 8.1755
INST_CMPRS_NAME = "DISCRETE COSINE TRANSFORMATION (DCT)"
INST_CMPRS_RATIO = 14.5569
INST_CMPRS_QUALITY = 0
INST_CMPRS_QUANTZ_TBL_ID = 0
INSTRUMENT_TEMPERATURE = 11.234
LENS_TEMPERATURE = 8.3794
MACROPIXEL_SIZE = 4
MISSING_FRAMES = 0
PIXEL_SUBSAMPLING_FLAG = N
SIGNAL_CHAIN_ID = 2
/* RADIOMETRIC DATA ELEMENTS */
BANDWIDTH = 76.0
CENTER_FILTER_WAVELENGTH = 444.0
RADIANCE_OFFSET = 0.609096
RADIANCE_SCALING_FACTOR = 0.00157624
REFLECTANCE_SCALING_FACTOR = 7.21791e-05
MEX:REFLECTANCE_OFFSET = 0.0278917
/* IMAGE OBJECT DEFINITIONS */
OBJECT = IMAGE
  INTERCHANGE_FORMAT = BINARY
  LINES = 9248
  LINE_SAMPLES = 2630
  SAMPLE_TYPE = UNSIGNED_INTEGER
  SAMPLE_BITS = 8
  BANDS = 1
  BAND_STORAGE_TYPE = BAND_SEQUENTIAL
  MAXIMUM = 255
  MEAN = 206.891
  MINIMUM = 1
  STANDARD_DEVIATION = 80.9116
END_OBJECT = IMAGE
/* MAP OBJECT DEFINITIONS */
OBJECT = IMAGE_MAP_PROJECTION
  ^DATA_SET_MAP_PROJECTION_CATALOG= "DSMAP.CAT"
  A_AXIS_RADIUS = 3396.0
  B_AXIS_RADIUS = 3396.0
  C_AXIS_RADIUS = 3396.0
  CENTER_LATITUDE = 0.0
  CENTER_LONGITUDE = 171.0
  COORDINATE_SYSTEM_NAME = PLANETOGRAPHIC
  COORDINATE_SYSTEM_TYPE = "BODY-FIXED ROTATING"
  EASTERNMOST_LONGITUDE = 173.183
  FIRST_STANDARD_PARALLEL = "N/A"
  LINE_FIRST_PIXEL = 1
  LINE_LAST_PIXEL = 9248
  LINE_PROJECTION_OFFSET = 78191.375
  MAP_PROJECTION_ROTATION = 0.0
  MAP_PROJECTION_TYPE = SINUSOIDAL
  MAP_RESOLUTION = 1185.42760773333
  MAP_SCALE = 0.05
  MAXIMUM_LATITUDE = 65.9195
  MINIMUM_LATITUDE = 58.1807
  POSITIVE_LONGITUDE_DIRECTION = EAST
  REFERENCE_LATITUDE = "N/A"
  REFERENCE_LONGITUDE = "N/A"
  SAMPLE_FIRST_PIXEL = 1
  SAMPLE_LAST_PIXEL = 2630
  SAMPLE_PROJECTION_OFFSET = 1284.125
  SECOND_STANDARD_PARALLEL = "N/A"
  WESTERNMOST_LONGITUDE = 168.316
END_OBJECT = IMAGE_MAP_PROJECTION
/* The JPEG2000 image data file associated with this label. */
OBJECT = COMPRESSED_FILE
  FILE_NAME = "HG025_0000_BL3.JP2"
  RECORD_TYPE = UNDEFINED
  FILE_RECORDS = UNK
  ENCODING_TYPE = "JP2"
  INTERCHANGE_FORMAT = BINARY
  UNCOMPRESSED_FILE_NAME = "HG025_0000_BL3.IMG"
  REQUIRED_STORAGE_BYTES = "24343280"
  ^DESCRIPTION = "JP2INFO.TXT"
END_OBJECT = COMPRESSED_FILE
END
