PDS_VERSION_ID = PDS3
/* FILE DATA ELEMENTS */
RECORD_TYPE = STREAM
/* POINTERS TO DATA OBJECTS */
^COMPRESSED_FILE = "HG147_0000_S13.JP2"
/* IDENTIFICATION DATA ELEMENTS */
DATA_SET_ID = "MEX-M-HRSC-5-REFDR-MAPPROJECTED-V3.0"
DATA_SET_NAME = "MARS EXPRESS HRSC MAP PROJECTED REFDR V3.0"
DETECTOR_ID = MEX_HRSC_S1
EVENT_TYPE = "MARS-REGIONAL-PHOTOMETRY-Vo-Te-Gl"
INSTRUMENT_HOST_ID = MEX
INSTRUMENT_HOST_NAME = "MARS EXPRESS"
INSTRUMENT_ID = HRSC
INSTRUMENT_NAME = "HIGH RESOLUTION STEREO CAMERA"
MISSION_NAME = "MARS EXPRESS"
MISSION_PHASE_NAME = ME_Phase_35
PROCESSING_LEVEL_ID = 3
PRODUCT_CREATION_TIME = 2017-06-30T05:49:47.000Z
PRODUCT_ID = "HG147_0000_S13.JP2"
RELEASE_ID = 0136
REVISION_ID = 0000
/* QUALITY DATA ELEMENTS */
DATA_QUALITY_ID = 1
DATA_QUALITY_DESC = "Data calculated based on original SPICE kernels"
/* TIME DATA ELEMENTS */
SPACECRAFT_CLOCK_START_COUNT = "1/0423201796.08229"
SPACECRAFT_CLOCK_STOP_COUNT = "1/0423202442.10595"
START_TIME = 2016-09-29T04:03:24.327Z
STOP_TIME = 2016-09-29T04:09:16.712Z
/* ORBITAL DATA ELEMENTS */
ASCENDING_NODE_LONGITUDE = 270.61
MAXIMUM_RESOLUTION = 136.9
FOOTPRINT_POINT_LATITUDE = (57.6059,57.3985,57.17,56.7227,56.2753, 55.8276,55.3799,54.9319,54.2595,53.8111 ,53.1378,52.6887,52.0523,51.3774, 50.9269,50.4765,50.0266,49.5746,49.125, 48.676,48.2242,47.5486,47.0933,46.6391, 46.184,45.7314,45.0538,44.5973,44.1384, 43.6766,43.2167,42.7623,42.3029,41.8421 ,41.3797,40.9181,40.4559,39.9924, 39.5278,39.0609,38.3604,37.8914,37.4209 ,36.7114,35.9999,35.2853,34.8083, 34.3302,34.1826,34.4325,34.5878,34.8066 ,34.9794,35.4993,35.9658,36.4317, 36.8969,37.361,37.824,38.2862,38.7477, 39.2085,39.6684,40.1261,40.5832,41.0396 ,41.7242,42.1781,42.6325,43.3141, 43.7661,44.2178,44.6682,45.1205,45.5712 ,46.0198,46.6868,47.1372,47.8126,48.26, 48.7072,49.1547,49.6007,50.0475,50.4937 ,51.1623,51.6086,52.2759,52.721,53.3506 ,53.7929,54.2374,54.9041,55.3485, 56.0149,56.459,56.9031,57.3472,57.7912, 57.6059)
FOOTPRINT_POINT_LONGITUDE = (291.609,290.124,288.724,288.779, 288.832,288.884,288.933,288.98,289.048, 289.091,289.152,289.191,289.244,289.297 ,289.33,289.362,289.394,289.423,289.452 ,289.48,289.507,289.545,289.568,289.591 ,289.613,289.634,289.664,289.683,289.7, 289.717,289.733,289.749,289.764,289.778 ,289.791,289.804,289.816,289.828, 289.838,289.848,289.863,289.871,289.879 ,289.891,289.901,289.91,289.915,289.92, 290.713,291.91,292.712,293.978,294.995, 295.293,295.267,295.241,295.214,295.188 ,295.162,295.136,295.11,295.084,295.058 ,295.033,295.008,294.982,294.943, 294.918,294.893,294.852,294.827,294.801 ,294.776,294.748,294.721,294.697, 294.667,294.637,294.591,294.564,294.537 ,294.507,294.48,294.45,294.42,294.376, 294.343,294.297,294.265,294.218,294.195 ,294.162,294.11,294.074,294.018,293.981 ,293.943,293.903,293.863,291.609)
ORBIT_NUMBER = 16147
ORBITAL_ECCENTRICITY = 0.571
ORBITAL_INCLINATION = 86.95
ORBITAL_SEMIMAJOR_AXIS = 8769.01
PERIAPSIS_ALTITUDE = 384.87
PERIAPSIS_ARGUMENT_ANGLE = 76.13
PERIAPSIS_TIME = 2016-09-29T03:50:32.000Z
SPACECRAFT_ORIENTATION = (0.0,-1.0,0.0)
^MEX_ORIENTATION_DESC = "MEX_ORIENTATION_DESC.TXT"
SPACECRAFT_POINTING_MODE = INERT
^MEX_POINTING_DESC = "MEX_POINTING_DESC.TXT"
RIGHT_ASCENSION = 141.682
DECLINATION = -38.939
OFFSET_ANGLE = -1e+32
SPACECRAFT_SOLAR_DISTANCE = 2.07622e+08
TARGET_NAME = MARS
/* CAMERA DATA ELEMENTS */
DETECTOR_TEMPERATURE = 17.7588
FOCAL_PLANE_TEMPERATURE = 7.9716
INST_CMPRS_NAME = "DISCRETE COSINE TRANSFORMATION (DCT)"
INST_CMPRS_RATIO = 11.3524
INST_CMPRS_QUALITY = 0
INST_CMPRS_QUANTZ_TBL_ID = 0
INSTRUMENT_TEMPERATURE = 11.0301
LENS_TEMPERATURE = 8.9911
MACROPIXEL_SIZE = 4
MISSING_FRAMES = 16
PIXEL_SUBSAMPLING_FLAG = N
SIGNAL_CHAIN_ID = 3
/* RADIOMETRIC DATA ELEMENTS */
BANDWIDTH = 180.0
CENTER_FILTER_WAVELENGTH = 677.0
RADIANCE_OFFSET = 2.06248
RADIANCE_SCALING_FACTOR = 0.0297529
REFLECTANCE_SCALING_FACTOR = 0.000669137
MEX:REFLECTANCE_OFFSET = 0.0463848
/* IMAGE OBJECT DEFINITIONS */
OBJECT = IMAGE
  INTERCHANGE_FORMAT = BINARY
  LINES = 7125
  LINE_SAMPLES = 1496
  SAMPLE_TYPE = UNSIGNED_INTEGER
  SAMPLE_BITS = 8
  BANDS = 1
  BAND_STORAGE_TYPE = BAND_SEQUENTIAL
  MAXIMUM = 255
  MEAN = 138.742
  MINIMUM = 1
  STANDARD_DEVIATION = 68.1459
END_OBJECT = IMAGE
/* MAP OBJECT DEFINITIONS */
OBJECT = IMAGE_MAP_PROJECTION
  ^DATA_SET_MAP_PROJECTION_CATALOG= "DSMAP.CAT"
  A_AXIS_RADIUS = 3396.0
  B_AXIS_RADIUS = 3396.0
  C_AXIS_RADIUS = 3396.0
  CENTER_LATITUDE = 0.0
  CENTER_LONGITUDE = 290.0
  COORDINATE_SYSTEM_NAME = PLANETOGRAPHIC
  COORDINATE_SYSTEM_TYPE = "BODY-FIXED ROTATING"
  EASTERNMOST_LONGITUDE = 295.293
  FIRST_STANDARD_PARALLEL = "N/A"
  LINE_FIRST_PIXEL = 1
  LINE_LAST_PIXEL = 7125
  LINE_PROJECTION_OFFSET = 17148.625
  MAP_PROJECTION_ROTATION = 0.0
  MAP_PROJECTION_TYPE = SINUSOIDAL
  MAP_RESOLUTION = 296.356901933333
  MAP_SCALE = 0.2
  MAXIMUM_LATITUDE = 57.7912
  MINIMUM_LATITUDE = 34.1826
  POSITIVE_LONGITUDE_DIRECTION = EAST
  REFERENCE_LATITUDE = "N/A"
  REFERENCE_LONGITUDE = "N/A"
  SAMPLE_FIRST_PIXEL = 1
  SAMPLE_LAST_PIXEL = 1496
  SAMPLE_PROJECTION_OFFSET = 657.375
  SECOND_STANDARD_PARALLEL = "N/A"
  WESTERNMOST_LONGITUDE = 288.724
END_OBJECT = IMAGE_MAP_PROJECTION
/* The JPEG2000 image data file associated with this label. */
OBJECT = COMPRESSED_FILE
  FILE_NAME = "HG147_0000_S13.JP2"
  RECORD_TYPE = UNDEFINED
  FILE_RECORDS = UNK
  ENCODING_TYPE = "JP2"
  INTERCHANGE_FORMAT = BINARY
  UNCOMPRESSED_FILE_NAME = "HG147_0000_S13.IMG"
  REQUIRED_STORAGE_BYTES = "10678448"
  ^DESCRIPTION = "JP2INFO.TXT"
END_OBJECT = COMPRESSED_FILE
END
