PDS_VERSION_ID = PDS3
/* FILE DATA ELEMENTS */
RECORD_TYPE = STREAM
/* POINTERS TO DATA OBJECTS */
^COMPRESSED_FILE = "HG147_0000_S23.JP2"
/* IDENTIFICATION DATA ELEMENTS */
DATA_SET_ID = "MEX-M-HRSC-5-REFDR-MAPPROJECTED-V3.0"
DATA_SET_NAME = "MARS EXPRESS HRSC MAP PROJECTED REFDR V3.0"
DETECTOR_ID = MEX_HRSC_S2
EVENT_TYPE = "MARS-REGIONAL-PHOTOMETRY-Vo-Te-Gl"
INSTRUMENT_HOST_ID = MEX
INSTRUMENT_HOST_NAME = "MARS EXPRESS"
INSTRUMENT_ID = HRSC
INSTRUMENT_NAME = "HIGH RESOLUTION STEREO CAMERA"
MISSION_NAME = "MARS EXPRESS"
MISSION_PHASE_NAME = ME_Phase_35
PROCESSING_LEVEL_ID = 3
PRODUCT_CREATION_TIME = 2017-06-30T05:49:47.000Z
PRODUCT_ID = "HG147_0000_S23.JP2"
RELEASE_ID = 0136
REVISION_ID = 0000
/* QUALITY DATA ELEMENTS */
DATA_QUALITY_ID = 1
DATA_QUALITY_DESC = "Data calculated based on original SPICE kernels"
/* TIME DATA ELEMENTS */
SPACECRAFT_CLOCK_START_COUNT = "1/0423201796.08229"
SPACECRAFT_CLOCK_STOP_COUNT = "1/0423202442.10595"
START_TIME = 2016-09-29T04:06:47.848Z
STOP_TIME = 2016-09-29T04:14:08.155Z
/* ORBITAL DATA ELEMENTS */
ASCENDING_NODE_LONGITUDE = 270.61
MAXIMUM_RESOLUTION = 204.3
FOOTPRINT_POINT_LATITUDE = (57.7799,57.5901,57.396,57.1979,56.996, 56.8286,56.605,56.2123,55.7357,55.2606, 54.7868,54.3137,53.8415,53.3705,52.9008 ,52.4323,51.9643,51.4972,51.0307, 50.5659,50.1022,49.6387,48.9448,48.4832 ,48.0243,47.5508,47.0889,46.4025,45.944 ,45.486,45.0311,44.5764,43.8938,43.2139 ,42.7661,42.3159,41.866,41.4169,40.9682 ,40.5204,39.8528,39.1801,38.7353, 38.2918,37.8473,37.4018,36.516,35.8524, 35.1898,34.5299,33.87,33.9367,34.1095, 34.3349,34.5813,34.8079,35.0156,35.1429 ,35.2483,35.6922,36.3451,37.2164, 38.0916,39.1874,39.8462,40.7299,41.1733 ,41.6159,42.0594,42.5043,43.1747, 43.6226,44.5124,44.9684,45.4243,45.8722 ,46.3308,47.0107,47.4636,47.92,48.3744, 48.8326,49.2945,49.7593,50.2277,50.6863 ,51.1543,51.6179,52.0827,52.5483, 53.0151,53.7185,54.1886,54.6601,55.1333 ,55.6077,56.083,56.5599,57.0377, 57.7799)
FOOTPRINT_POINT_LONGITUDE = (289.728,288.618,287.522,286.439, 285.368,284.505,283.385,282.884,282.972 ,283.055,283.134,283.209,283.281,283.35 ,283.414,283.475,283.534,283.589, 283.642,283.692,283.739,283.784,283.847 ,283.886,283.921,283.97,284.006,284.051 ,284.08,284.108,284.132,284.154,284.187 ,284.215,284.226,284.24,284.252,284.263 ,284.273,284.281,284.287,284.298,284.3, 284.299,284.3,284.302,284.297,284.291, 284.282,284.269,284.254,284.878,285.633 ,286.635,287.761,288.826,289.831, 290.461,290.988,290.987,290.986,290.983 ,290.979,290.971,290.965,290.957, 290.952,290.946,290.94,290.933,290.923, 290.915,290.897,290.887,290.878,290.866 ,290.855,290.836,290.822,290.808, 290.793,290.777,290.76,290.742,290.724, 290.704,290.683,290.661,290.637,290.613 ,290.587,290.546,290.517,290.486, 290.454,290.42,290.385,290.348,290.309, 289.728)
ORBIT_NUMBER = 16147
ORBITAL_ECCENTRICITY = 0.571
ORBITAL_INCLINATION = 86.95
ORBITAL_SEMIMAJOR_AXIS = 8769.01
PERIAPSIS_ALTITUDE = 384.87
PERIAPSIS_ARGUMENT_ANGLE = 76.13
PERIAPSIS_TIME = 2016-09-29T03:50:32.000Z
SPACECRAFT_ORIENTATION = (0.0,-1.0,0.0)
^MEX_ORIENTATION_DESC = "MEX_ORIENTATION_DESC.TXT"
SPACECRAFT_POINTING_MODE = INERT
^MEX_POINTING_DESC = "MEX_POINTING_DESC.TXT"
RIGHT_ASCENSION = 141.682
DECLINATION = -38.939
OFFSET_ANGLE = -1e+32
SPACECRAFT_SOLAR_DISTANCE = 2.07622e+08
TARGET_NAME = MARS
/* CAMERA DATA ELEMENTS */
DETECTOR_TEMPERATURE = 18.9822
FOCAL_PLANE_TEMPERATURE = 7.9716
INST_CMPRS_NAME = "DISCRETE COSINE TRANSFORMATION (DCT)"
INST_CMPRS_RATIO = 11.1143
INST_CMPRS_QUALITY = 0
INST_CMPRS_QUANTZ_TBL_ID = 0
INSTRUMENT_TEMPERATURE = 11.0301
LENS_TEMPERATURE = 8.9911
MACROPIXEL_SIZE = 4
MISSING_FRAMES = 1
PIXEL_SUBSAMPLING_FLAG = N
SIGNAL_CHAIN_ID = 3
/* RADIOMETRIC DATA ELEMENTS */
BANDWIDTH = 178.0
CENTER_FILTER_WAVELENGTH = 679.0
RADIANCE_OFFSET = 2.63942
RADIANCE_SCALING_FACTOR = 0.0286861
REFLECTANCE_SCALING_FACTOR = 0.000654855
MEX:REFLECTANCE_OFFSET = 0.0602534
/* IMAGE OBJECT DEFINITIONS */
OBJECT = IMAGE
  INTERCHANGE_FORMAT = BINARY
  LINES = 7125
  LINE_SAMPLES = 1496
  SAMPLE_TYPE = UNSIGNED_INTEGER
  SAMPLE_BITS = 8
  BANDS = 1
  BAND_STORAGE_TYPE = BAND_SEQUENTIAL
  MAXIMUM = 255
  MEAN = 128.45
  MINIMUM = 1
  STANDARD_DEVIATION = 57.7655
END_OBJECT = IMAGE
/* MAP OBJECT DEFINITIONS */
OBJECT = IMAGE_MAP_PROJECTION
  ^DATA_SET_MAP_PROJECTION_CATALOG= "DSMAP.CAT"
  A_AXIS_RADIUS = 3396.0
  B_AXIS_RADIUS = 3396.0
  C_AXIS_RADIUS = 3396.0
  CENTER_LATITUDE = 0.0
  CENTER_LONGITUDE = 290.0
  COORDINATE_SYSTEM_NAME = PLANETOGRAPHIC
  COORDINATE_SYSTEM_TYPE = "BODY-FIXED ROTATING"
  EASTERNMOST_LONGITUDE = 290.988
  FIRST_STANDARD_PARALLEL = "N/A"
  LINE_FIRST_PIXEL = 1
  LINE_LAST_PIXEL = 7125
  LINE_PROJECTION_OFFSET = 17148.625
  MAP_PROJECTION_ROTATION = 0.0
  MAP_PROJECTION_TYPE = SINUSOIDAL
  MAP_RESOLUTION = 296.356901933333
  MAP_SCALE = 0.2
  MAXIMUM_LATITUDE = 57.7799
  MINIMUM_LATITUDE = 33.87
  POSITIVE_LONGITUDE_DIRECTION = EAST
  REFERENCE_LATITUDE = "N/A"
  REFERENCE_LONGITUDE = "N/A"
  SAMPLE_FIRST_PIXEL = 1
  SAMPLE_LAST_PIXEL = 1496
  SAMPLE_PROJECTION_OFFSET = 657.375
  SECOND_STANDARD_PARALLEL = "N/A"
  WESTERNMOST_LONGITUDE = 282.884
END_OBJECT = IMAGE_MAP_PROJECTION
/* The JPEG2000 image data file associated with this label. */
OBJECT = COMPRESSED_FILE
  FILE_NAME = "HG147_0000_S23.JP2"
  RECORD_TYPE = UNDEFINED
  FILE_RECORDS = UNK
  ENCODING_TYPE = "JP2"
  INTERCHANGE_FORMAT = BINARY
  UNCOMPRESSED_FILE_NAME = "HG147_0000_S23.IMG"
  REQUIRED_STORAGE_BYTES = "10678448"
  ^DESCRIPTION = "JP2INFO.TXT"
END_OBJECT = COMPRESSED_FILE
END
