PDS_VERSION_ID = PDS3
/* FILE DATA ELEMENTS */
RECORD_TYPE = STREAM
/* POINTERS TO DATA OBJECTS */
^COMPRESSED_FILE = "HG151_0000_S13.JP2"
/* IDENTIFICATION DATA ELEMENTS */
DATA_SET_ID = "MEX-M-HRSC-5-REFDR-MAPPROJECTED-V3.0"
DATA_SET_NAME = "MARS EXPRESS HRSC MAP PROJECTED REFDR V3.0"
DETECTOR_ID = MEX_HRSC_S1
EVENT_TYPE = "MARS-REGIONAL-PHOTOMETRY-Vo-Te"
INSTRUMENT_HOST_ID = MEX
INSTRUMENT_HOST_NAME = "MARS EXPRESS"
INSTRUMENT_ID = HRSC
INSTRUMENT_NAME = "HIGH RESOLUTION STEREO CAMERA"
MISSION_NAME = "MARS EXPRESS"
MISSION_PHASE_NAME = ME_Phase_35
PROCESSING_LEVEL_ID = 3
PRODUCT_CREATION_TIME = 2017-06-30T05:49:47.000Z
PRODUCT_ID = "HG151_0000_S13.JP2"
RELEASE_ID = 0136
REVISION_ID = 0000
/* QUALITY DATA ELEMENTS */
DATA_QUALITY_ID = 1
DATA_QUALITY_DESC = "Data calculated based on original SPICE kernels"
/* TIME DATA ELEMENTS */
SPACECRAFT_CLOCK_START_COUNT = "1/0423302542.09033"
SPACECRAFT_CLOCK_STOP_COUNT = "1/0423303387.64419"
START_TIME = 2016-09-30T08:06:49.621Z
STOP_TIME = 2016-09-30T08:19:57.884Z
/* ORBITAL DATA ELEMENTS */
ASCENDING_NODE_LONGITUDE = 270.54
MAXIMUM_RESOLUTION = 102.5
FOOTPRINT_POINT_LATITUDE = (52.3927,52.4094,52.4214,52.4248, 52.4222,52.5157,51.9519,51.3917,50.8419 ,50.2964,49.7602,49.2306,48.7073, 48.1902,47.6793,47.174,46.6751,46.1816, 45.6931,45.2101,44.7332,44.2607,43.7956 ,43.3362,42.8847,42.445,42.0083,41.5754 ,41.1492,40.7303,40.317,39.9071,39.5041 ,39.1057,38.7141,38.325,37.9437,37.569, 36.8356,36.1188,35.4198,34.7402,34.078, 33.4317,32.8019,32.1866,31.588,31.6415, 31.7267,31.7903,31.8292,31.8913,31.9449 ,32.0094,32.0825,32.1213,32.1777, 32.2329,32.2967,32.526,33.0805,33.653, 34.2423,34.8509,35.477,36.1222,36.7886, 37.4735,38.1784,38.9025,39.274,39.6493, 40.0305,40.4202,40.8129,41.2133,41.6203 ,42.0319,42.4494,42.874,43.3041,43.7394 ,44.1823,44.6318,45.0875,45.5496, 46.0179,46.4931,46.9742,47.4623,47.9564 ,48.4569,48.964,49.4776,49.9982,50.5254 ,51.0633,51.6051,52.1575,52.3927)
FOOTPRINT_POINT_LONGITUDE = (238.861,239.922,241.183,242.243, 243.306,244.451,244.503,244.554,244.603 ,244.652,244.699,244.744,244.788, 244.831,244.872,244.913,244.952,244.991 ,245.028,245.064,245.099,245.133, 245.168,245.202,245.236,245.274,245.309 ,245.344,245.379,245.414,245.45,245.484 ,245.519,245.553,245.589,245.623, 245.658,245.694,245.767,245.839,245.911 ,245.983,246.056,246.129,246.202, 246.276,246.35,245.48,244.413,243.64, 243.158,242.387,241.712,240.94,240.07, 239.586,238.907,238.226,237.444,236.347 ,236.426,236.503,236.58,236.656,236.73, 236.804,236.875,236.945,237.013,237.079 ,237.111,237.143,237.173,237.202, 237.231,237.259,237.285,237.311,237.335 ,237.358,237.38,237.402,237.421,237.439 ,237.455,237.47,237.483,237.494,237.504 ,237.512,237.518,237.522,237.523, 237.523,237.52,237.514,237.505,237.494, 237.478,238.861)
ORBIT_NUMBER = 16151
ORBITAL_ECCENTRICITY = 0.571
ORBITAL_INCLINATION = 86.96
ORBITAL_SEMIMAJOR_AXIS = 8769.94
PERIAPSIS_ALTITUDE = 383.79
PERIAPSIS_ARGUMENT_ANGLE = 75.42
PERIAPSIS_TIME = 2016-09-30T07:49:22.000Z
SPACECRAFT_ORIENTATION = (0.0,1.0,0.0)
^MEX_ORIENTATION_DESC = "MEX_ORIENTATION_DESC.TXT"
SPACECRAFT_POINTING_MODE = NADIR
^MEX_POINTING_DESC = "MEX_POINTING_DESC.TXT"
RIGHT_ASCENSION = -1e+32
DECLINATION = -1e+32
OFFSET_ANGLE = -1e+32
SPACECRAFT_SOLAR_DISTANCE = 2.07548e+08
TARGET_NAME = MARS
/* CAMERA DATA ELEMENTS */
DETECTOR_TEMPERATURE = 17.351
FOCAL_PLANE_TEMPERATURE = 7.3599
INST_CMPRS_NAME = "DISCRETE COSINE TRANSFORMATION (DCT)"
INST_CMPRS_RATIO = 9.61805
INST_CMPRS_QUALITY = 0
INST_CMPRS_QUANTZ_TBL_ID = 0
INSTRUMENT_TEMPERATURE = 11.0301
LENS_TEMPERATURE = 7.7677
MACROPIXEL_SIZE = 2
MISSING_FRAMES = 2
PIXEL_SUBSAMPLING_FLAG = N
SIGNAL_CHAIN_ID = 1
/* RADIOMETRIC DATA ELEMENTS */
BANDWIDTH = 180.0
CENTER_FILTER_WAVELENGTH = 677.0
RADIANCE_OFFSET = 4.43178
RADIANCE_SCALING_FACTOR = 0.026152
REFLECTANCE_SCALING_FACTOR = 0.000587736
MEX:REFLECTANCE_OFFSET = 0.099599
/* IMAGE OBJECT DEFINITIONS */
OBJECT = IMAGE
  INTERCHANGE_FORMAT = BINARY
  LINES = 12254
  LINE_SAMPLES = 3470
  SAMPLE_TYPE = UNSIGNED_INTEGER
  SAMPLE_BITS = 8
  BANDS = 1
  BAND_STORAGE_TYPE = BAND_SEQUENTIAL
  MAXIMUM = 255
  MEAN = 156.665
  MINIMUM = 1
  STANDARD_DEVIATION = 70.0983
END_OBJECT = IMAGE
/* MAP OBJECT DEFINITIONS */
OBJECT = IMAGE_MAP_PROJECTION
  ^DATA_SET_MAP_PROJECTION_CATALOG= "DSMAP.CAT"
  A_AXIS_RADIUS = 3396.0
  B_AXIS_RADIUS = 3396.0
  C_AXIS_RADIUS = 3396.0
  CENTER_LATITUDE = 0.0
  CENTER_LONGITUDE = 241.0
  COORDINATE_SYSTEM_NAME = PLANETOGRAPHIC
  COORDINATE_SYSTEM_TYPE = "BODY-FIXED ROTATING"
  EASTERNMOST_LONGITUDE = 246.35
  FIRST_STANDARD_PARALLEL = "N/A"
  LINE_FIRST_PIXEL = 1
  LINE_LAST_PIXEL = 12254
  LINE_PROJECTION_OFFSET = 31144.75
  MAP_PROJECTION_ROTATION = 0.0
  MAP_PROJECTION_TYPE = SINUSOIDAL
  MAP_RESOLUTION = 592.713803866667
  MAP_SCALE = 0.1
  MAXIMUM_LATITUDE = 52.5157
  MINIMUM_LATITUDE = 31.588
  POSITIVE_LONGITUDE_DIRECTION = EAST
  REFERENCE_LATITUDE = "N/A"
  REFERENCE_LONGITUDE = "N/A"
  SAMPLE_FIRST_PIXEL = 1
  SAMPLE_LAST_PIXEL = 3470
  SAMPLE_PROJECTION_OFFSET = 1773.75
  SECOND_STANDARD_PARALLEL = "N/A"
  WESTERNMOST_LONGITUDE = 236.347
END_OBJECT = IMAGE_MAP_PROJECTION
/* The JPEG2000 image data file associated with this label. */
OBJECT = COMPRESSED_FILE
  FILE_NAME = "HG151_0000_S13.JP2"
  RECORD_TYPE = UNDEFINED
  FILE_RECORDS = UNK
  ENCODING_TYPE = "JP2"
  INTERCHANGE_FORMAT = BINARY
  UNCOMPRESSED_FILE_NAME = "HG151_0000_S13.IMG"
  REQUIRED_STORAGE_BYTES = "42545670"
  ^DESCRIPTION = "JP2INFO.TXT"
END_OBJECT = COMPRESSED_FILE
END
