PDS_VERSION_ID = PDS3
/* FILE DATA ELEMENTS */
RECORD_TYPE = STREAM
/* POINTERS TO DATA OBJECTS */
^COMPRESSED_FILE = "HG158_0000_ND3.JP2"
/* IDENTIFICATION DATA ELEMENTS */
DATA_SET_ID = "MEX-M-HRSC-5-REFDR-MAPPROJECTED-V3.0"
DATA_SET_NAME = "MARS EXPRESS HRSC MAP PROJECTED REFDR V3.0"
DETECTOR_ID = MEX_HRSC_NADIR
EVENT_TYPE = "MARS-GLOBAL-MAPPING-Vo-Te"
INSTRUMENT_HOST_ID = MEX
INSTRUMENT_HOST_NAME = "MARS EXPRESS"
INSTRUMENT_ID = HRSC
INSTRUMENT_NAME = "HIGH RESOLUTION STEREO CAMERA"
MISSION_NAME = "MARS EXPRESS"
MISSION_PHASE_NAME = ME_Phase_35
PROCESSING_LEVEL_ID = 3
PRODUCT_CREATION_TIME = 2017-06-30T05:49:47.000Z
PRODUCT_ID = "HG158_0000_ND3.JP2"
RELEASE_ID = 0136
REVISION_ID = 0000
/* QUALITY DATA ELEMENTS */
DATA_QUALITY_ID = 1
DATA_QUALITY_DESC = "Data calculated based on original SPICE kernels"
/* TIME DATA ELEMENTS */
SPACECRAFT_CLOCK_START_COUNT = "1/0423478846.09056"
SPACECRAFT_CLOCK_STOP_COUNT = "1/0423479686.63375"
START_TIME = 2016-10-02T09:02:43.441Z
STOP_TIME = 2016-10-02T09:11:02.441Z
/* ORBITAL DATA ELEMENTS */
ASCENDING_NODE_LONGITUDE = 270.41
MAXIMUM_RESOLUTION = 40.8
FOOTPRINT_POINT_LATITUDE = (52.5288,52.5572,52.5755,52.5956, 52.6077,52.6077,52.1339,51.6663,51.2013 ,50.7388,50.2787,49.8212,49.3663, 48.9138,48.4638,48.0163,47.5714,47.1289 ,46.6889,46.2514,45.8163,45.3837, 44.9535,44.5257,44.1001,43.677,43.2562, 42.8378,42.4218,42.008,41.5967,41.1876, 40.7809,40.3765,39.9741,39.5741,39.1763 ,38.7808,38.3875,37.9964,37.2207, 36.4536,35.6951,34.9452,34.2036,33.4703 ,32.7451,32.0279,32.047,32.0767,32.1135 ,32.1373,32.1586,32.184,32.1996,32.2127 ,32.2268,32.2341,32.2391,32.5898, 33.2937,34.0061,34.7271,35.4567,36.1952 ,36.9426,37.6989,38.4644,39.2391, 39.6299,40.023,40.4185,40.8163,41.2165, 41.619,42.024,42.4313,42.8411,43.2532, 43.6678,44.0848,44.5043,44.9263,45.3507 ,45.7776,46.207,46.639,47.0734,47.5104, 47.9499,48.392,48.8366,49.2838,49.7336, 50.186,50.6409,51.0984,51.5584,52.0211, 52.5288)
FOOTPRINT_POINT_LONGITUDE = (242.841,243.694,244.377,245.405, 246.606,247.814,248.152,248.175,248.197 ,248.218,248.238,248.257,248.276, 248.293,248.309,248.324,248.338,248.351 ,248.363,248.373,248.384,248.393, 248.401,248.41,248.42,248.43,248.439, 248.448,248.455,248.463,248.47,248.476, 248.481,248.487,248.494,248.501,248.507 ,248.512,248.517,248.522,248.532, 248.542,248.549,248.555,248.559,248.563 ,248.566,248.568,248.013,247.457, 246.696,246.143,245.591,244.832,244.28, 243.727,242.966,242.413,241.858,241.579 ,241.643,241.705,241.765,241.823,241.88 ,241.934,241.985,242.034,242.08,242.102 ,242.123,242.143,242.162,242.18,242.197 ,242.213,242.228,242.242,242.255, 242.266,242.276,242.285,242.293,242.301 ,242.307,242.311,242.315,242.317, 242.318,242.318,242.317,242.314,242.31, 242.304,242.297,242.288,242.277,242.265 ,242.25,242.841)
ORBIT_NUMBER = 16158
ORBITAL_ECCENTRICITY = 0.571
ORBITAL_INCLINATION = 86.96
ORBITAL_SEMIMAJOR_AXIS = 8771.19
PERIAPSIS_ALTITUDE = 383.53
PERIAPSIS_ARGUMENT_ANGLE = 74.21
PERIAPSIS_TIME = 2016-10-02T08:47:26.000Z
SPACECRAFT_ORIENTATION = (0.0,1.0,0.0)
^MEX_ORIENTATION_DESC = "MEX_ORIENTATION_DESC.TXT"
SPACECRAFT_POINTING_MODE = ACROSSTRACK
^MEX_POINTING_DESC = "MEX_POINTING_DESC.TXT"
RIGHT_ASCENSION = -1e+32
DECLINATION = -1e+32
OFFSET_ANGLE = 0.3
SPACECRAFT_SOLAR_DISTANCE = 2.07426e+08
TARGET_NAME = MARS
/* CAMERA DATA ELEMENTS */
DETECTOR_TEMPERATURE = 18.5744
FOCAL_PLANE_TEMPERATURE = 9.3989
INST_CMPRS_NAME = "DISCRETE COSINE TRANSFORMATION (DCT)"
INST_CMPRS_RATIO = 6.04246
INST_CMPRS_QUALITY = 0
INST_CMPRS_QUANTZ_TBL_ID = 0
INSTRUMENT_TEMPERATURE = 10.4184
LENS_TEMPERATURE = 9.3989
MACROPIXEL_SIZE = 1
MISSING_FRAMES = 0
PIXEL_SUBSAMPLING_FLAG = N
SIGNAL_CHAIN_ID = 0
/* RADIOMETRIC DATA ELEMENTS */
BANDWIDTH = 177.0
CENTER_FILTER_WAVELENGTH = 677.5
RADIANCE_OFFSET = 2.34795
RADIANCE_SCALING_FACTOR = 0.0356145
REFLECTANCE_SCALING_FACTOR = 0.000814019
MEX:REFLECTANCE_OFFSET = 0.0536657
/* IMAGE OBJECT DEFINITIONS */
OBJECT = IMAGE
  INTERCHANGE_FORMAT = BINARY
  LINES = 24421
  LINE_SAMPLES = 7130
  SAMPLE_TYPE = UNSIGNED_INTEGER
  SAMPLE_BITS = 8
  BANDS = 1
  BAND_STORAGE_TYPE = BAND_SEQUENTIAL
  MAXIMUM = 255
  MEAN = 128.533
  MINIMUM = 1
  STANDARD_DEVIATION = 47.0232
END_OBJECT = IMAGE
/* MAP OBJECT DEFINITIONS */
OBJECT = IMAGE_MAP_PROJECTION
  ^DATA_SET_MAP_PROJECTION_CATALOG= "DSMAP.CAT"
  A_AXIS_RADIUS = 3396.0
  B_AXIS_RADIUS = 3396.0
  C_AXIS_RADIUS = 3396.0
  CENTER_LATITUDE = 0.0
  CENTER_LONGITUDE = 245.0
  COORDINATE_SYSTEM_NAME = PLANETOGRAPHIC
  COORDINATE_SYSTEM_TYPE = "BODY-FIXED ROTATING"
  EASTERNMOST_LONGITUDE = 248.568
  FIRST_STANDARD_PARALLEL = "N/A"
  LINE_FIRST_PIXEL = 1
  LINE_LAST_PIXEL = 24421
  LINE_PROJECTION_OFFSET = 62364.0
  MAP_PROJECTION_ROTATION = 0.0
  MAP_PROJECTION_TYPE = SINUSOIDAL
  MAP_RESOLUTION = 1185.42760773333
  MAP_SCALE = 0.05
  MAXIMUM_LATITUDE = 52.6077
  MINIMUM_LATITUDE = 32.0279
  POSITIVE_LONGITUDE_DIRECTION = EAST
  REFERENCE_LATITUDE = "N/A"
  REFERENCE_LONGITUDE = "N/A"
  SAMPLE_FIRST_PIXEL = 1
  SAMPLE_LAST_PIXEL = 7130
  SAMPLE_PROJECTION_OFFSET = 3485.0
  SECOND_STANDARD_PARALLEL = "N/A"
  WESTERNMOST_LONGITUDE = 241.579
END_OBJECT = IMAGE_MAP_PROJECTION
/* The JPEG2000 image data file associated with this label. */
OBJECT = COMPRESSED_FILE
  FILE_NAME = "HG158_0000_ND3.JP2"
  RECORD_TYPE = UNDEFINED
  FILE_RECORDS = UNK
  ENCODING_TYPE = "JP2"
  INTERCHANGE_FORMAT = BINARY
  UNCOMPRESSED_FILE_NAME = "HG158_0000_ND3.IMG"
  REQUIRED_STORAGE_BYTES = "174150250"
  ^DESCRIPTION = "JP2INFO.TXT"
END_OBJECT = COMPRESSED_FILE
END
