PDS_VERSION_ID = PDS3
/* FILE DATA ELEMENTS */
RECORD_TYPE = STREAM
/* POINTERS TO DATA OBJECTS */
^COMPRESSED_FILE = "HG174_0000_S13.JP2"
/* IDENTIFICATION DATA ELEMENTS */
DATA_SET_ID = "MEX-M-HRSC-5-REFDR-MAPPROJECTED-V3.0"
DATA_SET_NAME = "MARS EXPRESS HRSC MAP PROJECTED REFDR V3.0"
DETECTOR_ID = MEX_HRSC_S1
EVENT_TYPE = "MARS-REGIONAL-PHOTOMETRY-Te-Gl"
INSTRUMENT_HOST_ID = MEX
INSTRUMENT_HOST_NAME = "MARS EXPRESS"
INSTRUMENT_ID = HRSC
INSTRUMENT_NAME = "HIGH RESOLUTION STEREO CAMERA"
MISSION_NAME = "MARS EXPRESS"
MISSION_PHASE_NAME = ME_Phase_35
PROCESSING_LEVEL_ID = 3
PRODUCT_CREATION_TIME = 2017-06-30T05:49:47.000Z
PRODUCT_ID = "HG174_0000_S13.JP2"
RELEASE_ID = 0136
REVISION_ID = 0000
/* QUALITY DATA ELEMENTS */
DATA_QUALITY_ID = 1
DATA_QUALITY_DESC = "Data calculated based on original SPICE kernels"
/* TIME DATA ELEMENTS */
SPACECRAFT_CLOCK_START_COUNT = "1/0423881792.08254"
SPACECRAFT_CLOCK_STOP_COUNT = "1/0423882821.51699"
START_TIME = 2016-10-07T01:01:21.602Z
STOP_TIME = 2016-10-07T01:13:47.824Z
/* ORBITAL DATA ELEMENTS */
ASCENDING_NODE_LONGITUDE = 270.11
MAXIMUM_RESOLUTION = 218.1
FOOTPRINT_POINT_LATITUDE = (54.3911,54.4154,54.4323,54.4421, 54.4447,54.4404,54.4348,54.0468,53.5434 ,53.0465,52.556,52.0714,51.5919,51.1182 ,50.6501,50.1882,49.7315,49.2816, 48.8345,48.3957,47.9588,47.5265,47.1039 ,46.6789,46.2665,45.8584,45.4577, 45.0548,44.6662,44.2765,43.6937,43.3263 ,42.9503,42.5878,42.2208,41.8623, 41.5133,40.9883,40.6266,39.9665,38.9678 ,38.3349,37.7166,37.1122,36.5203, 35.9484,35.3892,35.4777,35.5428,35.5828 ,35.6409,35.6809,35.7468,35.8167, 35.8652,35.9214,35.9633,36.0206,36.0916 ,36.1533,36.1922,36.3745,36.8879, 37.5482,38.0974,38.528,39.0999,39.692, 40.3105,40.7863,41.4142,42.0892,42.7702 ,43.2946,43.6462,44.0068,44.3698, 44.9227,45.3002,45.6812,46.0686,46.4614 ,46.8587,47.2624,47.6677,48.0827, 48.5041,48.9282,49.3598,49.7961,50.2365 ,50.6857,51.1404,51.601,52.0675,52.539, 53.0171,53.5006,53.9909,54.3911)
FOOTPRINT_POINT_LONGITUDE = (43.1004,44.2526,45.3985,46.5381,47.672 ,48.8031,49.4382,49.8519,49.9254, 49.9968,50.0661,50.1334,50.1985,50.2618 ,50.3234,50.3836,50.4423,50.4999, 50.5554,50.6106,50.6636,50.7151,50.7673 ,50.8158,50.8662,50.9155,50.965,51.011, 51.06,51.1062,51.1715,51.2204,51.2636, 51.31,51.3524,51.396,51.4414,51.5049, 51.54,51.6302,51.7477,51.8308,51.9132, 51.9949,52.0755,52.1585,52.2406,51.1739 ,50.3936,49.906,49.2239,48.7363,47.9558 ,47.1733,46.4858,45.796,45.3016,44.607, 43.7095,42.9067,42.402,41.6725,41.7309, 41.8032,41.8578,41.8938,41.9479,41.9983 ,42.0415,42.0717,42.1213,42.152,42.1859 ,42.2081,42.2239,42.236,42.2486,42.2658 ,42.274,42.2817,42.2873,42.2911,42.2938 ,42.2941,42.2952,42.2914,42.2848, 42.2782,42.2679,42.256,42.2429,42.2247, 42.2039,42.1801,42.1531,42.1237,42.0901 ,42.0535,42.0123,43.1004)
ORBIT_NUMBER = 16174
ORBITAL_ECCENTRICITY = 0.571
ORBITAL_INCLINATION = 86.95
ORBITAL_SEMIMAJOR_AXIS = 8771.38
PERIAPSIS_ALTITUDE = 382.9
PERIAPSIS_ARGUMENT_ANGLE = 71.46
PERIAPSIS_TIME = 2016-10-07T00:42:59.000Z
SPACECRAFT_ORIENTATION = (0.0,1.0,0.0)
^MEX_ORIENTATION_DESC = "MEX_ORIENTATION_DESC.TXT"
SPACECRAFT_POINTING_MODE = ACROSSTRACK
^MEX_POINTING_DESC = "MEX_POINTING_DESC.TXT"
RIGHT_ASCENSION = -1e+32
DECLINATION = -1e+32
OFFSET_ANGLE = -1.0
SPACECRAFT_SOLAR_DISTANCE = 2.07178e+08
TARGET_NAME = MARS
/* CAMERA DATA ELEMENTS */
DETECTOR_TEMPERATURE = 17.351
FOCAL_PLANE_TEMPERATURE = 7.7677
INST_CMPRS_NAME = "DISCRETE COSINE TRANSFORMATION (DCT)"
INST_CMPRS_RATIO = 14.4013
INST_CMPRS_QUALITY = 0
INST_CMPRS_QUANTZ_TBL_ID = 0
INSTRUMENT_TEMPERATURE = 10.6223
LENS_TEMPERATURE = 8.3794
MACROPIXEL_SIZE = 4
MISSING_FRAMES = 0
PIXEL_SUBSAMPLING_FLAG = N
SIGNAL_CHAIN_ID = 3
/* RADIOMETRIC DATA ELEMENTS */
BANDWIDTH = 180.0
CENTER_FILTER_WAVELENGTH = 677.0
RADIANCE_OFFSET = 2.5781
RADIANCE_SCALING_FACTOR = 0.0277308
REFLECTANCE_SCALING_FACTOR = 0.000620997
MEX:REFLECTANCE_OFFSET = 0.0577333
/* IMAGE OBJECT DEFINITIONS */
OBJECT = IMAGE
  INTERCHANGE_FORMAT = BINARY
  LINES = 5602
  LINE_SAMPLES = 1750
  SAMPLE_TYPE = UNSIGNED_INTEGER
  SAMPLE_BITS = 8
  BANDS = 1
  BAND_STORAGE_TYPE = BAND_SEQUENTIAL
  MAXIMUM = 255
  MEAN = 132.092
  MINIMUM = 1
  STANDARD_DEVIATION = 68.4832
END_OBJECT = IMAGE
/* MAP OBJECT DEFINITIONS */
OBJECT = IMAGE_MAP_PROJECTION
  ^DATA_SET_MAP_PROJECTION_CATALOG= "DSMAP.CAT"
  A_AXIS_RADIUS = 3396.0
  B_AXIS_RADIUS = 3396.0
  C_AXIS_RADIUS = 3396.0
  CENTER_LATITUDE = 0.0
  CENTER_LONGITUDE = 47.0
  COORDINATE_SYSTEM_NAME = PLANETOGRAPHIC
  COORDINATE_SYSTEM_TYPE = "BODY-FIXED ROTATING"
  EASTERNMOST_LONGITUDE = 52.2406
  FIRST_STANDARD_PARALLEL = "N/A"
  LINE_FIRST_PIXEL = 1
  LINE_LAST_PIXEL = 5602
  LINE_PROJECTION_OFFSET = 16187.125
  MAP_PROJECTION_ROTATION = 0.0
  MAP_PROJECTION_TYPE = SINUSOIDAL
  MAP_RESOLUTION = 296.356901933333
  MAP_SCALE = 0.2
  MAXIMUM_LATITUDE = 54.4447
  MINIMUM_LATITUDE = 35.3892
  POSITIVE_LONGITUDE_DIRECTION = EAST
  REFERENCE_LATITUDE = "N/A"
  REFERENCE_LONGITUDE = "N/A"
  SAMPLE_FIRST_PIXEL = 1
  SAMPLE_LAST_PIXEL = 1750
  SAMPLE_PROJECTION_OFFSET = 991.125
  SECOND_STANDARD_PARALLEL = "N/A"
  WESTERNMOST_LONGITUDE = 41.6725
END_OBJECT = IMAGE_MAP_PROJECTION
/* The JPEG2000 image data file associated with this label. */
OBJECT = COMPRESSED_FILE
  FILE_NAME = "HG174_0000_S13.JP2"
  RECORD_TYPE = UNDEFINED
  FILE_RECORDS = UNK
  ENCODING_TYPE = "JP2"
  INTERCHANGE_FORMAT = BINARY
  UNCOMPRESSED_FILE_NAME = "HG174_0000_S13.IMG"
  REQUIRED_STORAGE_BYTES = "9824500"
  ^DESCRIPTION = "JP2INFO.TXT"
END_OBJECT = COMPRESSED_FILE
END
