PDS_VERSION_ID = PDS3
/* FILE DATA ELEMENTS */
RECORD_TYPE = STREAM
/* POINTERS TO DATA OBJECTS */
^COMPRESSED_FILE = "HG174_0000_S23.JP2"
/* IDENTIFICATION DATA ELEMENTS */
DATA_SET_ID = "MEX-M-HRSC-5-REFDR-MAPPROJECTED-V3.0"
DATA_SET_NAME = "MARS EXPRESS HRSC MAP PROJECTED REFDR V3.0"
DETECTOR_ID = MEX_HRSC_S2
EVENT_TYPE = "MARS-REGIONAL-PHOTOMETRY-Te-Gl"
INSTRUMENT_HOST_ID = MEX
INSTRUMENT_HOST_NAME = "MARS EXPRESS"
INSTRUMENT_ID = HRSC
INSTRUMENT_NAME = "HIGH RESOLUTION STEREO CAMERA"
MISSION_NAME = "MARS EXPRESS"
MISSION_PHASE_NAME = ME_Phase_35
PROCESSING_LEVEL_ID = 3
PRODUCT_CREATION_TIME = 2017-06-30T05:49:47.000Z
PRODUCT_ID = "HG174_0000_S23.JP2"
RELEASE_ID = 0136
REVISION_ID = 0000
/* QUALITY DATA ELEMENTS */
DATA_QUALITY_ID = 1
DATA_QUALITY_DESC = "Data calculated based on original SPICE kernels"
/* TIME DATA ELEMENTS */
SPACECRAFT_CLOCK_START_COUNT = "1/0423881792.08254"
SPACECRAFT_CLOCK_STOP_COUNT = "1/0423882821.51699"
START_TIME = 2016-10-07T00:56:40.291Z
STOP_TIME = 2016-10-07T01:02:37.199Z
/* ORBITAL DATA ELEMENTS */
ASCENDING_NODE_LONGITUDE = 270.11
MAXIMUM_RESOLUTION = 156.4
FOOTPRINT_POINT_LATITUDE = (54.4537,54.5249,54.5882,54.6437, 54.6916,54.7298,54.7654,54.2466,53.8482 ,53.2516,52.8551,52.4601,52.0659, 51.6726,51.2804,50.8891,50.4987,50.1098 ,49.7221,49.336,48.9509,48.5649,48.1825 ,47.7995,47.4185,46.8453,46.4676, 46.1037,45.7157,45.3362,44.9594,44.586, 44.0253,43.4685,43.0976,42.7319,42.3611 ,42.0027,41.6392,41.2787,40.9027, 40.1869,39.4748,39.1163,38.5773,38.2143 ,37.5118,36.9841,36.1063,35.843,35.8387 ,35.8336,35.8242,35.805,35.7736,35.7394 ,35.6961,35.6651,36.1541,37.0261, 37.5505,38.0812,38.6106,39.3161,39.6767 ,40.376,41.0801,41.4381,41.8014,42.1656 ,42.548,42.9162,43.2812,43.8303,44.1982 ,44.572,45.1287,45.5006,45.8737,46.2489 ,46.6254,47.0033,47.5729,47.9513, 48.5235,48.9052,49.289,49.6739,50.2531, 50.6391,51.0271,51.4162,51.8058,52.197, 52.5894,52.9827,53.3771,53.7725,54.1687 ,54.4537)
FOOTPRINT_POINT_LONGITUDE = (43.6876,44.5079,45.3255,46.1401, 46.9516,47.7111,48.5708,48.6588,48.7021 ,48.7645,48.8044,48.8428,48.8799, 48.9159,48.9505,48.984,49.0164,49.0476, 49.0776,49.1065,49.1343,49.1617,49.1875 ,49.2127,49.2368,49.2722,49.294,49.3123 ,49.3352,49.3558,49.3752,49.3934, 49.4199,49.4446,49.4604,49.4747,49.4897 ,49.5017,49.5144,49.5262,49.5407, 49.5614,49.5801,49.5895,49.6033,49.6129 ,49.6267,49.6366,49.6515,49.0483, 48.3803,47.8789,47.3771,46.7064,46.0877 ,45.2438,44.5083,44.0537,43.6545, 43.6834,43.6977,43.7122,43.7234,43.7337 ,43.7406,43.7402,43.7366,43.7355, 43.7355,43.7345,43.7408,43.7389,43.7339 ,43.7242,43.7167,43.7105,43.6962,43.685 ,43.6726,43.6595,43.6454,43.6301, 43.6052,43.5855,43.5547,43.5318,43.5079 ,43.4826,43.4415,43.4113,43.3799, 43.3467,43.3114,43.2745,43.2359,43.1951 ,43.1523,43.1074,43.0601,43.6876)
ORBIT_NUMBER = 16174
ORBITAL_ECCENTRICITY = 0.571
ORBITAL_INCLINATION = 86.95
ORBITAL_SEMIMAJOR_AXIS = 8771.38
PERIAPSIS_ALTITUDE = 382.9
PERIAPSIS_ARGUMENT_ANGLE = 71.46
PERIAPSIS_TIME = 2016-10-07T00:42:59.000Z
SPACECRAFT_ORIENTATION = (0.0,1.0,0.0)
^MEX_ORIENTATION_DESC = "MEX_ORIENTATION_DESC.TXT"
SPACECRAFT_POINTING_MODE = ACROSSTRACK
^MEX_POINTING_DESC = "MEX_POINTING_DESC.TXT"
RIGHT_ASCENSION = -1e+32
DECLINATION = -1e+32
OFFSET_ANGLE = -1.0
SPACECRAFT_SOLAR_DISTANCE = 2.07178e+08
TARGET_NAME = MARS
/* CAMERA DATA ELEMENTS */
DETECTOR_TEMPERATURE = 18.5744
FOCAL_PLANE_TEMPERATURE = 7.7677
INST_CMPRS_NAME = "DISCRETE COSINE TRANSFORMATION (DCT)"
INST_CMPRS_RATIO = 10.1282
INST_CMPRS_QUALITY = 0
INST_CMPRS_QUANTZ_TBL_ID = 0
INSTRUMENT_TEMPERATURE = 10.6223
LENS_TEMPERATURE = 8.3794
MACROPIXEL_SIZE = 4
MISSING_FRAMES = 0
PIXEL_SUBSAMPLING_FLAG = N
SIGNAL_CHAIN_ID = 3
/* RADIOMETRIC DATA ELEMENTS */
BANDWIDTH = 178.0
CENTER_FILTER_WAVELENGTH = 679.0
RADIANCE_OFFSET = 3.05419
RADIANCE_SCALING_FACTOR = 0.0270596
REFLECTANCE_SCALING_FACTOR = 0.000615085
MEX:REFLECTANCE_OFFSET = 0.069424
/* IMAGE OBJECT DEFINITIONS */
OBJECT = IMAGE
  INTERCHANGE_FORMAT = BINARY
  LINES = 5602
  LINE_SAMPLES = 1750
  SAMPLE_TYPE = UNSIGNED_INTEGER
  SAMPLE_BITS = 8
  BANDS = 1
  BAND_STORAGE_TYPE = BAND_SEQUENTIAL
  MAXIMUM = 255
  MEAN = 119.74
  MINIMUM = 1
  STANDARD_DEVIATION = 58.0053
END_OBJECT = IMAGE
/* MAP OBJECT DEFINITIONS */
OBJECT = IMAGE_MAP_PROJECTION
  ^DATA_SET_MAP_PROJECTION_CATALOG= "DSMAP.CAT"
  A_AXIS_RADIUS = 3396.0
  B_AXIS_RADIUS = 3396.0
  C_AXIS_RADIUS = 3396.0
  CENTER_LATITUDE = 0.0
  CENTER_LONGITUDE = 47.0
  COORDINATE_SYSTEM_NAME = PLANETOGRAPHIC
  COORDINATE_SYSTEM_TYPE = "BODY-FIXED ROTATING"
  EASTERNMOST_LONGITUDE = 49.6515
  FIRST_STANDARD_PARALLEL = "N/A"
  LINE_FIRST_PIXEL = 1
  LINE_LAST_PIXEL = 5602
  LINE_PROJECTION_OFFSET = 16187.125
  MAP_PROJECTION_ROTATION = 0.0
  MAP_PROJECTION_TYPE = SINUSOIDAL
  MAP_RESOLUTION = 296.356901933333
  MAP_SCALE = 0.2
  MAXIMUM_LATITUDE = 54.7654
  MINIMUM_LATITUDE = 35.6651
  POSITIVE_LONGITUDE_DIRECTION = EAST
  REFERENCE_LATITUDE = "N/A"
  REFERENCE_LONGITUDE = "N/A"
  SAMPLE_FIRST_PIXEL = 1
  SAMPLE_LAST_PIXEL = 1750
  SAMPLE_PROJECTION_OFFSET = 991.125
  SECOND_STANDARD_PARALLEL = "N/A"
  WESTERNMOST_LONGITUDE = 43.0601
END_OBJECT = IMAGE_MAP_PROJECTION
/* The JPEG2000 image data file associated with this label. */
OBJECT = COMPRESSED_FILE
  FILE_NAME = "HG174_0000_S23.JP2"
  RECORD_TYPE = UNDEFINED
  FILE_RECORDS = UNK
  ENCODING_TYPE = "JP2"
  INTERCHANGE_FORMAT = BINARY
  UNCOMPRESSED_FILE_NAME = "HG174_0000_S23.IMG"
  REQUIRED_STORAGE_BYTES = "9824500"
  ^DESCRIPTION = "JP2INFO.TXT"
END_OBJECT = COMPRESSED_FILE
END
